{"text_format":"1","workbook":"xlsx","n_sheets":8,"sheets":["Red","Original","Try","MrExcelFormula","MrExcelVBA","excelisfun","ListofFunctions","Charles"],"not_rendered":{"charts":0,"images":2,"macros":1,"external_links":0,"defined_names":0,"comments":0,"pivot_tables":0},"unopened":[],"bounds":{"document_bytes":16777216,"sheet_cells":100000,"rows_first":2000,"rows_last":500,"rows_between":2000,"halvings":0,"cell_chars":16384,"cell_head_chars":4096},"cells_cut":0,"cells_raw":0,"read":"whole","date_system":"1900"}

{"sheet":"Red","index":0,"n_rows":21,"n_cols":1,"rows_kept":21,"cut":false,"hidden":false,"merged":[]}
[]
["6896_Banana_Sr_POV_1_13.doc"]
["2621_Dill_Jr_POV_1_3479.doc"]
["6402_Cherry_III_POV_1_def.doc"]
["5796_Apple_Jr_POV_iap1.pdf.doc"]
["9884_Cherry_III_POV_4.doc"]
["7337_Eggplant_Sr_POV_1.doc"]
["6238_Fig_III_POV_1.doc"]
["9516_Jicama_Jr_POV_02.doc"]
["7757_Kiwi_Sr_POV_0001.doc"]
["123_Lemon_III_POV_0001.doc"]
["8197_Apple_Jr_POV_IAP2 voor PDF.doc"]
["2648_Banana_Sr_POV_1.doc"]
["1260_Dill_Jr_POV_1.doc.doc"]
["4495_Eggplant_Sr_POV_1.doc"]
["5246_Fig_III_POV_02.doc"]
["5542_Jicama_Jr_POV_01.doc"]
["6081_Kiwi_Sr_POV_1.doc"]
["3085_Lemon_III_POV_01 voor PDF.doc"]
["2024_Apple_POV_1.doc"]
["8300_Banana_POV_1.doc"]

{"sheet":"Original","index":1,"n_rows":21,"n_cols":1,"rows_kept":21,"cut":false,"hidden":false,"merged":[]}
[]
["6896_Banana_Sr_POV_1_13.doc"]
["2621_Dill_Jr_POV_1_3479.doc"]
["6402_Cherry_III_POV_1_def.doc"]
["5796_Apple_Jr_POV_iap1.pdf.doc"]
["9884_Cherry_III_POV_4.doc"]
["7337_Eggplant_Sr_POV_1.doc"]
["6238_Fig_III_POV_1.doc"]
["9516_Jicama_Jr_POV_02.doc"]
["7757_Kiwi_Sr_POV_0001.doc"]
["123_Lemon_III_POV_0001.doc"]
["8197_Apple_Jr_POV_IAP2 voor PDF.doc"]
["2648_Banana_Sr_POV_1.doc"]
["1260_Dill_Jr_POV_1.doc.doc"]
["4495_Eggplant_Sr_POV_1.doc"]
["5246_Fig_III_POV_02.doc"]
["5542_Jicama_Jr_POV_01.doc"]
["6081_Kiwi_Sr_POV_1.doc"]
["3085_Lemon_III_POV_01 voor PDF.doc"]
["2024_Apple_POV_1.doc"]
["8300_Banana_POV_1.doc"]

{"sheet":"Try","index":2,"n_rows":21,"n_cols":1,"rows_kept":21,"cut":false,"hidden":false,"merged":[]}
[]
["6896_Banana_Sr_POV_1_13.doc"]
["2621_Dill_Jr_POV_1_3479.doc"]
["6402_Cherry_III_POV_1_def.doc"]
["5796_Apple_Jr_POV_iap1.pdf.doc"]
["9884_Cherry_III_POV_4.doc"]
["7337_Eggplant_Sr_POV_1.doc"]
["6238_Fig_III_POV_1.doc"]
["9516_Jicama_Jr_POV_02.doc"]
["7757_Kiwi_Sr_POV_0001.doc"]
["123_Lemon_III_POV_0001.doc"]
["8197_Apple_Jr_POV_IAP2 voor PDF.doc"]
["2648_Banana_Sr_POV_1.doc"]
["1260_Dill_Jr_POV_1.doc.doc"]
["4495_Eggplant_Sr_POV_1.doc"]
["5246_Fig_III_POV_02.doc"]
["5542_Jicama_Jr_POV_01.doc"]
["6081_Kiwi_Sr_POV_1.doc"]
["3085_Lemon_III_POV_01 voor PDF.doc"]
["2024_Apple_POV_1.doc"]
["8300_Banana_POV_1.doc"]

{"sheet":"MrExcelFormula","index":3,"n_rows":21,"n_cols":9,"rows_kept":21,"cut":false,"hidden":false,"merged":[]}
[null,"Find POV_","Extract 4 after that","In C, find _","In C, find .","Min(D,E)","Extract Left","Get Digits from G","Keep Right 3 of H"]
["6896_Banana_Sr_POV_1_13.doc",{"$f":"FIND(\"POV_\",A2)","v":16},{"$f":"MID(A2,B2+4,50)","v":"1_13.doc"},{"$f":"IFERROR(FIND(\"_\",C2),999)","v":2},{"$f":"FIND(\".\",C2)","v":5},{"$f":"MIN(D2,E2)","v":2},{"$f":"LEFT(C2,F2-1)","v":"1"},null,{"$f":"RIGHT(H2,3)","v":""}]
["2621_Dill_Jr_POV_1_3479.doc",{"$f":"FIND(\"POV_\",A3)","v":14},{"$f":"MID(A3,B3+4,50)","v":"1_3479.doc"},2,{"$f":"FIND(\".\",C3)","v":7},{"$f":"MIN(D3,E3)","v":2},{"$f":"LEFT(C3,F3-1)","v":"1"},null,{"$f":"RIGHT(H3,3)","v":""}]
["6402_Cherry_III_POV_1_def.doc",17,"1_def.doc",2,6,{"$f":"MIN(D4,E4)","v":2},"1",null,""]
["5796_Apple_Jr_POV_iap1.pdf.doc",15,"iap1.pdf.doc",999,5,{"$f":"MIN(D5,E5)","v":5},"iap1",null,""]
["9884_Cherry_III_POV_4.doc",17,"4.doc",999,2,{"$f":"MIN(D6,E6)","v":2},"4",null,""]
["7337_Eggplant_Sr_POV_1.doc",18,"1.doc",999,2,{"$f":"MIN(D7,E7)","v":2},"1",null,""]
["6238_Fig_III_POV_1.doc",14,"1.doc",999,2,{"$f":"MIN(D8,E8)","v":2},"1",null,""]
["9516_Jicama_Jr_POV_02.doc",16,"02.doc",999,3,{"$f":"MIN(D9,E9)","v":3},"02",null,""]
["7757_Kiwi_Sr_POV_0001.doc",14,"0001.doc",999,5,{"$f":"MIN(D10,E10)","v":5},"0001",null,""]
["123_Lemon_III_POV_0001.doc",15,"0001.doc",999,5,{"$f":"MIN(D11,E11)","v":5},"0001",null,""]
["8197_Apple_Jr_POV_IAP2 voor PDF.doc",15,"IAP2 voor PDF.doc",999,14,{"$f":"MIN(D12,E12)","v":14},"IAP2 voor PDF",null,""]
["2648_Banana_Sr_POV_1.doc",16,"1.doc",999,2,{"$f":"MIN(D13,E13)","v":2},"1",null,""]
["1260_Dill_Jr_POV_1.doc.doc",14,"1.doc.doc",999,2,{"$f":"MIN(D14,E14)","v":2},"1",null,""]
["4495_Eggplant_Sr_POV_1.doc",18,"1.doc",999,2,{"$f":"MIN(D15,E15)","v":2},"1",null,""]
["5246_Fig_III_POV_02.doc",14,"02.doc",999,3,{"$f":"MIN(D16,E16)","v":3},"02",null,""]
["5542_Jicama_Jr_POV_01.doc",16,"01.doc",999,3,{"$f":"MIN(D17,E17)","v":3},"01",null,""]
["6081_Kiwi_Sr_POV_1.doc",14,"1.doc",999,2,{"$f":"MIN(D18,E18)","v":2},"1",null,""]
["3085_Lemon_III_POV_01 voor PDF.doc",16,"01 voor PDF.doc",999,12,{"$f":"MIN(D19,E19)","v":12},"01 voor PDF",null,""]
["2024_Apple_POV_1.doc",12,"1.doc",999,2,{"$f":"MIN(D20,E20)","v":2},"1",null,""]
["8300_Banana_POV_1.doc",13,"1.doc",999,2,{"$f":"MIN(D21,E21)","v":2},"1",null,""]

{"sheet":"MrExcelVBA","index":4,"n_rows":21,"n_cols":2,"rows_kept":21,"cut":false,"hidden":false,"merged":[]}
[]
["6896_Banana_Sr_POV_1_13.doc",{"$f":"nums(A2)","v":"1"}]
["2621_Dill_Jr_POV_1_3479.doc",{"$f":"nums(A3)","v":"1"}]
["6402_Cherry_III_POV_1_def.doc","1"]
["5796_Apple_Jr_POV_iap1.pdf.doc","1"]
["9884_Cherry_III_POV_4.doc","4"]
["7337_Eggplant_Sr_POV_1.doc","1"]
["6238_Fig_III_POV_1.doc","1"]
["9516_Jicama_Jr_POV_02.doc","02"]
["7757_Kiwi_Sr_POV_0001.doc","001"]
["123_Lemon_III_POV_0001.doc","001"]
["8197_Apple_Jr_POV_IAP2 voor PDF.doc","2"]
["2648_Banana_Sr_POV_1.doc","1"]
["1260_Dill_Jr_POV_1.doc.doc","1"]
["4495_Eggplant_Sr_POV_1.doc","1"]
["5246_Fig_III_POV_02.doc","02"]
["5542_Jicama_Jr_POV_01.doc","01"]
["6081_Kiwi_Sr_POV_1.doc","1"]
["3085_Lemon_III_POV_01 voor PDF.doc","01"]
["2024_Apple_POV_1.doc","1"]
["8300_Banana_POV_1.doc","1"]

{"sheet":"excelisfun","index":5,"n_rows":21,"n_cols":15,"rows_kept":21,"cut":false,"hidden":false,"merged":[]}
["Data","Start","Leading 0 and Number",null,null,null,"Excel Magic Trick 489: Extract Only Numbers From Text String Array Formula",null,null,null,null,null,null,null,"Target"]
["6896_Banana_Sr_POV_1_13.doc",{"$f":"IFERROR(MID(MID(A2,SEARCH(\"POV_\",A2)+4,SEARCH(\".\",A2)-SEARCH(\"POV_\",A2)-4),1,SEARCH(\"_\",MID(A2,SEARCH(\"POV_\",A2)+4,SEARCH(\".\",A2)-SEARCH(\"POV_\",A2)-4))-1),MID(A2,SEARCH(\"POV_\",A2)+4,SEARCH(\".\",A2)-SEARCH(\"POV_\",A2)-4))","v":"1"},{"$f":"REPT(0,MIN(SUMPRODUCT(--ISNUMBER(--MID(B2,ROW(INDIRECT(\"1:\"&LEN(B2))),1))),3)-1)&_xlfn.AGGREGATE(14,6,--MID(B2,ROW(INDIRECT(\"1:\"&LEN(B2))),1),1)","v":"1"},null,{"$f":"MIN(SUMPRODUCT(--ISNUMBER(--MID(B2,ROW(INDIRECT(\"1:\"&LEN(B2))),1))),3)","v":1},null,"https://www.youtube.com/watch?v=bqsvOygpQWc",null,null,null,null,null,null,null,"1"]
["2621_Dill_Jr_POV_1_3479.doc","1",{"$f":"REPT(0,MIN(SUMPRODUCT(--ISNUMBER(--MID(B3,ROW(INDIRECT(\"1:\"&LEN(B3))),1))),3)-1)&_xlfn.AGGREGATE(14,6,--MID(B3,ROW(INDIRECT(\"1:\"&LEN(B3))),1),1)","v":"1"},null,1,null,null,null,null,null,null,null,null,null,"1"]
["6402_Cherry_III_POV_1_def.doc","1","1",null,1,null,null,null,null,null,null,null,null,null,"1"]
["5796_Apple_Jr_POV_iap1.pdf.doc","iap1","1",null,1,null,null,null,null,null,null,null,null,null,"1"]
["9884_Cherry_III_POV_4.doc","4","4",null,1,null,null,null,null,null,null,null,null,null,"4"]
["7337_Eggplant_Sr_POV_1.doc","1","1",null,1,null,null,null,null,null,null,null,null,null,"1"]
["6238_Fig_III_POV_1.doc","1","1",null,1,null,null,null,null,null,null,null,null,null,"1"]
["9516_Jicama_Jr_POV_02.doc","02","02",null,2,null,null,null,null,null,null,null,null,null,"02"]
["7757_Kiwi_Sr_POV_0001.doc","0001","001",null,3,null,null,null,null,null,null,null,null,null,"001"]
["123_Lemon_III_POV_0001.doc","0001","001",null,3,null,null,null,null,null,null,null,null,null,"001"]
["8197_Apple_Jr_POV_IAP2 voor PDF.doc","IAP2 voor PDF","2",null,1,null,null,null,null,null,null,null,null,null,"2"]
["2648_Banana_Sr_POV_1.doc","1","1",null,1,null,null,null,null,null,null,null,null,null,"1"]
["1260_Dill_Jr_POV_1.doc.doc","1","1",null,1,null,null,null,null,null,null,null,null,null,"1"]
["4495_Eggplant_Sr_POV_1.doc","1","1",null,1,null,null,null,null,null,null,null,null,null,"1"]
["5246_Fig_III_POV_02.doc","02","02",null,2,null,null,null,null,null,null,null,null,null,"02"]
["5542_Jicama_Jr_POV_01.doc","01","01",null,2,null,null,null,null,null,null,null,null,null,"01"]
["6081_Kiwi_Sr_POV_1.doc","1","1",null,1,null,null,null,null,null,null,null,null,null,"1"]
["3085_Lemon_III_POV_01 voor PDF.doc","01 voor PDF","01",null,2,null,null,null,null,null,null,null,null,null,"01"]
["2024_Apple_POV_1.doc","1","1",null,1,null,null,null,null,null,null,null,null,null,"1"]
["8300_Banana_POV_1.doc","1","1",null,1,null,null,null,null,null,null,null,null,null,"1"]

{"sheet":"ListofFunctions","index":6,"n_rows":17,"n_cols":11,"rows_kept":17,"cut":false,"hidden":false,"merged":[]}
[]
[null,null,null,null,null,null,null,null,null,null,"IFERROR"]
[null,null,null,null,null,null,null,null,null,null,"MID"]
[null,null,null,null,null,null,null,null,null,null,"SEARCH"]
[null,null,null,null,null,null,null,null,null,null,"REPT"]
[null,null,null,null,null,null,null,null,null,null,"MIN"]
[null,null,null,null,null,null,null,null,null,null,"SUMPRODUCT"]
[null,null,null,null,null,null,null,null,null,null,"ISNUMBER"]
[null,null,null,null,null,null,null,null,null,null,"MID"]
[null,null,null,null,null,null,null,null,null,null,"ROW"]
[null,null,null,null,null,null,null,null,null,null,"INDIRECT"]
[null,null,null,null,null,null,null,null,null,null,"LEN"]
[null,null,null,null,null,null,null,null,null,null,"AGGREGATE"]
[null,null,null,null,null,null,null,null,null,null,"MID"]
[null,null,null,null,null,null,null,null,null,null,"ROW"]
[null,null,null,null,null,null,null,null,null,null,"INDIRECT"]
[null,null,null,null,null,null,null,null,null,null,"LEN"]

{"sheet":"Charles","index":7,"n_rows":21,"n_cols":10,"rows_kept":21,"cut":false,"hidden":false,"merged":[]}
[null,"Find POV_","Extract 4 after that","In C, find _","In C, find .","Min(D,E)","Extract Left","Get Digits from G","Keep Right 3 of H","One Big Formula"]
["6896_Banana_Sr_POV_1_13.doc",{"$f":"FIND(\"POV_\",A2)","v":16},{"$f":"MID(A2,B2+4,50)","v":"1_13.doc"},{"$f":"IFERROR(FIND(\"_\",C2),999)","v":2},{"$f":"FIND(\".\",C2)","v":5},{"$f":"MIN(D2,E2)","v":2},{"$f":"LEFT(C2,F2-1)","v":"1"},{"$f":"_xll.Rgx.SUBSTITUTE(Charles!G2,\"[a-z]\")","v":{"$error":"#NAME?"}},{"$f":"RIGHT(H2,3)","v":{"$error":"#NAME?"}},{"$f":"RIGHT(_xll.Rgx.SUBSTITUTE(LEFT(MID(A2,FIND(\"POV_\",A2)+4,50),MIN(IFERROR(FIND(\"_\",MID(A2,FIND(\"POV_\",A2)+4,50)),999),FIND(\".\",MID(A2,FIND(\"POV_\",A2)+4,50)))-1),\"[a-z]\",\"\"),3)","v":{"$error":"#NAME?"}}]
["2621_Dill_Jr_POV_1_3479.doc",{"$f":"FIND(\"POV_\",A3)","v":14},{"$f":"MID(A3,B3+4,50)","v":"1_3479.doc"},2,{"$f":"FIND(\".\",C3)","v":7},{"$f":"MIN(D3,E3)","v":2},{"$f":"LEFT(C3,F3-1)","v":"1"},{"$f":"_xll.Rgx.SUBSTITUTE(Charles!G3,\"[a-z]\")","v":{"$error":"#NAME?"}},{"$f":"RIGHT(H3,3)","v":{"$error":"#NAME?"}},{"$f":"RIGHT(_xll.Rgx.SUBSTITUTE(LEFT(MID(A3,FIND(\"POV_\",A3)+4,50),MIN(IFERROR(FIND(\"_\",MID(A3,FIND(\"POV_\",A3)+4,50)),999),FIND(\".\",MID(A3,FIND(\"POV_\",A3)+4,50)))-1),\"[a-z]\",\"\"),3)","v":{"$error":"#NAME?"}}]
["6402_Cherry_III_POV_1_def.doc",17,"1_def.doc",2,6,{"$f":"MIN(D4,E4)","v":2},"1",{"$f":"_xll.Rgx.SUBSTITUTE(Charles!G4,\"[a-z]\")","v":{"$error":"#NAME?"}},{"$error":"#NAME?"},{"$f":"RIGHT(_xll.Rgx.SUBSTITUTE(LEFT(MID(A4,FIND(\"POV_\",A4)+4,50),MIN(IFERROR(FIND(\"_\",MID(A4,FIND(\"POV_\",A4)+4,50)),999),FIND(\".\",MID(A4,FIND(\"POV_\",A4)+4,50)))-1),\"[a-z]\",\"\"),3)","v":{"$error":"#NAME?"}}]
["5796_Apple_Jr_POV_iap1.pdf.doc",15,"iap1.pdf.doc",999,5,{"$f":"MIN(D5,E5)","v":5},"iap1",{"$f":"_xll.Rgx.SUBSTITUTE(Charles!G5,\"[a-z]\")","v":{"$error":"#NAME?"}},{"$error":"#NAME?"},{"$f":"RIGHT(_xll.Rgx.SUBSTITUTE(LEFT(MID(A5,FIND(\"POV_\",A5)+4,50),MIN(IFERROR(FIND(\"_\",MID(A5,FIND(\"POV_\",A5)+4,50)),999),FIND(\".\",MID(A5,FIND(\"POV_\",A5)+4,50)))-1),\"[a-z]\",\"\"),3)","v":{"$error":"#NAME?"}}]
["9884_Cherry_III_POV_4.doc",17,"4.doc",999,2,{"$f":"MIN(D6,E6)","v":2},"4",{"$f":"_xll.Rgx.SUBSTITUTE(Charles!G6,\"[a-z]\")","v":{"$error":"#NAME?"}},{"$error":"#NAME?"},{"$f":"RIGHT(_xll.Rgx.SUBSTITUTE(LEFT(MID(A6,FIND(\"POV_\",A6)+4,50),MIN(IFERROR(FIND(\"_\",MID(A6,FIND(\"POV_\",A6)+4,50)),999),FIND(\".\",MID(A6,FIND(\"POV_\",A6)+4,50)))-1),\"[a-z]\",\"\"),3)","v":{"$error":"#NAME?"}}]
["7337_Eggplant_Sr_POV_1.doc",18,"1.doc",999,2,{"$f":"MIN(D7,E7)","v":2},"1",{"$f":"_xll.Rgx.SUBSTITUTE(Charles!G7,\"[a-z]\")","v":{"$error":"#NAME?"}},{"$error":"#NAME?"},{"$f":"RIGHT(_xll.Rgx.SUBSTITUTE(LEFT(MID(A7,FIND(\"POV_\",A7)+4,50),MIN(IFERROR(FIND(\"_\",MID(A7,FIND(\"POV_\",A7)+4,50)),999),FIND(\".\",MID(A7,FIND(\"POV_\",A7)+4,50)))-1),\"[a-z]\",\"\"),3)","v":{"$error":"#NAME?"}}]
["6238_Fig_III_POV_1.doc",14,"1.doc",999,2,{"$f":"MIN(D8,E8)","v":2},"1",{"$f":"_xll.Rgx.SUBSTITUTE(Charles!G8,\"[a-z]\")","v":{"$error":"#NAME?"}},{"$error":"#NAME?"},{"$f":"RIGHT(_xll.Rgx.SUBSTITUTE(LEFT(MID(A8,FIND(\"POV_\",A8)+4,50),MIN(IFERROR(FIND(\"_\",MID(A8,FIND(\"POV_\",A8)+4,50)),999),FIND(\".\",MID(A8,FIND(\"POV_\",A8)+4,50)))-1),\"[a-z]\",\"\"),3)","v":{"$error":"#NAME?"}}]
["9516_Jicama_Jr_POV_02.doc",16,"02.doc",999,3,{"$f":"MIN(D9,E9)","v":3},"02",{"$f":"_xll.Rgx.SUBSTITUTE(Charles!G9,\"[a-z]\")","v":{"$error":"#NAME?"}},{"$error":"#NAME?"},{"$f":"RIGHT(_xll.Rgx.SUBSTITUTE(LEFT(MID(A9,FIND(\"POV_\",A9)+4,50),MIN(IFERROR(FIND(\"_\",MID(A9,FIND(\"POV_\",A9)+4,50)),999),FIND(\".\",MID(A9,FIND(\"POV_\",A9)+4,50)))-1),\"[a-z]\",\"\"),3)","v":{"$error":"#NAME?"}}]
["7757_Kiwi_Sr_POV_0001.doc",14,"0001.doc",999,5,{"$f":"MIN(D10,E10)","v":5},"0001",{"$f":"_xll.Rgx.SUBSTITUTE(Charles!G10,\"[a-z]\")","v":{"$error":"#NAME?"}},{"$error":"#NAME?"},{"$f":"RIGHT(_xll.Rgx.SUBSTITUTE(LEFT(MID(A10,FIND(\"POV_\",A10)+4,50),MIN(IFERROR(FIND(\"_\",MID(A10,FIND(\"POV_\",A10)+4,50)),999),FIND(\".\",MID(A10,FIND(\"POV_\",A10)+4,50)))-1),\"[a-z]\",\"\"),3)","v":{"$error":"#NAME?"}}]
["123_Lemon_III_POV_0001.doc",15,"0001.doc",999,5,{"$f":"MIN(D11,E11)","v":5},"0001",{"$f":"_xll.Rgx.SUBSTITUTE(Charles!G11,\"[a-z]\")","v":{"$error":"#NAME?"}},{"$error":"#NAME?"},{"$f":"RIGHT(_xll.Rgx.SUBSTITUTE(LEFT(MID(A11,FIND(\"POV_\",A11)+4,50),MIN(IFERROR(FIND(\"_\",MID(A11,FIND(\"POV_\",A11)+4,50)),999),FIND(\".\",MID(A11,FIND(\"POV_\",A11)+4,50)))-1),\"[a-z]\",\"\"),3)","v":{"$error":"#NAME?"}}]
["8197_Apple_Jr_POV_IAP2 voor PDF.doc",15,"IAP2 voor PDF.doc",999,14,{"$f":"MIN(D12,E12)","v":14},"IAP2 voor PDF",{"$f":"_xll.Rgx.SUBSTITUTE(Charles!G12,\"[a-z]\")","v":{"$error":"#NAME?"}},{"$error":"#NAME?"},{"$f":"RIGHT(_xll.Rgx.SUBSTITUTE(LEFT(MID(A12,FIND(\"POV_\",A12)+4,50),MIN(IFERROR(FIND(\"_\",MID(A12,FIND(\"POV_\",A12)+4,50)),999),FIND(\".\",MID(A12,FIND(\"POV_\",A12)+4,50)))-1),\"[a-z]\",\"\"),3)","v":{"$error":"#NAME?"}}]
["2648_Banana_Sr_POV_1.doc",16,"1.doc",999,2,{"$f":"MIN(D13,E13)","v":2},"1",{"$f":"_xll.Rgx.SUBSTITUTE(Charles!G13,\"[a-z]\")","v":{"$error":"#NAME?"}},{"$error":"#NAME?"},{"$f":"RIGHT(_xll.Rgx.SUBSTITUTE(LEFT(MID(A13,FIND(\"POV_\",A13)+4,50),MIN(IFERROR(FIND(\"_\",MID(A13,FIND(\"POV_\",A13)+4,50)),999),FIND(\".\",MID(A13,FIND(\"POV_\",A13)+4,50)))-1),\"[a-z]\",\"\"),3)","v":{"$error":"#NAME?"}}]
["1260_Dill_Jr_POV_1.doc.doc",14,"1.doc.doc",999,2,{"$f":"MIN(D14,E14)","v":2},"1",{"$f":"_xll.Rgx.SUBSTITUTE(Charles!G14,\"[a-z]\")","v":{"$error":"#NAME?"}},{"$error":"#NAME?"},{"$f":"RIGHT(_xll.Rgx.SUBSTITUTE(LEFT(MID(A14,FIND(\"POV_\",A14)+4,50),MIN(IFERROR(FIND(\"_\",MID(A14,FIND(\"POV_\",A14)+4,50)),999),FIND(\".\",MID(A14,FIND(\"POV_\",A14)+4,50)))-1),\"[a-z]\",\"\"),3)","v":{"$error":"#NAME?"}}]
["4495_Eggplant_Sr_POV_1.doc",18,"1.doc",999,2,{"$f":"MIN(D15,E15)","v":2},"1",{"$f":"_xll.Rgx.SUBSTITUTE(Charles!G15,\"[a-z]\")","v":{"$error":"#NAME?"}},{"$error":"#NAME?"},{"$f":"RIGHT(_xll.Rgx.SUBSTITUTE(LEFT(MID(A15,FIND(\"POV_\",A15)+4,50),MIN(IFERROR(FIND(\"_\",MID(A15,FIND(\"POV_\",A15)+4,50)),999),FIND(\".\",MID(A15,FIND(\"POV_\",A15)+4,50)))-1),\"[a-z]\",\"\"),3)","v":{"$error":"#NAME?"}}]
["5246_Fig_III_POV_02.doc",14,"02.doc",999,3,{"$f":"MIN(D16,E16)","v":3},"02",{"$f":"_xll.Rgx.SUBSTITUTE(Charles!G16,\"[a-z]\")","v":{"$error":"#NAME?"}},{"$error":"#NAME?"},{"$f":"RIGHT(_xll.Rgx.SUBSTITUTE(LEFT(MID(A16,FIND(\"POV_\",A16)+4,50),MIN(IFERROR(FIND(\"_\",MID(A16,FIND(\"POV_\",A16)+4,50)),999),FIND(\".\",MID(A16,FIND(\"POV_\",A16)+4,50)))-1),\"[a-z]\",\"\"),3)","v":{"$error":"#NAME?"}}]
["5542_Jicama_Jr_POV_01.doc",16,"01.doc",999,3,{"$f":"MIN(D17,E17)","v":3},"01",{"$f":"_xll.Rgx.SUBSTITUTE(Charles!G17,\"[a-z]\")","v":{"$error":"#NAME?"}},{"$error":"#NAME?"},{"$f":"RIGHT(_xll.Rgx.SUBSTITUTE(LEFT(MID(A17,FIND(\"POV_\",A17)+4,50),MIN(IFERROR(FIND(\"_\",MID(A17,FIND(\"POV_\",A17)+4,50)),999),FIND(\".\",MID(A17,FIND(\"POV_\",A17)+4,50)))-1),\"[a-z]\",\"\"),3)","v":{"$error":"#NAME?"}}]
["6081_Kiwi_Sr_POV_1.doc",14,"1.doc",999,2,{"$f":"MIN(D18,E18)","v":2},"1",{"$f":"_xll.Rgx.SUBSTITUTE(Charles!G18,\"[a-z]\")","v":{"$error":"#NAME?"}},{"$error":"#NAME?"},{"$f":"RIGHT(_xll.Rgx.SUBSTITUTE(LEFT(MID(A18,FIND(\"POV_\",A18)+4,50),MIN(IFERROR(FIND(\"_\",MID(A18,FIND(\"POV_\",A18)+4,50)),999),FIND(\".\",MID(A18,FIND(\"POV_\",A18)+4,50)))-1),\"[a-z]\",\"\"),3)","v":{"$error":"#NAME?"}}]
["3085_Lemon_III_POV_01 voor PDF.doc",16,"01 voor PDF.doc",999,12,{"$f":"MIN(D19,E19)","v":12},"01 voor PDF",{"$f":"_xll.Rgx.SUBSTITUTE(Charles!G19,\"[a-z]\")","v":{"$error":"#NAME?"}},{"$error":"#NAME?"},{"$f":"RIGHT(_xll.Rgx.SUBSTITUTE(LEFT(MID(A19,FIND(\"POV_\",A19)+4,50),MIN(IFERROR(FIND(\"_\",MID(A19,FIND(\"POV_\",A19)+4,50)),999),FIND(\".\",MID(A19,FIND(\"POV_\",A19)+4,50)))-1),\"[a-z]\",\"\"),3)","v":{"$error":"#NAME?"}}]
["2024_Apple_POV_1.doc",12,"1.doc",999,2,{"$f":"MIN(D20,E20)","v":2},"1",{"$f":"_xll.Rgx.SUBSTITUTE(Charles!G20,\"[a-z]\")","v":{"$error":"#NAME?"}},{"$error":"#NAME?"},{"$f":"RIGHT(_xll.Rgx.SUBSTITUTE(LEFT(MID(A20,FIND(\"POV_\",A20)+4,50),MIN(IFERROR(FIND(\"_\",MID(A20,FIND(\"POV_\",A20)+4,50)),999),FIND(\".\",MID(A20,FIND(\"POV_\",A20)+4,50)))-1),\"[a-z]\",\"\"),3)","v":{"$error":"#NAME?"}}]
["8300_Banana_POV_1.doc",13,"1.doc",999,2,{"$f":"MIN(D21,E21)","v":2},"1",{"$f":"_xll.Rgx.SUBSTITUTE(Charles!G21,\"[a-z]\")","v":{"$error":"#NAME?"}},{"$error":"#NAME?"},{"$f":"RIGHT(_xll.Rgx.SUBSTITUTE(LEFT(MID(A21,FIND(\"POV_\",A21)+4,50),MIN(IFERROR(FIND(\"_\",MID(A21,FIND(\"POV_\",A21)+4,50)),999),FIND(\".\",MID(A21,FIND(\"POV_\",A21)+4,50)))-1),\"[a-z]\",\"\"),3)","v":{"$error":"#NAME?"}}]