{"text_format":"1","workbook":"xlsx","n_sheets":5,"sheets":["Question","Try","Bill","Mike","Sheet2"],"not_rendered":{"charts":0,"images":0,"macros":1,"external_links":0,"defined_names":1,"comments":0,"pivot_tables":0},"unopened":[],"bounds":{"document_bytes":16777216,"sheet_cells":100000,"rows_first":2000,"rows_last":500,"rows_between":2000,"halvings":0,"cell_chars":16384,"cell_head_chars":4096},"cells_cut":0,"cells_raw":0,"read":"whole","date_system":"1900"}

{"sheet":"Question","index":0,"n_rows":15,"n_cols":1,"rows_kept":15,"cut":false,"hidden":false,"merged":[]}
[594094]
[436851]
[552584]
[455864]
[464243]
[598892]
[426335]
[452971]
[477419]
[452711]
[576899]
[562700]
[460898]
[519859]
[423037]

{"sheet":"Try","index":1,"n_rows":15,"n_cols":1,"rows_kept":15,"cut":false,"hidden":false,"merged":[]}
[594094]
[436851]
[552584]
[455864]
[464243]
[598892]
[426335]
[452971]
[477419]
[452711]
[576899]
[562700]
[460898]
[519859]
[423037]

{"sheet":"Bill","index":2,"n_rows":15,"n_cols":5,"rows_kept":15,"cut":false,"hidden":false,"merged":[]}
[594094,null,{"$f":"GetOver(A1:A15,500000)","v":594094},null,{"$f":"GetOver(A1:A15,500000)","v":594094}]
[436851,null,552584,null,552584]
[552584,null,598892,null,598892]
[455864,null,576899,null,576899]
[464243,null,562700]
[598892,null,519859]
[426335,null,""]
[452971,null,""]
[477419,null,""]
[452711,null,""]
[576899,null,""]
[562700,null,""]
[460898,null,""]
[519859,null,""]
[423037,null,""]

{"sheet":"Mike","index":3,"n_rows":21,"n_cols":12,"rows_kept":21,"cut":false,"hidden":false,"merged":[]}
["Sales",null,"Hudle:"]
[594094,null,500000]
[436851,null,"Count"]
[552584,null,{"$f":"COUNTIF(Sales,\">\"&C2)","v":6}]
[455864]
[464243,null,"Values:",null,null,null,null,null,null,null,null,"Check:"]
[598892,null,{"$f":"IF(ROWS(C$7:C7)>C$4,\"\",LARGE(Sales,ROWS(C$7:C7)))","v":598892},null,null,null,null,null,null,null,null,{"$f":"ISNUMBER(MATCH(C7,Bill!$C$1:$C$15,0))","v":true}]
[426335,null,{"$f":"IF(ROWS(C$7:C8)>C$4,\"\",LARGE(Sales,ROWS(C$7:C8)))","v":594094},null,null,null,null,null,null,null,null,{"$f":"ISNUMBER(MATCH(C8,Bill!$C$1:$C$15,0))","v":true}]
[452971,null,{"$f":"IF(ROWS(C$7:C9)>C$4,\"\",LARGE(Sales,ROWS(C$7:C9)))","v":576899},null,null,null,null,null,null,null,null,{"$f":"ISNUMBER(MATCH(C9,Bill!$C$1:$C$15,0))","v":true}]
[477419,null,{"$f":"IF(ROWS(C$7:C10)>C$4,\"\",LARGE(Sales,ROWS(C$7:C10)))","v":562700},null,null,null,null,null,null,null,null,{"$f":"ISNUMBER(MATCH(C10,Bill!$C$1:$C$15,0))","v":true}]
[452711,null,{"$f":"IF(ROWS(C$7:C11)>C$4,\"\",LARGE(Sales,ROWS(C$7:C11)))","v":552584},null,null,null,null,null,null,null,null,{"$f":"ISNUMBER(MATCH(C11,Bill!$C$1:$C$15,0))","v":true}]
[576899,null,{"$f":"IF(ROWS(C$7:C12)>C$4,\"\",LARGE(Sales,ROWS(C$7:C12)))","v":519859},null,null,null,null,null,null,null,null,{"$f":"ISNUMBER(MATCH(C12,Bill!$C$1:$C$15,0))","v":true}]
[562700,null,{"$f":"IF(ROWS(C$7:C13)>C$4,\"\",LARGE(Sales,ROWS(C$7:C13)))","v":""}]
[460898,null,{"$f":"IF(ROWS(C$7:C14)>C$4,\"\",LARGE(Sales,ROWS(C$7:C14)))","v":""}]
[519859,null,{"$f":"IF(ROWS(C$7:C15)>C$4,\"\",LARGE(Sales,ROWS(C$7:C15)))","v":""}]
[423037,null,{"$f":"IF(ROWS(C$7:C16)>C$4,\"\",LARGE(Sales,ROWS(C$7:C16)))","v":""}]
[null,null,{"$f":"IF(ROWS(C$7:C17)>C$4,\"\",LARGE(Sales,ROWS(C$7:C17)))","v":""}]
[null,null,{"$f":"IF(ROWS(C$7:C18)>C$4,\"\",LARGE(Sales,ROWS(C$7:C18)))","v":""}]
[null,null,{"$f":"IF(ROWS(C$7:C19)>C$4,\"\",LARGE(Sales,ROWS(C$7:C19)))","v":""}]
[null,null,{"$f":"IF(ROWS(C$7:C20)>C$4,\"\",LARGE(Sales,ROWS(C$7:C20)))","v":""}]
[null,null,{"$f":"IF(ROWS(C$7:C21)>C$4,\"\",LARGE(Sales,ROWS(C$7:C21)))","v":""}]

{"sheet":"Sheet2","index":4,"n_rows":19,"n_cols":9,"rows_kept":19,"cut":false,"hidden":false,"merged":[]}
[594094,null,{"$f":"IF(LARGE($A$1:$A$15,ROW(A1))>=500000,LARGE($A$1:$A$15,ROW(A1)),\"\")","v":598892},null,594094,null,"Hudle:"]
[436851,null,594094,null,436851,null,500000]
[552584,null,576899,null,552584]
[455864,null,562700,null,455864,null,"Values:"]
[464243,null,552584,null,464243,null,{"$f":"IF(LARGE($E$1:$E$15,ROWS(G$5:G5))<$G$2,\"\",LARGE($A$1:$A$15,ROWS(G$5:G5)))","v":598892},null,{"$f":"G5=C1","v":true}]
[598892,null,519859,null,598892,null,{"$f":"IF(LARGE($E$1:$E$15,ROWS(G$5:G6))<$G$2,\"\",LARGE($A$1:$A$15,ROWS(G$5:G6)))","v":594094},null,true]
[426335,null,"",null,426335,null,{"$f":"IF(LARGE($E$1:$E$15,ROWS(G$5:G7))<$G$2,\"\",LARGE($A$1:$A$15,ROWS(G$5:G7)))","v":576899},null,true]
[452971,null,"",null,452971,null,{"$f":"IF(LARGE($E$1:$E$15,ROWS(G$5:G8))<$G$2,\"\",LARGE($A$1:$A$15,ROWS(G$5:G8)))","v":562700},null,true]
[477419,null,"",null,477419,null,{"$f":"IF(LARGE($E$1:$E$15,ROWS(G$5:G9))<$G$2,\"\",LARGE($A$1:$A$15,ROWS(G$5:G9)))","v":552584},null,true]
[452711,null,"",null,452711,null,{"$f":"IF(LARGE($E$1:$E$15,ROWS(G$5:G10))<$G$2,\"\",LARGE($A$1:$A$15,ROWS(G$5:G10)))","v":519859},null,true]
[576899,null,"",null,576899,null,{"$f":"IF(LARGE($E$1:$E$15,ROWS(G$5:G11))<$G$2,\"\",LARGE($A$1:$A$15,ROWS(G$5:G11)))","v":""}]
[562700,null,"",null,562700,null,{"$f":"IF(LARGE($E$1:$E$15,ROWS(G$5:G12))<$G$2,\"\",LARGE($A$1:$A$15,ROWS(G$5:G12)))","v":""}]
[460898,null,"",null,460898,null,{"$f":"IF(LARGE($E$1:$E$15,ROWS(G$5:G13))<$G$2,\"\",LARGE($A$1:$A$15,ROWS(G$5:G13)))","v":""}]
[519859,null,"",null,519859,null,{"$f":"IF(LARGE($E$1:$E$15,ROWS(G$5:G14))<$G$2,\"\",LARGE($A$1:$A$15,ROWS(G$5:G14)))","v":""}]
[423037,null,"",null,423037,null,{"$f":"IF(LARGE($E$1:$E$15,ROWS(G$5:G15))<$G$2,\"\",LARGE($A$1:$A$15,ROWS(G$5:G15)))","v":""}]
[null,null,null,null,null,null,{"$f":"IF(LARGE($E$1:$E$15,ROWS(G$5:G16))<$G$2,\"\",LARGE($A$1:$A$15,ROWS(G$5:G16)))","v":""}]
[null,null,null,null,null,null,{"$f":"IF(LARGE($E$1:$E$15,ROWS(G$5:G17))<$G$2,\"\",LARGE($A$1:$A$15,ROWS(G$5:G17)))","v":""}]
[null,null,null,null,null,null,{"$f":"IF(LARGE($E$1:$E$15,ROWS(G$5:G18))<$G$2,\"\",LARGE($A$1:$A$15,ROWS(G$5:G18)))","v":""}]
[null,null,null,null,null,null,{"$f":"IF(LARGE($E$1:$E$15,ROWS(G$5:G19))<$G$2,\"\",LARGE($A$1:$A$15,ROWS(G$5:G19)))","v":""}]