{"text_format":"1","workbook":"xlsx","n_sheets":13,"sheets":["(604)","(604an)","(605)","(605an)","(398)","(606)","(606an)","(607) PO","REC","INV","(607) PO (an)","REC(an)","INV(an)"],"not_rendered":{"charts":0,"images":1,"macros":0,"external_links":0,"defined_names":0,"comments":0,"pivot_tables":0},"unopened":[],"bounds":{"document_bytes":16777216,"sheet_cells":100000,"rows_first":2000,"rows_last":500,"rows_between":2000,"halvings":0,"cell_chars":16384,"cell_head_chars":4096},"cells_cut":0,"cells_raw":0,"read":"whole","date_system":"1900"}

{"sheet":"(604)","index":0,"n_rows":22,"n_cols":6,"rows_kept":22,"cut":false,"hidden":false,"merged":[]}
[null,"Jan","Feb","Mar","Apr","Total"]
["Sales"]
[{"$f":"A11","v":"COGS"}]
[{"$f":"A12","v":"Operating Expenses"}]
[{"$f":"A13","v":"Administrative Expenses"}]
[{"$f":"A14","v":"Other Expenses"}]
["Total Expenses"]
["Net Income"]
[]
["Assumptions - Formula Inputs"]
["COGS"]
["Operating Expenses"]
["Administrative Expenses"]
["Other Expenses"]
[]
[]
["Ctrl + A = Highlight Table (when cursor is in table)."]
["If more than one cell is selectetd, Ctrl + Enter populates all the cells with whatever you put into the Active Cell"]
["Alt + = is keyboard shortcut for the SUM function"]
["Ctrl + 1 is keyboard shortcut for Format Cells Dialog Box"]
["Be careful of % Number Formatting. .04 is a number that when formatted as Percent Number Format it will appear as 4.00%."]
["General Number Formatting will wipe away all Number Formatting (like Percentage)."]

{"sheet":"(604an)","index":1,"n_rows":22,"n_cols":6,"rows_kept":22,"cut":false,"hidden":false,"merged":[]}
[null,"Jan","Feb","Mar","Apr","Total"]
["Sales",1000,1500,1700,2000,{"$f":"SUM(B2:E2)","v":6200}]
[{"$f":"A11","v":"COGS"},{"$f":"B$2*$B11","v":450},{"$f":"C$2*$B11","v":675},{"$f":"D$2*$B11","v":765},{"$f":"E$2*$B11","v":900},2790]
[{"$f":"A12","v":"Operating Expenses"},{"$f":"B$2*$B12","v":100},150,170,200,620]
[{"$f":"A13","v":"Administrative Expenses"},25,37.5,42.5,50,155]
[{"$f":"A14","v":"Other Expenses"},50,75,85,{"$f":"E$2*$B14","v":100},310]
["Total Expenses",{"$f":"SUM(B3:B6)","v":625},{"$f":"SUM(C3:C6)","v":937.5},{"$f":"SUM(D3:D6)","v":1062.5},{"$f":"SUM(E3:E6)","v":1250},3875]
["Net Income",{"$f":"B2-B7","v":375},{"$f":"C2-C7","v":562.5},{"$f":"D2-D7","v":637.5},{"$f":"E2-E7","v":750},2325]
[]
["Assumptions - Formula Inputs"]
["COGS",0.45]
["Operating Expenses",0.1]
["Administrative Expenses",2.5000000000000001E-2]
["Other Expenses",0.05]
[]
[]
["Ctrl + A = Highlight Table (when cursor is in table)."]
["If more than one cell is selectetd, Ctrl + Enter populates all the cells with whatever you put into the Active Cell"]
["Alt + = is keyboard shortcut for the SUM function"]
["Ctrl + 1 is keyboard shortcut for Format Cells Dialog Box"]
["Be careful of % Number Formatting. .04 is a number that when formatted as Percent Number Format it will appear as 4.00%."]
["General Number Formatting will wipe away all Number Formatting (like Percentage)."]

{"sheet":"(605)","index":2,"n_rows":6,"n_cols":9,"rows_kept":6,"cut":false,"hidden":false,"merged":[]}
[1,null,2,null,"A1 = 1",null,"B1 = 2",null,"A1 = 1"]
[2,null,3,null,"A2 = 2",null,"B2 = 3",null,"A2 = 2"]
[null,null,4,null,"A3 =",null,"B3 = 4",null,"A3 = 4"]
[4,null,5,null,"A4 = 4",null,"B4 = 5",null,"A4 = 4 "]
[null,null,8,null,"A5 = ",null,"B5 = 8",null,"A5 = 8"]
[3,null,9,null,"A6 = 3",null,"B6 = 9",null,"A6 = 3"]

{"sheet":"(605an)","index":3,"n_rows":6,"n_cols":11,"rows_kept":6,"cut":false,"hidden":false,"merged":[]}
[1,null,2,null,"A1 = 1",null,"B1 = 2",null,"A1 = 1",null,{"$f":"IF(A1=\"\",C1,A1)","v":1}]
[2,null,3,null,"A2 = 2",null,"B2 = 3",null,"A2 = 2",null,2]
[4,null,4,null,"A3 =",null,"B3 = 4",null,"A3 = 4",null,4]
[4,null,5,null,"A4 = 4",null,"B4 = 5",null,"A4 = 4 ",null,4]
[8,null,8,null,"A5 = ",null,"B5 = 8",null,"A5 = 8",null,8]
[3,null,9,null,"A6 = 3",null,"B6 = 9",null,"A6 = 3",null,3]

{"sheet":"(398)","index":4,"n_rows":28,"n_cols":10,"rows_kept":28,"cut":false,"hidden":false,"merged":[]}
["For more info on the VLOOKUP function ,see this video:",null,null,null,null,null,"03 Excel Series: Lookup functions"]
["For more info on the IFERROR function ,see this video:",null,null,null,null,null,"Excel Magic Trick #32: New 2007 IFERROR function"]
[null,null,null,null,null,null,"Excel Magic Trick 333: #DIV/0! Error IF & ISERROR or ..."]
["For more info on the  join symbol ,see this video:",null,null,null,null,null,"Excel Magic Trick # 166: CONCATENATE function & Ampersand"]
["Goal:\n1) There are duplicates (like ABC) in List 1\n2) Lookup all ABC and Cities in List 1\n3) but only return ID from List 2 for Company-City match (like ABC-NY)\n4) End result is shown in column C."]
[]
["Excel Magic Trick 398: VLOOKUP with Two Lookup Values (IFERROR function also) 2 lookup values ",null,null,null,null,null,null,null,null,"<== Original Video"]
[]
["List 1",null,null,null,null,"List 2",null,null,null,"2003 solution"]
[]
["Company","City","Returned ID",null,"Join","Company","City","ID",null,"Returned ID"]
["ABC","NY",{"$f":"IFERROR(VLOOKUP(A12&\"-\"&B12,$E$12:$H$22,4,0),\"\")","v":1734},null,{"$f":"F12&\"-\"&G12","v":"ABC-NY"},"ABC","NY",1734,null,{"$f":"IF(ISERROR(VLOOKUP(A12&\"-\"&B12,$E$12:$H$22,4,0)),\"\",VLOOKUP(A12&\"-\"&B12,$E$12:$H$22,4,0))","v":1734}]
["GEL","GIG",{"$f":"IFERROR(VLOOKUP(A13&\"-\"&B13,$E$12:$H$22,4,0),\"\")","v":11916},null,{"$f":"F13&\"-\"&G13","v":"CBB-LAA"},"CBB","LAA",2260,null,{"$f":"IF(ISERROR(VLOOKUP(A13&\"-\"&B13,$E$12:$H$22,4,0)),\"\",VLOOKUP(A13&\"-\"&B13,$E$12:$H$22,4,0))","v":11916}]
["ABC","CHI","",null,"ACME-LAA","ACME","LAA",4119,null,""]
["ACME","PHE","",null,"BBB-NY","BBB","NY",6480,null,""]
["XYZ","TIM","",null,"DDD-PHE","DDD","PHE",7235,null,""]
["MEMB","LAA",12716,null,"MIN-SEA","MIN","SEA",10674,null,12716]
["GEL","NY","",null,"XYZ-SS","XYZ","SS",8211,null,""]
["MEMB","SS","",null,"FRE-SEA","FRE","SEA",12240,null,""]
["ABC","OLY","",null,"GEL-GIG","GEL","GIG",11916,null,""]
["ACME","TLL","",null,"TTT-SAE","TTT","SAE",17180,null,""]
["XYZ","FM","",null,"MEMB-LAA","MEMB","LAA",12716,null,""]
["ACME","LAA",4119,null,null,null,null,null,null,4119]
["GEL","HHB","",null,null,null,null,null,null,""]
["MEMB","NY","",null,null,null,null,null,null,""]
["ABC","SAE","",null,null,null,null,null,null,""]
["XYZ","SS",8211,null,null,null,null,null,null,8211]
["ACME","TX","",null,null,null,null,null,null,""]

{"sheet":"(606)","index":5,"n_rows":28,"n_cols":9,"rows_kept":28,"cut":false,"hidden":false,"merged":[]}
[]
[]
[]
[]
[]
["Goal:\n1) There are duplicates (like ABC) in List 1\n2) Lookup all ABC and Cities in List 1\n3) but only return ID from List 2 for Company-City match (like ABC-NY)\n4) End result is shown in column C."]
[]
["Excel Magic Trick 398: VLOOKUP with Two Lookup Values (IFERROR function also) 2 lookup values "]
["List 1",null,null,null,"List 2",null,null,null,"2003 solution"]
[]
["Company","City","Returned ID",null,"Company","City","ID",null,"Returned ID"]
["ABC","NY",null,null,"ABC","NY",1734,null,{"$f":"IF(ISERROR(INDEX($G$12:$G$22,MATCH(A12&B12,$E$12:$E$22&$F$12:$F$22,0))),\"\",INDEX($G$12:$G$22,MATCH(A12&B12,$E$12:$E$22&$F$12:$F$22,0)))","v":1734}]
["GEL","GIG",null,null,"CBB","LAA",2260,null,{"$f":"IF(ISERROR(INDEX($G$12:$G$22,MATCH(A13&B13,$E$12:$E$22&$F$12:$F$22,0))),\"\",INDEX($G$12:$G$22,MATCH(A13&B13,$E$12:$E$22&$F$12:$F$22,0)))","v":11916}]
["ABC","CHI",null,null,"ACME","LAA",4119,null,{"$f":"IF(ISERROR(INDEX($G$12:$G$22,MATCH(A14&B14,$E$12:$E$22&$F$12:$F$22,0))),\"\",INDEX($G$12:$G$22,MATCH(A14&B14,$E$12:$E$22&$F$12:$F$22,0)))","v":""}]
["ACME","PHE",null,null,"BBB","NY",6480,null,{"$f":"IF(ISERROR(INDEX($G$12:$G$22,MATCH(A15&B15,$E$12:$E$22&$F$12:$F$22,0))),\"\",INDEX($G$12:$G$22,MATCH(A15&B15,$E$12:$E$22&$F$12:$F$22,0)))","v":""}]
["XYZ","TIM",null,null,"DDD","PHE",7235,null,{"$f":"IF(ISERROR(INDEX($G$12:$G$22,MATCH(A16&B16,$E$12:$E$22&$F$12:$F$22,0))),\"\",INDEX($G$12:$G$22,MATCH(A16&B16,$E$12:$E$22&$F$12:$F$22,0)))","v":""}]
["MEMB","LAA",null,null,"MIN","SEA",10674,null,{"$f":"IF(ISERROR(INDEX($G$12:$G$22,MATCH(A17&B17,$E$12:$E$22&$F$12:$F$22,0))),\"\",INDEX($G$12:$G$22,MATCH(A17&B17,$E$12:$E$22&$F$12:$F$22,0)))","v":12716}]
["GEL","NY",null,null,"XYZ","SS",8211,null,{"$f":"IF(ISERROR(INDEX($G$12:$G$22,MATCH(A18&B18,$E$12:$E$22&$F$12:$F$22,0))),\"\",INDEX($G$12:$G$22,MATCH(A18&B18,$E$12:$E$22&$F$12:$F$22,0)))","v":""}]
["MEMB","SS",null,null,"FRE","SEA",12240,null,{"$f":"IF(ISERROR(INDEX($G$12:$G$22,MATCH(A19&B19,$E$12:$E$22&$F$12:$F$22,0))),\"\",INDEX($G$12:$G$22,MATCH(A19&B19,$E$12:$E$22&$F$12:$F$22,0)))","v":""}]
["ABC","OLY",null,null,"GEL","GIG",11916,null,{"$f":"IF(ISERROR(INDEX($G$12:$G$22,MATCH(A20&B20,$E$12:$E$22&$F$12:$F$22,0))),\"\",INDEX($G$12:$G$22,MATCH(A20&B20,$E$12:$E$22&$F$12:$F$22,0)))","v":""}]
["ACME","TLL",null,null,"TTT","SAE",17180,null,{"$f":"IF(ISERROR(INDEX($G$12:$G$22,MATCH(A21&B21,$E$12:$E$22&$F$12:$F$22,0))),\"\",INDEX($G$12:$G$22,MATCH(A21&B21,$E$12:$E$22&$F$12:$F$22,0)))","v":""}]
["XYZ","FM",null,null,"MEMB","LAA",12716,null,{"$f":"IF(ISERROR(INDEX($G$12:$G$22,MATCH(A22&B22,$E$12:$E$22&$F$12:$F$22,0))),\"\",INDEX($G$12:$G$22,MATCH(A22&B22,$E$12:$E$22&$F$12:$F$22,0)))","v":""}]
["ACME","LAA",null,null,null,null,null,null,{"$f":"IF(ISERROR(INDEX($G$12:$G$22,MATCH(A23&B23,$E$12:$E$22&$F$12:$F$22,0))),\"\",INDEX($G$12:$G$22,MATCH(A23&B23,$E$12:$E$22&$F$12:$F$22,0)))","v":4119}]
["GEL","HHB",null,null,null,null,null,null,{"$f":"IF(ISERROR(INDEX($G$12:$G$22,MATCH(A24&B24,$E$12:$E$22&$F$12:$F$22,0))),\"\",INDEX($G$12:$G$22,MATCH(A24&B24,$E$12:$E$22&$F$12:$F$22,0)))","v":""}]
["MEMB","NY"]
["ABC","SAE"]
["XYZ","SS"]
["ACME","TX"]

{"sheet":"(606an)","index":6,"n_rows":28,"n_cols":9,"rows_kept":28,"cut":false,"hidden":false,"merged":[]}
[]
[]
[]
[]
[]
["Goal:\n1) There are duplicates (like ABC) in List 1\n2) Lookup all ABC and Cities in List 1\n3) but only return ID from List 2 for Company-City match (like ABC-NY)\n4) End result is shown in column C."]
[]
["Excel Magic Trick 398: VLOOKUP with Two Lookup Values (IFERROR function also) 2 lookup values "]
["List 1",null,null,null,"List 2",null,null,null,"2003 solution"]
[]
["Company","City","Returned ID",null,"Company","City","ID",null,"Returned ID"]
["ABC","NY",{"$f":"IFERROR(INDEX($G$12:$G$22,MATCH(A12&B12,$E$12:$E$22&$F$12:$F$22,0)),\"\")","v":1734},null,"ABC","NY",1734,null,{"$f":"IF(ISERROR(INDEX($G$12:$G$22,MATCH(A12&B12,$E$12:$E$22&$F$12:$F$22,0))),\"\",INDEX($G$12:$G$22,MATCH(A12&B12,$E$12:$E$22&$F$12:$F$22,0)))","v":1734}]
["GEL","GIG",{"$f":"IFERROR(INDEX($G$12:$G$22,MATCH(A13&B13,$E$12:$E$22&$F$12:$F$22,0)),\"\")","v":11916},null,"CBB","LAA",2260,null,{"$f":"IF(ISERROR(INDEX($G$12:$G$22,MATCH(A13&B13,$E$12:$E$22&$F$12:$F$22,0))),\"\",INDEX($G$12:$G$22,MATCH(A13&B13,$E$12:$E$22&$F$12:$F$22,0)))","v":11916}]
["ABC","CHI",{"$f":"IFERROR(INDEX($G$12:$G$22,MATCH(A14&B14,$E$12:$E$22&$F$12:$F$22,0)),\"\")","v":""},null,"ACME","LAA",4119,null,{"$f":"IF(ISERROR(INDEX($G$12:$G$22,MATCH(A14&B14,$E$12:$E$22&$F$12:$F$22,0))),\"\",INDEX($G$12:$G$22,MATCH(A14&B14,$E$12:$E$22&$F$12:$F$22,0)))","v":""}]
["ACME","PHE",{"$f":"IFERROR(INDEX($G$12:$G$22,MATCH(A15&B15,$E$12:$E$22&$F$12:$F$22,0)),\"\")","v":""},null,"BBB","NY",6480,null,{"$f":"IF(ISERROR(INDEX($G$12:$G$22,MATCH(A15&B15,$E$12:$E$22&$F$12:$F$22,0))),\"\",INDEX($G$12:$G$22,MATCH(A15&B15,$E$12:$E$22&$F$12:$F$22,0)))","v":""}]
["XYZ","TIM",{"$f":"IFERROR(INDEX($G$12:$G$22,MATCH(A16&B16,$E$12:$E$22&$F$12:$F$22,0)),\"\")","v":""},null,"DDD","PHE",7235,null,{"$f":"IF(ISERROR(INDEX($G$12:$G$22,MATCH(A16&B16,$E$12:$E$22&$F$12:$F$22,0))),\"\",INDEX($G$12:$G$22,MATCH(A16&B16,$E$12:$E$22&$F$12:$F$22,0)))","v":""}]
["MEMB","LAA",{"$f":"IFERROR(INDEX($G$12:$G$22,MATCH(A17&B17,$E$12:$E$22&$F$12:$F$22,0)),\"\")","v":12716},null,"MIN","SEA",10674,null,{"$f":"IF(ISERROR(INDEX($G$12:$G$22,MATCH(A17&B17,$E$12:$E$22&$F$12:$F$22,0))),\"\",INDEX($G$12:$G$22,MATCH(A17&B17,$E$12:$E$22&$F$12:$F$22,0)))","v":12716}]
["GEL","NY",{"$f":"IFERROR(INDEX($G$12:$G$22,MATCH(A18&B18,$E$12:$E$22&$F$12:$F$22,0)),\"\")","v":""},null,"XYZ","SS",8211,null,{"$f":"IF(ISERROR(INDEX($G$12:$G$22,MATCH(A18&B18,$E$12:$E$22&$F$12:$F$22,0))),\"\",INDEX($G$12:$G$22,MATCH(A18&B18,$E$12:$E$22&$F$12:$F$22,0)))","v":""}]
["MEMB","SS",{"$f":"IFERROR(INDEX($G$12:$G$22,MATCH(A19&B19,$E$12:$E$22&$F$12:$F$22,0)),\"\")","v":""},null,"FRE","SEA",12240,null,{"$f":"IF(ISERROR(INDEX($G$12:$G$22,MATCH(A19&B19,$E$12:$E$22&$F$12:$F$22,0))),\"\",INDEX($G$12:$G$22,MATCH(A19&B19,$E$12:$E$22&$F$12:$F$22,0)))","v":""}]
["ABC","OLY",{"$f":"IFERROR(INDEX($G$12:$G$22,MATCH(A20&B20,$E$12:$E$22&$F$12:$F$22,0)),\"\")","v":""},null,"GEL","GIG",11916,null,{"$f":"IF(ISERROR(INDEX($G$12:$G$22,MATCH(A20&B20,$E$12:$E$22&$F$12:$F$22,0))),\"\",INDEX($G$12:$G$22,MATCH(A20&B20,$E$12:$E$22&$F$12:$F$22,0)))","v":""}]
["ACME","TLL",{"$f":"IFERROR(INDEX($G$12:$G$22,MATCH(A21&B21,$E$12:$E$22&$F$12:$F$22,0)),\"\")","v":""},null,"TTT","SAE",17180,null,{"$f":"IF(ISERROR(INDEX($G$12:$G$22,MATCH(A21&B21,$E$12:$E$22&$F$12:$F$22,0))),\"\",INDEX($G$12:$G$22,MATCH(A21&B21,$E$12:$E$22&$F$12:$F$22,0)))","v":""}]
["XYZ","FM",{"$f":"IFERROR(INDEX($G$12:$G$22,MATCH(A22&B22,$E$12:$E$22&$F$12:$F$22,0)),\"\")","v":""},null,"MEMB","LAA",12716,null,{"$f":"IF(ISERROR(INDEX($G$12:$G$22,MATCH(A22&B22,$E$12:$E$22&$F$12:$F$22,0))),\"\",INDEX($G$12:$G$22,MATCH(A22&B22,$E$12:$E$22&$F$12:$F$22,0)))","v":""}]
["ACME","LAA",{"$f":"IFERROR(INDEX($G$12:$G$22,MATCH(A23&B23,$E$12:$E$22&$F$12:$F$22,0)),\"\")","v":4119},null,null,null,null,null,{"$f":"IF(ISERROR(INDEX($G$12:$G$22,MATCH(A23&B23,$E$12:$E$22&$F$12:$F$22,0))),\"\",INDEX($G$12:$G$22,MATCH(A23&B23,$E$12:$E$22&$F$12:$F$22,0)))","v":4119}]
["GEL","HHB",{"$f":"IFERROR(INDEX($G$12:$G$22,MATCH(A24&B24,$E$12:$E$22&$F$12:$F$22,0)),\"\")","v":""},null,null,null,null,null,{"$f":"IF(ISERROR(INDEX($G$12:$G$22,MATCH(A24&B24,$E$12:$E$22&$F$12:$F$22,0))),\"\",INDEX($G$12:$G$22,MATCH(A24&B24,$E$12:$E$22&$F$12:$F$22,0)))","v":""}]
["MEMB","NY",{"$f":"IFERROR(INDEX($G$12:$G$22,MATCH(A25&B25,$E$12:$E$22&$F$12:$F$22,0)),\"\")","v":""},null,null,null,null,null,{"$f":"IF(ISERROR(INDEX($G$12:$G$22,MATCH(A25&B25,$E$12:$E$22&$F$12:$F$22,0))),\"\",INDEX($G$12:$G$22,MATCH(A25&B25,$E$12:$E$22&$F$12:$F$22,0)))","v":""}]
["ABC","SAE",{"$f":"IFERROR(INDEX($G$12:$G$22,MATCH(A26&B26,$E$12:$E$22&$F$12:$F$22,0)),\"\")","v":""},null,null,null,null,null,{"$f":"IF(ISERROR(INDEX($G$12:$G$22,MATCH(A26&B26,$E$12:$E$22&$F$12:$F$22,0))),\"\",INDEX($G$12:$G$22,MATCH(A26&B26,$E$12:$E$22&$F$12:$F$22,0)))","v":""}]
["XYZ","SS",{"$f":"IFERROR(INDEX($G$12:$G$22,MATCH(A27&B27,$E$12:$E$22&$F$12:$F$22,0)),\"\")","v":8211},null,null,null,null,null,{"$f":"IF(ISERROR(INDEX($G$12:$G$22,MATCH(A27&B27,$E$12:$E$22&$F$12:$F$22,0))),\"\",INDEX($G$12:$G$22,MATCH(A27&B27,$E$12:$E$22&$F$12:$F$22,0)))","v":8211}]
["ACME","TX",{"$f":"IFERROR(INDEX($G$12:$G$22,MATCH(A28&B28,$E$12:$E$22&$F$12:$F$22,0)),\"\")","v":""},null,null,null,null,null,{"$f":"IF(ISERROR(INDEX($G$12:$G$22,MATCH(A28&B28,$E$12:$E$22&$F$12:$F$22,0))),\"\",INDEX($G$12:$G$22,MATCH(A28&B28,$E$12:$E$22&$F$12:$F$22,0)))","v":""}]

{"sheet":"(607) PO","index":7,"n_rows":66,"n_cols":8,"rows_kept":66,"cut":false,"hidden":false,"merged":[]}
["PO","DATE","PO = REC = INV\nall three?",null,null,null,null,"2003 solution"]
[25010,"2009-05-20",null,null,{"$f":"VLOOKUP($A2,'REC(an)'!$B$2:$B$33,1,0)","v":25010},{"$f":"VLOOKUP($A2,'INV(an)'!$B$2:$B$16,1,0)","v":25010},null,{"$f":"IF(ISNA(AND(A2=VLOOKUP($A2,'REC(an)'!$B$2:$B$33,1,0),A2=VLOOKUP($A2,'INV(an)'!$B$2:$B$16,1,0))),\"\",AND(A2=VLOOKUP($A2,'REC(an)'!$B$2:$B$33,1,0),A2=VLOOKUP($A2,'INV(an)'!$B$2:$B$16,1,0)))","v":true}]
[25011,"2009-05-21",null,null,null,null,null,{"$f":"IF(ISNA(AND(A3=VLOOKUP($A3,'REC(an)'!$B$2:$B$33,1,0),A3=VLOOKUP($A3,'INV(an)'!$B$2:$B$16,1,0))),\"\",AND(A3=VLOOKUP($A3,'REC(an)'!$B$2:$B$33,1,0),A3=VLOOKUP($A3,'INV(an)'!$B$2:$B$16,1,0)))","v":true}]
[25012,"2009-05-22",null,null,null,null,null,{"$f":"IF(ISNA(AND(A4=VLOOKUP($A4,'REC(an)'!$B$2:$B$33,1,0),A4=VLOOKUP($A4,'INV(an)'!$B$2:$B$16,1,0))),\"\",AND(A4=VLOOKUP($A4,'REC(an)'!$B$2:$B$33,1,0),A4=VLOOKUP($A4,'INV(an)'!$B$2:$B$16,1,0)))","v":true}]
[25013,"2009-05-23",null,null,null,null,null,{"$f":"IF(ISNA(AND(A5=VLOOKUP($A5,'REC(an)'!$B$2:$B$33,1,0),A5=VLOOKUP($A5,'INV(an)'!$B$2:$B$16,1,0))),\"\",AND(A5=VLOOKUP($A5,'REC(an)'!$B$2:$B$33,1,0),A5=VLOOKUP($A5,'INV(an)'!$B$2:$B$16,1,0)))","v":true}]
[25014,"2009-05-24",null,null,null,null,null,{"$f":"IF(ISNA(AND(A6=VLOOKUP($A6,'REC(an)'!$B$2:$B$33,1,0),A6=VLOOKUP($A6,'INV(an)'!$B$2:$B$16,1,0))),\"\",AND(A6=VLOOKUP($A6,'REC(an)'!$B$2:$B$33,1,0),A6=VLOOKUP($A6,'INV(an)'!$B$2:$B$16,1,0)))","v":true}]
[25015,"2009-05-25",null,null,null,null,null,{"$f":"IF(ISNA(AND(A7=VLOOKUP($A7,'REC(an)'!$B$2:$B$33,1,0),A7=VLOOKUP($A7,'INV(an)'!$B$2:$B$16,1,0))),\"\",AND(A7=VLOOKUP($A7,'REC(an)'!$B$2:$B$33,1,0),A7=VLOOKUP($A7,'INV(an)'!$B$2:$B$16,1,0)))","v":""}]
[25016,"2009-05-26",null,null,null,null,null,{"$f":"IF(ISNA(AND(A8=VLOOKUP($A8,'REC(an)'!$B$2:$B$33,1,0),A8=VLOOKUP($A8,'INV(an)'!$B$2:$B$16,1,0))),\"\",AND(A8=VLOOKUP($A8,'REC(an)'!$B$2:$B$33,1,0),A8=VLOOKUP($A8,'INV(an)'!$B$2:$B$16,1,0)))","v":""}]
[25017,"2009-05-27",null,null,null,null,null,{"$f":"IF(ISNA(AND(A9=VLOOKUP($A9,'REC(an)'!$B$2:$B$33,1,0),A9=VLOOKUP($A9,'INV(an)'!$B$2:$B$16,1,0))),\"\",AND(A9=VLOOKUP($A9,'REC(an)'!$B$2:$B$33,1,0),A9=VLOOKUP($A9,'INV(an)'!$B$2:$B$16,1,0)))","v":""}]
[25018,"2009-05-28",null,null,null,null,null,{"$f":"IF(ISNA(AND(A10=VLOOKUP($A10,'REC(an)'!$B$2:$B$33,1,0),A10=VLOOKUP($A10,'INV(an)'!$B$2:$B$16,1,0))),\"\",AND(A10=VLOOKUP($A10,'REC(an)'!$B$2:$B$33,1,0),A10=VLOOKUP($A10,'INV(an)'!$B$2:$B$16,1,0)))","v":""}]
[25019,"2009-05-29",null,null,null,null,null,{"$f":"IF(ISNA(AND(A11=VLOOKUP($A11,'REC(an)'!$B$2:$B$33,1,0),A11=VLOOKUP($A11,'INV(an)'!$B$2:$B$16,1,0))),\"\",AND(A11=VLOOKUP($A11,'REC(an)'!$B$2:$B$33,1,0),A11=VLOOKUP($A11,'INV(an)'!$B$2:$B$16,1,0)))","v":""}]
[25020,"2009-05-30",null,null,null,null,null,{"$f":"IF(ISNA(AND(A12=VLOOKUP($A12,'REC(an)'!$B$2:$B$33,1,0),A12=VLOOKUP($A12,'INV(an)'!$B$2:$B$16,1,0))),\"\",AND(A12=VLOOKUP($A12,'REC(an)'!$B$2:$B$33,1,0),A12=VLOOKUP($A12,'INV(an)'!$B$2:$B$16,1,0)))","v":""}]
[25021,"2009-05-31",null,null,null,null,null,{"$f":"IF(ISNA(AND(A13=VLOOKUP($A13,'REC(an)'!$B$2:$B$33,1,0),A13=VLOOKUP($A13,'INV(an)'!$B$2:$B$16,1,0))),\"\",AND(A13=VLOOKUP($A13,'REC(an)'!$B$2:$B$33,1,0),A13=VLOOKUP($A13,'INV(an)'!$B$2:$B$16,1,0)))","v":""}]
[25022,"2009-06-01",null,null,null,null,null,{"$f":"IF(ISNA(AND(A14=VLOOKUP($A14,'REC(an)'!$B$2:$B$33,1,0),A14=VLOOKUP($A14,'INV(an)'!$B$2:$B$16,1,0))),\"\",AND(A14=VLOOKUP($A14,'REC(an)'!$B$2:$B$33,1,0),A14=VLOOKUP($A14,'INV(an)'!$B$2:$B$16,1,0)))","v":""}]
[25023,"2009-06-02",null,null,null,null,null,{"$f":"IF(ISNA(AND(A15=VLOOKUP($A15,'REC(an)'!$B$2:$B$33,1,0),A15=VLOOKUP($A15,'INV(an)'!$B$2:$B$16,1,0))),\"\",AND(A15=VLOOKUP($A15,'REC(an)'!$B$2:$B$33,1,0),A15=VLOOKUP($A15,'INV(an)'!$B$2:$B$16,1,0)))","v":""}]
[25024,"2009-06-03",null,null,null,null,null,{"$f":"IF(ISNA(AND(A16=VLOOKUP($A16,'REC(an)'!$B$2:$B$33,1,0),A16=VLOOKUP($A16,'INV(an)'!$B$2:$B$16,1,0))),\"\",AND(A16=VLOOKUP($A16,'REC(an)'!$B$2:$B$33,1,0),A16=VLOOKUP($A16,'INV(an)'!$B$2:$B$16,1,0)))","v":""}]
[25025,"2009-06-04",null,null,null,null,null,{"$f":"IF(ISNA(AND(A17=VLOOKUP($A17,'REC(an)'!$B$2:$B$33,1,0),A17=VLOOKUP($A17,'INV(an)'!$B$2:$B$16,1,0))),\"\",AND(A17=VLOOKUP($A17,'REC(an)'!$B$2:$B$33,1,0),A17=VLOOKUP($A17,'INV(an)'!$B$2:$B$16,1,0)))","v":""}]
[25026,"2009-06-05",null,null,null,null,null,{"$f":"IF(ISNA(AND(A18=VLOOKUP($A18,'REC(an)'!$B$2:$B$33,1,0),A18=VLOOKUP($A18,'INV(an)'!$B$2:$B$16,1,0))),\"\",AND(A18=VLOOKUP($A18,'REC(an)'!$B$2:$B$33,1,0),A18=VLOOKUP($A18,'INV(an)'!$B$2:$B$16,1,0)))","v":true}]
[25027,"2009-06-06",null,null,null,null,null,{"$f":"IF(ISNA(AND(A19=VLOOKUP($A19,'REC(an)'!$B$2:$B$33,1,0),A19=VLOOKUP($A19,'INV(an)'!$B$2:$B$16,1,0))),\"\",AND(A19=VLOOKUP($A19,'REC(an)'!$B$2:$B$33,1,0),A19=VLOOKUP($A19,'INV(an)'!$B$2:$B$16,1,0)))","v":true}]
[25028,"2009-06-07",null,null,null,null,null,{"$f":"IF(ISNA(AND(A20=VLOOKUP($A20,'REC(an)'!$B$2:$B$33,1,0),A20=VLOOKUP($A20,'INV(an)'!$B$2:$B$16,1,0))),\"\",AND(A20=VLOOKUP($A20,'REC(an)'!$B$2:$B$33,1,0),A20=VLOOKUP($A20,'INV(an)'!$B$2:$B$16,1,0)))","v":true}]
[25029,"2009-06-08",null,null,null,null,null,{"$f":"IF(ISNA(AND(A21=VLOOKUP($A21,'REC(an)'!$B$2:$B$33,1,0),A21=VLOOKUP($A21,'INV(an)'!$B$2:$B$16,1,0))),\"\",AND(A21=VLOOKUP($A21,'REC(an)'!$B$2:$B$33,1,0),A21=VLOOKUP($A21,'INV(an)'!$B$2:$B$16,1,0)))","v":""}]
[25030,"2009-06-09",null,null,null,null,null,{"$f":"IF(ISNA(AND(A22=VLOOKUP($A22,'REC(an)'!$B$2:$B$33,1,0),A22=VLOOKUP($A22,'INV(an)'!$B$2:$B$16,1,0))),\"\",AND(A22=VLOOKUP($A22,'REC(an)'!$B$2:$B$33,1,0),A22=VLOOKUP($A22,'INV(an)'!$B$2:$B$16,1,0)))","v":true}]
[25031,"2009-06-10",null,null,null,null,null,{"$f":"IF(ISNA(AND(A23=VLOOKUP($A23,'REC(an)'!$B$2:$B$33,1,0),A23=VLOOKUP($A23,'INV(an)'!$B$2:$B$16,1,0))),\"\",AND(A23=VLOOKUP($A23,'REC(an)'!$B$2:$B$33,1,0),A23=VLOOKUP($A23,'INV(an)'!$B$2:$B$16,1,0)))","v":""}]
[25032,"2009-06-11",null,null,null,null,null,{"$f":"IF(ISNA(AND(A24=VLOOKUP($A24,'REC(an)'!$B$2:$B$33,1,0),A24=VLOOKUP($A24,'INV(an)'!$B$2:$B$16,1,0))),\"\",AND(A24=VLOOKUP($A24,'REC(an)'!$B$2:$B$33,1,0),A24=VLOOKUP($A24,'INV(an)'!$B$2:$B$16,1,0)))","v":""}]
[25033,"2009-06-12",null,null,null,null,null,{"$f":"IF(ISNA(AND(A25=VLOOKUP($A25,'REC(an)'!$B$2:$B$33,1,0),A25=VLOOKUP($A25,'INV(an)'!$B$2:$B$16,1,0))),\"\",AND(A25=VLOOKUP($A25,'REC(an)'!$B$2:$B$33,1,0),A25=VLOOKUP($A25,'INV(an)'!$B$2:$B$16,1,0)))","v":""}]
[25034,"2009-06-13",null,null,null,null,null,{"$f":"IF(ISNA(AND(A26=VLOOKUP($A26,'REC(an)'!$B$2:$B$33,1,0),A26=VLOOKUP($A26,'INV(an)'!$B$2:$B$16,1,0))),\"\",AND(A26=VLOOKUP($A26,'REC(an)'!$B$2:$B$33,1,0),A26=VLOOKUP($A26,'INV(an)'!$B$2:$B$16,1,0)))","v":true}]
[25035,"2009-06-14",null,null,null,null,null,{"$f":"IF(ISNA(AND(A27=VLOOKUP($A27,'REC(an)'!$B$2:$B$33,1,0),A27=VLOOKUP($A27,'INV(an)'!$B$2:$B$16,1,0))),\"\",AND(A27=VLOOKUP($A27,'REC(an)'!$B$2:$B$33,1,0),A27=VLOOKUP($A27,'INV(an)'!$B$2:$B$16,1,0)))","v":""}]
[25036,"2009-06-15",null,null,null,null,null,{"$f":"IF(ISNA(AND(A28=VLOOKUP($A28,'REC(an)'!$B$2:$B$33,1,0),A28=VLOOKUP($A28,'INV(an)'!$B$2:$B$16,1,0))),\"\",AND(A28=VLOOKUP($A28,'REC(an)'!$B$2:$B$33,1,0),A28=VLOOKUP($A28,'INV(an)'!$B$2:$B$16,1,0)))","v":""}]
[25037,"2009-06-16",null,null,null,null,null,{"$f":"IF(ISNA(AND(A29=VLOOKUP($A29,'REC(an)'!$B$2:$B$33,1,0),A29=VLOOKUP($A29,'INV(an)'!$B$2:$B$16,1,0))),\"\",AND(A29=VLOOKUP($A29,'REC(an)'!$B$2:$B$33,1,0),A29=VLOOKUP($A29,'INV(an)'!$B$2:$B$16,1,0)))","v":""}]
[25038,"2009-06-17",null,null,null,null,null,{"$f":"IF(ISNA(AND(A30=VLOOKUP($A30,'REC(an)'!$B$2:$B$33,1,0),A30=VLOOKUP($A30,'INV(an)'!$B$2:$B$16,1,0))),\"\",AND(A30=VLOOKUP($A30,'REC(an)'!$B$2:$B$33,1,0),A30=VLOOKUP($A30,'INV(an)'!$B$2:$B$16,1,0)))","v":true}]
[25039,"2009-06-18",null,null,null,null,null,{"$f":"IF(ISNA(AND(A31=VLOOKUP($A31,'REC(an)'!$B$2:$B$33,1,0),A31=VLOOKUP($A31,'INV(an)'!$B$2:$B$16,1,0))),\"\",AND(A31=VLOOKUP($A31,'REC(an)'!$B$2:$B$33,1,0),A31=VLOOKUP($A31,'INV(an)'!$B$2:$B$16,1,0)))","v":""}]
[25040,"2009-06-19",null,null,null,null,null,{"$f":"IF(ISNA(AND(A32=VLOOKUP($A32,'REC(an)'!$B$2:$B$33,1,0),A32=VLOOKUP($A32,'INV(an)'!$B$2:$B$16,1,0))),\"\",AND(A32=VLOOKUP($A32,'REC(an)'!$B$2:$B$33,1,0),A32=VLOOKUP($A32,'INV(an)'!$B$2:$B$16,1,0)))","v":""}]
[25041,"2009-06-20",null,null,null,null,null,{"$f":"IF(ISNA(AND(A33=VLOOKUP($A33,'REC(an)'!$B$2:$B$33,1,0),A33=VLOOKUP($A33,'INV(an)'!$B$2:$B$16,1,0))),\"\",AND(A33=VLOOKUP($A33,'REC(an)'!$B$2:$B$33,1,0),A33=VLOOKUP($A33,'INV(an)'!$B$2:$B$16,1,0)))","v":""}]
[25042,"2009-06-21",null,null,null,null,null,{"$f":"IF(ISNA(AND(A34=VLOOKUP($A34,'REC(an)'!$B$2:$B$33,1,0),A34=VLOOKUP($A34,'INV(an)'!$B$2:$B$16,1,0))),\"\",AND(A34=VLOOKUP($A34,'REC(an)'!$B$2:$B$33,1,0),A34=VLOOKUP($A34,'INV(an)'!$B$2:$B$16,1,0)))","v":true}]
[25043,"2009-06-22",null,null,null,null,null,{"$f":"IF(ISNA(AND(A35=VLOOKUP($A35,'REC(an)'!$B$2:$B$33,1,0),A35=VLOOKUP($A35,'INV(an)'!$B$2:$B$16,1,0))),\"\",AND(A35=VLOOKUP($A35,'REC(an)'!$B$2:$B$33,1,0),A35=VLOOKUP($A35,'INV(an)'!$B$2:$B$16,1,0)))","v":""}]
[25044,"2009-06-23",null,null,null,null,null,{"$f":"IF(ISNA(AND(A36=VLOOKUP($A36,'REC(an)'!$B$2:$B$33,1,0),A36=VLOOKUP($A36,'INV(an)'!$B$2:$B$16,1,0))),\"\",AND(A36=VLOOKUP($A36,'REC(an)'!$B$2:$B$33,1,0),A36=VLOOKUP($A36,'INV(an)'!$B$2:$B$16,1,0)))","v":""}]
[25045,"2009-06-24",null,null,null,null,null,{"$f":"IF(ISNA(AND(A37=VLOOKUP($A37,'REC(an)'!$B$2:$B$33,1,0),A37=VLOOKUP($A37,'INV(an)'!$B$2:$B$16,1,0))),\"\",AND(A37=VLOOKUP($A37,'REC(an)'!$B$2:$B$33,1,0),A37=VLOOKUP($A37,'INV(an)'!$B$2:$B$16,1,0)))","v":""}]
[25046,"2009-06-25",null,null,null,null,null,{"$f":"IF(ISNA(AND(A38=VLOOKUP($A38,'REC(an)'!$B$2:$B$33,1,0),A38=VLOOKUP($A38,'INV(an)'!$B$2:$B$16,1,0))),\"\",AND(A38=VLOOKUP($A38,'REC(an)'!$B$2:$B$33,1,0),A38=VLOOKUP($A38,'INV(an)'!$B$2:$B$16,1,0)))","v":true}]
[25047,"2009-06-26",null,null,null,null,null,{"$f":"IF(ISNA(AND(A39=VLOOKUP($A39,'REC(an)'!$B$2:$B$33,1,0),A39=VLOOKUP($A39,'INV(an)'!$B$2:$B$16,1,0))),\"\",AND(A39=VLOOKUP($A39,'REC(an)'!$B$2:$B$33,1,0),A39=VLOOKUP($A39,'INV(an)'!$B$2:$B$16,1,0)))","v":""}]
[25048,"2009-06-27",null,null,null,null,null,{"$f":"IF(ISNA(AND(A40=VLOOKUP($A40,'REC(an)'!$B$2:$B$33,1,0),A40=VLOOKUP($A40,'INV(an)'!$B$2:$B$16,1,0))),\"\",AND(A40=VLOOKUP($A40,'REC(an)'!$B$2:$B$33,1,0),A40=VLOOKUP($A40,'INV(an)'!$B$2:$B$16,1,0)))","v":""}]
[25049,"2009-06-28",null,null,null,null,null,{"$f":"IF(ISNA(AND(A41=VLOOKUP($A41,'REC(an)'!$B$2:$B$33,1,0),A41=VLOOKUP($A41,'INV(an)'!$B$2:$B$16,1,0))),\"\",AND(A41=VLOOKUP($A41,'REC(an)'!$B$2:$B$33,1,0),A41=VLOOKUP($A41,'INV(an)'!$B$2:$B$16,1,0)))","v":""}]
[25050,"2009-06-29",null,null,null,null,null,{"$f":"IF(ISNA(AND(A42=VLOOKUP($A42,'REC(an)'!$B$2:$B$33,1,0),A42=VLOOKUP($A42,'INV(an)'!$B$2:$B$16,1,0))),\"\",AND(A42=VLOOKUP($A42,'REC(an)'!$B$2:$B$33,1,0),A42=VLOOKUP($A42,'INV(an)'!$B$2:$B$16,1,0)))","v":true}]
[25051,"2009-06-30",null,null,null,null,null,{"$f":"IF(ISNA(AND(A43=VLOOKUP($A43,'REC(an)'!$B$2:$B$33,1,0),A43=VLOOKUP($A43,'INV(an)'!$B$2:$B$16,1,0))),\"\",AND(A43=VLOOKUP($A43,'REC(an)'!$B$2:$B$33,1,0),A43=VLOOKUP($A43,'INV(an)'!$B$2:$B$16,1,0)))","v":""}]
[25052,"2009-07-01",null,null,null,null,null,{"$f":"IF(ISNA(AND(A44=VLOOKUP($A44,'REC(an)'!$B$2:$B$33,1,0),A44=VLOOKUP($A44,'INV(an)'!$B$2:$B$16,1,0))),\"\",AND(A44=VLOOKUP($A44,'REC(an)'!$B$2:$B$33,1,0),A44=VLOOKUP($A44,'INV(an)'!$B$2:$B$16,1,0)))","v":""}]
[25053,"2009-07-02",null,null,null,null,null,{"$f":"IF(ISNA(AND(A45=VLOOKUP($A45,'REC(an)'!$B$2:$B$33,1,0),A45=VLOOKUP($A45,'INV(an)'!$B$2:$B$16,1,0))),\"\",AND(A45=VLOOKUP($A45,'REC(an)'!$B$2:$B$33,1,0),A45=VLOOKUP($A45,'INV(an)'!$B$2:$B$16,1,0)))","v":""}]
[25054,"2009-07-03",null,null,null,null,null,{"$f":"IF(ISNA(AND(A46=VLOOKUP($A46,'REC(an)'!$B$2:$B$33,1,0),A46=VLOOKUP($A46,'INV(an)'!$B$2:$B$16,1,0))),\"\",AND(A46=VLOOKUP($A46,'REC(an)'!$B$2:$B$33,1,0),A46=VLOOKUP($A46,'INV(an)'!$B$2:$B$16,1,0)))","v":""}]
[25055,"2009-07-04",null,null,null,null,null,{"$f":"IF(ISNA(AND(A47=VLOOKUP($A47,'REC(an)'!$B$2:$B$33,1,0),A47=VLOOKUP($A47,'INV(an)'!$B$2:$B$16,1,0))),\"\",AND(A47=VLOOKUP($A47,'REC(an)'!$B$2:$B$33,1,0),A47=VLOOKUP($A47,'INV(an)'!$B$2:$B$16,1,0)))","v":""}]
[25056,"2009-07-05",null,null,null,null,null,{"$f":"IF(ISNA(AND(A48=VLOOKUP($A48,'REC(an)'!$B$2:$B$33,1,0),A48=VLOOKUP($A48,'INV(an)'!$B$2:$B$16,1,0))),\"\",AND(A48=VLOOKUP($A48,'REC(an)'!$B$2:$B$33,1,0),A48=VLOOKUP($A48,'INV(an)'!$B$2:$B$16,1,0)))","v":""}]
[25057,"2009-07-06",null,null,null,null,null,{"$f":"IF(ISNA(AND(A49=VLOOKUP($A49,'REC(an)'!$B$2:$B$33,1,0),A49=VLOOKUP($A49,'INV(an)'!$B$2:$B$16,1,0))),\"\",AND(A49=VLOOKUP($A49,'REC(an)'!$B$2:$B$33,1,0),A49=VLOOKUP($A49,'INV(an)'!$B$2:$B$16,1,0)))","v":""}]
[25058,"2009-07-07",null,null,null,null,null,{"$f":"IF(ISNA(AND(A50=VLOOKUP($A50,'REC(an)'!$B$2:$B$33,1,0),A50=VLOOKUP($A50,'INV(an)'!$B$2:$B$16,1,0))),\"\",AND(A50=VLOOKUP($A50,'REC(an)'!$B$2:$B$33,1,0),A50=VLOOKUP($A50,'INV(an)'!$B$2:$B$16,1,0)))","v":""}]
[25059,"2009-07-08",null,null,null,null,null,{"$f":"IF(ISNA(AND(A51=VLOOKUP($A51,'REC(an)'!$B$2:$B$33,1,0),A51=VLOOKUP($A51,'INV(an)'!$B$2:$B$16,1,0))),\"\",AND(A51=VLOOKUP($A51,'REC(an)'!$B$2:$B$33,1,0),A51=VLOOKUP($A51,'INV(an)'!$B$2:$B$16,1,0)))","v":""}]
[25060,"2009-07-09",null,null,null,null,null,{"$f":"IF(ISNA(AND(A52=VLOOKUP($A52,'REC(an)'!$B$2:$B$33,1,0),A52=VLOOKUP($A52,'INV(an)'!$B$2:$B$16,1,0))),\"\",AND(A52=VLOOKUP($A52,'REC(an)'!$B$2:$B$33,1,0),A52=VLOOKUP($A52,'INV(an)'!$B$2:$B$16,1,0)))","v":""}]
[25061,"2009-07-10",null,null,null,null,null,{"$f":"IF(ISNA(AND(A53=VLOOKUP($A53,'REC(an)'!$B$2:$B$33,1,0),A53=VLOOKUP($A53,'INV(an)'!$B$2:$B$16,1,0))),\"\",AND(A53=VLOOKUP($A53,'REC(an)'!$B$2:$B$33,1,0),A53=VLOOKUP($A53,'INV(an)'!$B$2:$B$16,1,0)))","v":""}]
[25062,"2009-07-11",null,null,null,null,null,{"$f":"IF(ISNA(AND(A54=VLOOKUP($A54,'REC(an)'!$B$2:$B$33,1,0),A54=VLOOKUP($A54,'INV(an)'!$B$2:$B$16,1,0))),\"\",AND(A54=VLOOKUP($A54,'REC(an)'!$B$2:$B$33,1,0),A54=VLOOKUP($A54,'INV(an)'!$B$2:$B$16,1,0)))","v":""}]
[25063,"2009-07-12",null,null,null,null,null,{"$f":"IF(ISNA(AND(A55=VLOOKUP($A55,'REC(an)'!$B$2:$B$33,1,0),A55=VLOOKUP($A55,'INV(an)'!$B$2:$B$16,1,0))),\"\",AND(A55=VLOOKUP($A55,'REC(an)'!$B$2:$B$33,1,0),A55=VLOOKUP($A55,'INV(an)'!$B$2:$B$16,1,0)))","v":""}]
[25064,"2009-07-13",null,null,null,null,null,{"$f":"IF(ISNA(AND(A56=VLOOKUP($A56,'REC(an)'!$B$2:$B$33,1,0),A56=VLOOKUP($A56,'INV(an)'!$B$2:$B$16,1,0))),\"\",AND(A56=VLOOKUP($A56,'REC(an)'!$B$2:$B$33,1,0),A56=VLOOKUP($A56,'INV(an)'!$B$2:$B$16,1,0)))","v":""}]
[25065,"2009-07-14",null,null,null,null,null,{"$f":"IF(ISNA(AND(A57=VLOOKUP($A57,'REC(an)'!$B$2:$B$33,1,0),A57=VLOOKUP($A57,'INV(an)'!$B$2:$B$16,1,0))),\"\",AND(A57=VLOOKUP($A57,'REC(an)'!$B$2:$B$33,1,0),A57=VLOOKUP($A57,'INV(an)'!$B$2:$B$16,1,0)))","v":""}]
[25066,"2009-07-15",null,null,null,null,null,{"$f":"IF(ISNA(AND(A58=VLOOKUP($A58,'REC(an)'!$B$2:$B$33,1,0),A58=VLOOKUP($A58,'INV(an)'!$B$2:$B$16,1,0))),\"\",AND(A58=VLOOKUP($A58,'REC(an)'!$B$2:$B$33,1,0),A58=VLOOKUP($A58,'INV(an)'!$B$2:$B$16,1,0)))","v":""}]
[25067,"2009-07-16",null,null,null,null,null,{"$f":"IF(ISNA(AND(A59=VLOOKUP($A59,'REC(an)'!$B$2:$B$33,1,0),A59=VLOOKUP($A59,'INV(an)'!$B$2:$B$16,1,0))),\"\",AND(A59=VLOOKUP($A59,'REC(an)'!$B$2:$B$33,1,0),A59=VLOOKUP($A59,'INV(an)'!$B$2:$B$16,1,0)))","v":""}]
[25068,"2009-07-17",null,null,null,null,null,{"$f":"IF(ISNA(AND(A60=VLOOKUP($A60,'REC(an)'!$B$2:$B$33,1,0),A60=VLOOKUP($A60,'INV(an)'!$B$2:$B$16,1,0))),\"\",AND(A60=VLOOKUP($A60,'REC(an)'!$B$2:$B$33,1,0),A60=VLOOKUP($A60,'INV(an)'!$B$2:$B$16,1,0)))","v":""}]
[25069,"2009-07-18",null,null,null,null,null,{"$f":"IF(ISNA(AND(A61=VLOOKUP($A61,'REC(an)'!$B$2:$B$33,1,0),A61=VLOOKUP($A61,'INV(an)'!$B$2:$B$16,1,0))),\"\",AND(A61=VLOOKUP($A61,'REC(an)'!$B$2:$B$33,1,0),A61=VLOOKUP($A61,'INV(an)'!$B$2:$B$16,1,0)))","v":""}]
[25070,"2009-07-19",null,null,null,null,null,{"$f":"IF(ISNA(AND(A62=VLOOKUP($A62,'REC(an)'!$B$2:$B$33,1,0),A62=VLOOKUP($A62,'INV(an)'!$B$2:$B$16,1,0))),\"\",AND(A62=VLOOKUP($A62,'REC(an)'!$B$2:$B$33,1,0),A62=VLOOKUP($A62,'INV(an)'!$B$2:$B$16,1,0)))","v":""}]
[25071,"2009-07-20",null,null,null,null,null,{"$f":"IF(ISNA(AND(A63=VLOOKUP($A63,'REC(an)'!$B$2:$B$33,1,0),A63=VLOOKUP($A63,'INV(an)'!$B$2:$B$16,1,0))),\"\",AND(A63=VLOOKUP($A63,'REC(an)'!$B$2:$B$33,1,0),A63=VLOOKUP($A63,'INV(an)'!$B$2:$B$16,1,0)))","v":""}]
[25072,"2009-07-21",null,null,null,null,null,{"$f":"IF(ISNA(AND(A64=VLOOKUP($A64,'REC(an)'!$B$2:$B$33,1,0),A64=VLOOKUP($A64,'INV(an)'!$B$2:$B$16,1,0))),\"\",AND(A64=VLOOKUP($A64,'REC(an)'!$B$2:$B$33,1,0),A64=VLOOKUP($A64,'INV(an)'!$B$2:$B$16,1,0)))","v":""}]
[25073,"2009-07-22",null,null,null,null,null,{"$f":"IF(ISNA(AND(A65=VLOOKUP($A65,'REC(an)'!$B$2:$B$33,1,0),A65=VLOOKUP($A65,'INV(an)'!$B$2:$B$16,1,0))),\"\",AND(A65=VLOOKUP($A65,'REC(an)'!$B$2:$B$33,1,0),A65=VLOOKUP($A65,'INV(an)'!$B$2:$B$16,1,0)))","v":""}]
[25074,"2010-07-21",null,null,null,null,null,{"$f":"IF(ISNA(AND(A66=VLOOKUP($A66,'REC(an)'!$B$2:$B$33,1,0),A66=VLOOKUP($A66,'INV(an)'!$B$2:$B$16,1,0))),\"\",AND(A66=VLOOKUP($A66,'REC(an)'!$B$2:$B$33,1,0),A66=VLOOKUP($A66,'INV(an)'!$B$2:$B$16,1,0)))","v":true}]

{"sheet":"REC","index":8,"n_rows":33,"n_cols":3,"rows_kept":33,"cut":false,"hidden":false,"merged":[]}
["Rec#","PO","Date"]
[22620,25010,"2009-05-24"]
[62480,25012,"2010-05-25"]
[71029,25014,"2011-05-26"]
[30367,25011,"2012-05-26"]
[82163,25013,"2013-05-27"]
[96494,25027,"2014-05-28"]
[21960,25028,"2015-05-29"]
[13496,25024,"2016-05-29"]
[47852,25026,"2017-05-30"]
[82319,25028,"2018-05-31"]
[85104,25030,"2019-06-01"]
[27775,25032,"2020-06-01"]
[47124,25034,"2021-06-02"]
[95387,25036,"2022-06-03"]
[91781,25038,"2023-06-04"]
[74449,25040,"2024-06-04"]
[39387,25042,"2025-06-05"]
[41153,25044,"2026-06-06"]
[52367,25046,"2027-06-07"]
[27576,25048,"2028-06-07"]
[24548,25050,"2029-06-08"]
[89055,25052,"2030-06-09"]
[61007,25054,"2031-06-10"]
[63399,25056,"2032-06-10"]
[47086,25058,"2033-06-11"]
[14940,25060,"2034-06-12"]
[80120,25062,"2035-06-13"]
[32820,25064,"2036-06-13"]
[81972,25066,"2037-06-14"]
[49301,25068,"2038-06-15"]
[42262,25070,"2039-06-16"]
[323,25074,"2010-07-22"]

{"sheet":"INV","index":9,"n_rows":16,"n_cols":3,"rows_kept":16,"cut":false,"hidden":false,"merged":[]}
["Inv#","PO","Date"]
["G33398",25010,"2010-05-27"]
["Y96346",25014,"2010-05-28"]
["G15281",25011,"2010-05-28"]
["E66862",25013,"2010-05-29"]
["N13722",25026,"2010-05-30"]
["J84276",25030,"2010-05-31"]
["M14834",25034,"2010-06-01"]
["D58891",25038,"2010-06-02"]
["L50179",25042,"2010-06-03"]
["Z79465",25046,"2010-06-04"]
["J78185",25050,"2010-06-05"]
["P87275",25027,"2010-06-06"]
["J84477",25028,"2010-06-07"]
["rtdtrdrt",25012,"2010-06-08"]
["rtrtrtdd",25074,"2010-07-22"]

{"sheet":"(607) PO (an)","index":10,"n_rows":66,"n_cols":8,"rows_kept":66,"cut":false,"hidden":false,"merged":[]}
["PO","DATE","PO = REC = INV\nall three?",null,null,null,null,"2003 solution"]
[25010,"2009-05-20",{"$f":"IFERROR(AND(A2=VLOOKUP($A2,'REC(an)'!$B$2:$B$33,1,0),A2=VLOOKUP($A2,'INV(an)'!$B$2:$B$16,1,0)),\"\")","v":true},null,{"$f":"VLOOKUP($A2,'REC(an)'!$B$2:$B$33,1,0)","v":25010},{"$f":"VLOOKUP($A2,'INV(an)'!$B$2:$B$16,1,0)","v":25010},null,{"$f":"IF(ISNA(AND(A2=VLOOKUP($A2,'REC(an)'!$B$2:$B$33,1,0),A2=VLOOKUP($A2,'INV(an)'!$B$2:$B$16,1,0))),\"\",AND(A2=VLOOKUP($A2,'REC(an)'!$B$2:$B$33,1,0),A2=VLOOKUP($A2,'INV(an)'!$B$2:$B$16,1,0)))","v":true}]
[25011,"2009-05-21",{"$f":"IFERROR(AND(A3=VLOOKUP($A3,'REC(an)'!$B$2:$B$33,1,0),A3=VLOOKUP($A3,'INV(an)'!$B$2:$B$16,1,0)),\"\")","v":true},null,null,null,null,{"$f":"IF(ISNA(AND(A3=VLOOKUP($A3,'REC(an)'!$B$2:$B$33,1,0),A3=VLOOKUP($A3,'INV(an)'!$B$2:$B$16,1,0))),\"\",AND(A3=VLOOKUP($A3,'REC(an)'!$B$2:$B$33,1,0),A3=VLOOKUP($A3,'INV(an)'!$B$2:$B$16,1,0)))","v":true}]
[25012,"2009-05-22",{"$f":"IFERROR(AND(A4=VLOOKUP($A4,'REC(an)'!$B$2:$B$33,1,0),A4=VLOOKUP($A4,'INV(an)'!$B$2:$B$16,1,0)),\"\")","v":true},null,null,null,null,{"$f":"IF(ISNA(AND(A4=VLOOKUP($A4,'REC(an)'!$B$2:$B$33,1,0),A4=VLOOKUP($A4,'INV(an)'!$B$2:$B$16,1,0))),\"\",AND(A4=VLOOKUP($A4,'REC(an)'!$B$2:$B$33,1,0),A4=VLOOKUP($A4,'INV(an)'!$B$2:$B$16,1,0)))","v":true}]
[25013,"2009-05-23",{"$f":"IFERROR(AND(A5=VLOOKUP($A5,'REC(an)'!$B$2:$B$33,1,0),A5=VLOOKUP($A5,'INV(an)'!$B$2:$B$16,1,0)),\"\")","v":true},null,null,null,null,{"$f":"IF(ISNA(AND(A5=VLOOKUP($A5,'REC(an)'!$B$2:$B$33,1,0),A5=VLOOKUP($A5,'INV(an)'!$B$2:$B$16,1,0))),\"\",AND(A5=VLOOKUP($A5,'REC(an)'!$B$2:$B$33,1,0),A5=VLOOKUP($A5,'INV(an)'!$B$2:$B$16,1,0)))","v":true}]
[25014,"2009-05-24",{"$f":"IFERROR(AND(A6=VLOOKUP($A6,'REC(an)'!$B$2:$B$33,1,0),A6=VLOOKUP($A6,'INV(an)'!$B$2:$B$16,1,0)),\"\")","v":true},null,null,null,null,{"$f":"IF(ISNA(AND(A6=VLOOKUP($A6,'REC(an)'!$B$2:$B$33,1,0),A6=VLOOKUP($A6,'INV(an)'!$B$2:$B$16,1,0))),\"\",AND(A6=VLOOKUP($A6,'REC(an)'!$B$2:$B$33,1,0),A6=VLOOKUP($A6,'INV(an)'!$B$2:$B$16,1,0)))","v":true}]
[25015,"2009-05-25",{"$f":"IFERROR(AND(A7=VLOOKUP($A7,'REC(an)'!$B$2:$B$33,1,0),A7=VLOOKUP($A7,'INV(an)'!$B$2:$B$16,1,0)),\"\")","v":""},null,null,null,null,{"$f":"IF(ISNA(AND(A7=VLOOKUP($A7,'REC(an)'!$B$2:$B$33,1,0),A7=VLOOKUP($A7,'INV(an)'!$B$2:$B$16,1,0))),\"\",AND(A7=VLOOKUP($A7,'REC(an)'!$B$2:$B$33,1,0),A7=VLOOKUP($A7,'INV(an)'!$B$2:$B$16,1,0)))","v":""}]
[25016,"2009-05-26",{"$f":"IFERROR(AND(A8=VLOOKUP($A8,'REC(an)'!$B$2:$B$33,1,0),A8=VLOOKUP($A8,'INV(an)'!$B$2:$B$16,1,0)),\"\")","v":""},null,null,null,null,{"$f":"IF(ISNA(AND(A8=VLOOKUP($A8,'REC(an)'!$B$2:$B$33,1,0),A8=VLOOKUP($A8,'INV(an)'!$B$2:$B$16,1,0))),\"\",AND(A8=VLOOKUP($A8,'REC(an)'!$B$2:$B$33,1,0),A8=VLOOKUP($A8,'INV(an)'!$B$2:$B$16,1,0)))","v":""}]
[25017,"2009-05-27",{"$f":"IFERROR(AND(A9=VLOOKUP($A9,'REC(an)'!$B$2:$B$33,1,0),A9=VLOOKUP($A9,'INV(an)'!$B$2:$B$16,1,0)),\"\")","v":""},null,null,null,null,{"$f":"IF(ISNA(AND(A9=VLOOKUP($A9,'REC(an)'!$B$2:$B$33,1,0),A9=VLOOKUP($A9,'INV(an)'!$B$2:$B$16,1,0))),\"\",AND(A9=VLOOKUP($A9,'REC(an)'!$B$2:$B$33,1,0),A9=VLOOKUP($A9,'INV(an)'!$B$2:$B$16,1,0)))","v":""}]
[25018,"2009-05-28",{"$f":"IFERROR(AND(A10=VLOOKUP($A10,'REC(an)'!$B$2:$B$33,1,0),A10=VLOOKUP($A10,'INV(an)'!$B$2:$B$16,1,0)),\"\")","v":""},null,null,null,null,{"$f":"IF(ISNA(AND(A10=VLOOKUP($A10,'REC(an)'!$B$2:$B$33,1,0),A10=VLOOKUP($A10,'INV(an)'!$B$2:$B$16,1,0))),\"\",AND(A10=VLOOKUP($A10,'REC(an)'!$B$2:$B$33,1,0),A10=VLOOKUP($A10,'INV(an)'!$B$2:$B$16,1,0)))","v":""}]
[25019,"2009-05-29",{"$f":"IFERROR(AND(A11=VLOOKUP($A11,'REC(an)'!$B$2:$B$33,1,0),A11=VLOOKUP($A11,'INV(an)'!$B$2:$B$16,1,0)),\"\")","v":""},null,null,null,null,{"$f":"IF(ISNA(AND(A11=VLOOKUP($A11,'REC(an)'!$B$2:$B$33,1,0),A11=VLOOKUP($A11,'INV(an)'!$B$2:$B$16,1,0))),\"\",AND(A11=VLOOKUP($A11,'REC(an)'!$B$2:$B$33,1,0),A11=VLOOKUP($A11,'INV(an)'!$B$2:$B$16,1,0)))","v":""}]
[25020,"2009-05-30",{"$f":"IFERROR(AND(A12=VLOOKUP($A12,'REC(an)'!$B$2:$B$33,1,0),A12=VLOOKUP($A12,'INV(an)'!$B$2:$B$16,1,0)),\"\")","v":""},null,null,null,null,{"$f":"IF(ISNA(AND(A12=VLOOKUP($A12,'REC(an)'!$B$2:$B$33,1,0),A12=VLOOKUP($A12,'INV(an)'!$B$2:$B$16,1,0))),\"\",AND(A12=VLOOKUP($A12,'REC(an)'!$B$2:$B$33,1,0),A12=VLOOKUP($A12,'INV(an)'!$B$2:$B$16,1,0)))","v":""}]
[25021,"2009-05-31",{"$f":"IFERROR(AND(A13=VLOOKUP($A13,'REC(an)'!$B$2:$B$33,1,0),A13=VLOOKUP($A13,'INV(an)'!$B$2:$B$16,1,0)),\"\")","v":""},null,null,null,null,{"$f":"IF(ISNA(AND(A13=VLOOKUP($A13,'REC(an)'!$B$2:$B$33,1,0),A13=VLOOKUP($A13,'INV(an)'!$B$2:$B$16,1,0))),\"\",AND(A13=VLOOKUP($A13,'REC(an)'!$B$2:$B$33,1,0),A13=VLOOKUP($A13,'INV(an)'!$B$2:$B$16,1,0)))","v":""}]
[25022,"2009-06-01",{"$f":"IFERROR(AND(A14=VLOOKUP($A14,'REC(an)'!$B$2:$B$33,1,0),A14=VLOOKUP($A14,'INV(an)'!$B$2:$B$16,1,0)),\"\")","v":""},null,null,null,null,{"$f":"IF(ISNA(AND(A14=VLOOKUP($A14,'REC(an)'!$B$2:$B$33,1,0),A14=VLOOKUP($A14,'INV(an)'!$B$2:$B$16,1,0))),\"\",AND(A14=VLOOKUP($A14,'REC(an)'!$B$2:$B$33,1,0),A14=VLOOKUP($A14,'INV(an)'!$B$2:$B$16,1,0)))","v":""}]
[25023,"2009-06-02",{"$f":"IFERROR(AND(A15=VLOOKUP($A15,'REC(an)'!$B$2:$B$33,1,0),A15=VLOOKUP($A15,'INV(an)'!$B$2:$B$16,1,0)),\"\")","v":""},null,null,null,null,{"$f":"IF(ISNA(AND(A15=VLOOKUP($A15,'REC(an)'!$B$2:$B$33,1,0),A15=VLOOKUP($A15,'INV(an)'!$B$2:$B$16,1,0))),\"\",AND(A15=VLOOKUP($A15,'REC(an)'!$B$2:$B$33,1,0),A15=VLOOKUP($A15,'INV(an)'!$B$2:$B$16,1,0)))","v":""}]
[25024,"2009-06-03",{"$f":"IFERROR(AND(A16=VLOOKUP($A16,'REC(an)'!$B$2:$B$33,1,0),A16=VLOOKUP($A16,'INV(an)'!$B$2:$B$16,1,0)),\"\")","v":""},null,null,null,null,{"$f":"IF(ISNA(AND(A16=VLOOKUP($A16,'REC(an)'!$B$2:$B$33,1,0),A16=VLOOKUP($A16,'INV(an)'!$B$2:$B$16,1,0))),\"\",AND(A16=VLOOKUP($A16,'REC(an)'!$B$2:$B$33,1,0),A16=VLOOKUP($A16,'INV(an)'!$B$2:$B$16,1,0)))","v":""}]
[25025,"2009-06-04",{"$f":"IFERROR(AND(A17=VLOOKUP($A17,'REC(an)'!$B$2:$B$33,1,0),A17=VLOOKUP($A17,'INV(an)'!$B$2:$B$16,1,0)),\"\")","v":""},null,null,null,null,{"$f":"IF(ISNA(AND(A17=VLOOKUP($A17,'REC(an)'!$B$2:$B$33,1,0),A17=VLOOKUP($A17,'INV(an)'!$B$2:$B$16,1,0))),\"\",AND(A17=VLOOKUP($A17,'REC(an)'!$B$2:$B$33,1,0),A17=VLOOKUP($A17,'INV(an)'!$B$2:$B$16,1,0)))","v":""}]
[25026,"2009-06-05",{"$f":"IFERROR(AND(A18=VLOOKUP($A18,'REC(an)'!$B$2:$B$33,1,0),A18=VLOOKUP($A18,'INV(an)'!$B$2:$B$16,1,0)),\"\")","v":true},null,null,null,null,{"$f":"IF(ISNA(AND(A18=VLOOKUP($A18,'REC(an)'!$B$2:$B$33,1,0),A18=VLOOKUP($A18,'INV(an)'!$B$2:$B$16,1,0))),\"\",AND(A18=VLOOKUP($A18,'REC(an)'!$B$2:$B$33,1,0),A18=VLOOKUP($A18,'INV(an)'!$B$2:$B$16,1,0)))","v":true}]
[25027,"2009-06-06",{"$f":"IFERROR(AND(A19=VLOOKUP($A19,'REC(an)'!$B$2:$B$33,1,0),A19=VLOOKUP($A19,'INV(an)'!$B$2:$B$16,1,0)),\"\")","v":true},null,null,null,null,{"$f":"IF(ISNA(AND(A19=VLOOKUP($A19,'REC(an)'!$B$2:$B$33,1,0),A19=VLOOKUP($A19,'INV(an)'!$B$2:$B$16,1,0))),\"\",AND(A19=VLOOKUP($A19,'REC(an)'!$B$2:$B$33,1,0),A19=VLOOKUP($A19,'INV(an)'!$B$2:$B$16,1,0)))","v":true}]
[25028,"2009-06-07",{"$f":"IFERROR(AND(A20=VLOOKUP($A20,'REC(an)'!$B$2:$B$33,1,0),A20=VLOOKUP($A20,'INV(an)'!$B$2:$B$16,1,0)),\"\")","v":true},null,null,null,null,{"$f":"IF(ISNA(AND(A20=VLOOKUP($A20,'REC(an)'!$B$2:$B$33,1,0),A20=VLOOKUP($A20,'INV(an)'!$B$2:$B$16,1,0))),\"\",AND(A20=VLOOKUP($A20,'REC(an)'!$B$2:$B$33,1,0),A20=VLOOKUP($A20,'INV(an)'!$B$2:$B$16,1,0)))","v":true}]
[25029,"2009-06-08",{"$f":"IFERROR(AND(A21=VLOOKUP($A21,'REC(an)'!$B$2:$B$33,1,0),A21=VLOOKUP($A21,'INV(an)'!$B$2:$B$16,1,0)),\"\")","v":""},null,null,null,null,{"$f":"IF(ISNA(AND(A21=VLOOKUP($A21,'REC(an)'!$B$2:$B$33,1,0),A21=VLOOKUP($A21,'INV(an)'!$B$2:$B$16,1,0))),\"\",AND(A21=VLOOKUP($A21,'REC(an)'!$B$2:$B$33,1,0),A21=VLOOKUP($A21,'INV(an)'!$B$2:$B$16,1,0)))","v":""}]
[25030,"2009-06-09",{"$f":"IFERROR(AND(A22=VLOOKUP($A22,'REC(an)'!$B$2:$B$33,1,0),A22=VLOOKUP($A22,'INV(an)'!$B$2:$B$16,1,0)),\"\")","v":true},null,null,null,null,{"$f":"IF(ISNA(AND(A22=VLOOKUP($A22,'REC(an)'!$B$2:$B$33,1,0),A22=VLOOKUP($A22,'INV(an)'!$B$2:$B$16,1,0))),\"\",AND(A22=VLOOKUP($A22,'REC(an)'!$B$2:$B$33,1,0),A22=VLOOKUP($A22,'INV(an)'!$B$2:$B$16,1,0)))","v":true}]
[25031,"2009-06-10",{"$f":"IFERROR(AND(A23=VLOOKUP($A23,'REC(an)'!$B$2:$B$33,1,0),A23=VLOOKUP($A23,'INV(an)'!$B$2:$B$16,1,0)),\"\")","v":""},null,null,null,null,{"$f":"IF(ISNA(AND(A23=VLOOKUP($A23,'REC(an)'!$B$2:$B$33,1,0),A23=VLOOKUP($A23,'INV(an)'!$B$2:$B$16,1,0))),\"\",AND(A23=VLOOKUP($A23,'REC(an)'!$B$2:$B$33,1,0),A23=VLOOKUP($A23,'INV(an)'!$B$2:$B$16,1,0)))","v":""}]
[25032,"2009-06-11",{"$f":"IFERROR(AND(A24=VLOOKUP($A24,'REC(an)'!$B$2:$B$33,1,0),A24=VLOOKUP($A24,'INV(an)'!$B$2:$B$16,1,0)),\"\")","v":""},null,null,null,null,{"$f":"IF(ISNA(AND(A24=VLOOKUP($A24,'REC(an)'!$B$2:$B$33,1,0),A24=VLOOKUP($A24,'INV(an)'!$B$2:$B$16,1,0))),\"\",AND(A24=VLOOKUP($A24,'REC(an)'!$B$2:$B$33,1,0),A24=VLOOKUP($A24,'INV(an)'!$B$2:$B$16,1,0)))","v":""}]
[25033,"2009-06-12",{"$f":"IFERROR(AND(A25=VLOOKUP($A25,'REC(an)'!$B$2:$B$33,1,0),A25=VLOOKUP($A25,'INV(an)'!$B$2:$B$16,1,0)),\"\")","v":""},null,null,null,null,{"$f":"IF(ISNA(AND(A25=VLOOKUP($A25,'REC(an)'!$B$2:$B$33,1,0),A25=VLOOKUP($A25,'INV(an)'!$B$2:$B$16,1,0))),\"\",AND(A25=VLOOKUP($A25,'REC(an)'!$B$2:$B$33,1,0),A25=VLOOKUP($A25,'INV(an)'!$B$2:$B$16,1,0)))","v":""}]
[25034,"2009-06-13",{"$f":"IFERROR(AND(A26=VLOOKUP($A26,'REC(an)'!$B$2:$B$33,1,0),A26=VLOOKUP($A26,'INV(an)'!$B$2:$B$16,1,0)),\"\")","v":true},null,null,null,null,{"$f":"IF(ISNA(AND(A26=VLOOKUP($A26,'REC(an)'!$B$2:$B$33,1,0),A26=VLOOKUP($A26,'INV(an)'!$B$2:$B$16,1,0))),\"\",AND(A26=VLOOKUP($A26,'REC(an)'!$B$2:$B$33,1,0),A26=VLOOKUP($A26,'INV(an)'!$B$2:$B$16,1,0)))","v":true}]
[25035,"2009-06-14",{"$f":"IFERROR(AND(A27=VLOOKUP($A27,'REC(an)'!$B$2:$B$33,1,0),A27=VLOOKUP($A27,'INV(an)'!$B$2:$B$16,1,0)),\"\")","v":""},null,null,null,null,{"$f":"IF(ISNA(AND(A27=VLOOKUP($A27,'REC(an)'!$B$2:$B$33,1,0),A27=VLOOKUP($A27,'INV(an)'!$B$2:$B$16,1,0))),\"\",AND(A27=VLOOKUP($A27,'REC(an)'!$B$2:$B$33,1,0),A27=VLOOKUP($A27,'INV(an)'!$B$2:$B$16,1,0)))","v":""}]
[25036,"2009-06-15",{"$f":"IFERROR(AND(A28=VLOOKUP($A28,'REC(an)'!$B$2:$B$33,1,0),A28=VLOOKUP($A28,'INV(an)'!$B$2:$B$16,1,0)),\"\")","v":""},null,null,null,null,{"$f":"IF(ISNA(AND(A28=VLOOKUP($A28,'REC(an)'!$B$2:$B$33,1,0),A28=VLOOKUP($A28,'INV(an)'!$B$2:$B$16,1,0))),\"\",AND(A28=VLOOKUP($A28,'REC(an)'!$B$2:$B$33,1,0),A28=VLOOKUP($A28,'INV(an)'!$B$2:$B$16,1,0)))","v":""}]
[25037,"2009-06-16",{"$f":"IFERROR(AND(A29=VLOOKUP($A29,'REC(an)'!$B$2:$B$33,1,0),A29=VLOOKUP($A29,'INV(an)'!$B$2:$B$16,1,0)),\"\")","v":""},null,null,null,null,{"$f":"IF(ISNA(AND(A29=VLOOKUP($A29,'REC(an)'!$B$2:$B$33,1,0),A29=VLOOKUP($A29,'INV(an)'!$B$2:$B$16,1,0))),\"\",AND(A29=VLOOKUP($A29,'REC(an)'!$B$2:$B$33,1,0),A29=VLOOKUP($A29,'INV(an)'!$B$2:$B$16,1,0)))","v":""}]
[25038,"2009-06-17",{"$f":"IFERROR(AND(A30=VLOOKUP($A30,'REC(an)'!$B$2:$B$33,1,0),A30=VLOOKUP($A30,'INV(an)'!$B$2:$B$16,1,0)),\"\")","v":true},null,null,null,null,{"$f":"IF(ISNA(AND(A30=VLOOKUP($A30,'REC(an)'!$B$2:$B$33,1,0),A30=VLOOKUP($A30,'INV(an)'!$B$2:$B$16,1,0))),\"\",AND(A30=VLOOKUP($A30,'REC(an)'!$B$2:$B$33,1,0),A30=VLOOKUP($A30,'INV(an)'!$B$2:$B$16,1,0)))","v":true}]
[25039,"2009-06-18",{"$f":"IFERROR(AND(A31=VLOOKUP($A31,'REC(an)'!$B$2:$B$33,1,0),A31=VLOOKUP($A31,'INV(an)'!$B$2:$B$16,1,0)),\"\")","v":""},null,null,null,null,{"$f":"IF(ISNA(AND(A31=VLOOKUP($A31,'REC(an)'!$B$2:$B$33,1,0),A31=VLOOKUP($A31,'INV(an)'!$B$2:$B$16,1,0))),\"\",AND(A31=VLOOKUP($A31,'REC(an)'!$B$2:$B$33,1,0),A31=VLOOKUP($A31,'INV(an)'!$B$2:$B$16,1,0)))","v":""}]
[25040,"2009-06-19",{"$f":"IFERROR(AND(A32=VLOOKUP($A32,'REC(an)'!$B$2:$B$33,1,0),A32=VLOOKUP($A32,'INV(an)'!$B$2:$B$16,1,0)),\"\")","v":""},null,null,null,null,{"$f":"IF(ISNA(AND(A32=VLOOKUP($A32,'REC(an)'!$B$2:$B$33,1,0),A32=VLOOKUP($A32,'INV(an)'!$B$2:$B$16,1,0))),\"\",AND(A32=VLOOKUP($A32,'REC(an)'!$B$2:$B$33,1,0),A32=VLOOKUP($A32,'INV(an)'!$B$2:$B$16,1,0)))","v":""}]
[25041,"2009-06-20",{"$f":"IFERROR(AND(A33=VLOOKUP($A33,'REC(an)'!$B$2:$B$33,1,0),A33=VLOOKUP($A33,'INV(an)'!$B$2:$B$16,1,0)),\"\")","v":""},null,null,null,null,{"$f":"IF(ISNA(AND(A33=VLOOKUP($A33,'REC(an)'!$B$2:$B$33,1,0),A33=VLOOKUP($A33,'INV(an)'!$B$2:$B$16,1,0))),\"\",AND(A33=VLOOKUP($A33,'REC(an)'!$B$2:$B$33,1,0),A33=VLOOKUP($A33,'INV(an)'!$B$2:$B$16,1,0)))","v":""}]
[25042,"2009-06-21",{"$f":"IFERROR(AND(A34=VLOOKUP($A34,'REC(an)'!$B$2:$B$33,1,0),A34=VLOOKUP($A34,'INV(an)'!$B$2:$B$16,1,0)),\"\")","v":true},null,null,null,null,{"$f":"IF(ISNA(AND(A34=VLOOKUP($A34,'REC(an)'!$B$2:$B$33,1,0),A34=VLOOKUP($A34,'INV(an)'!$B$2:$B$16,1,0))),\"\",AND(A34=VLOOKUP($A34,'REC(an)'!$B$2:$B$33,1,0),A34=VLOOKUP($A34,'INV(an)'!$B$2:$B$16,1,0)))","v":true}]
[25043,"2009-06-22",{"$f":"IFERROR(AND(A35=VLOOKUP($A35,'REC(an)'!$B$2:$B$33,1,0),A35=VLOOKUP($A35,'INV(an)'!$B$2:$B$16,1,0)),\"\")","v":""},null,null,null,null,{"$f":"IF(ISNA(AND(A35=VLOOKUP($A35,'REC(an)'!$B$2:$B$33,1,0),A35=VLOOKUP($A35,'INV(an)'!$B$2:$B$16,1,0))),\"\",AND(A35=VLOOKUP($A35,'REC(an)'!$B$2:$B$33,1,0),A35=VLOOKUP($A35,'INV(an)'!$B$2:$B$16,1,0)))","v":""}]
[25044,"2009-06-23",{"$f":"IFERROR(AND(A36=VLOOKUP($A36,'REC(an)'!$B$2:$B$33,1,0),A36=VLOOKUP($A36,'INV(an)'!$B$2:$B$16,1,0)),\"\")","v":""},null,null,null,null,{"$f":"IF(ISNA(AND(A36=VLOOKUP($A36,'REC(an)'!$B$2:$B$33,1,0),A36=VLOOKUP($A36,'INV(an)'!$B$2:$B$16,1,0))),\"\",AND(A36=VLOOKUP($A36,'REC(an)'!$B$2:$B$33,1,0),A36=VLOOKUP($A36,'INV(an)'!$B$2:$B$16,1,0)))","v":""}]
[25045,"2009-06-24",{"$f":"IFERROR(AND(A37=VLOOKUP($A37,'REC(an)'!$B$2:$B$33,1,0),A37=VLOOKUP($A37,'INV(an)'!$B$2:$B$16,1,0)),\"\")","v":""},null,null,null,null,{"$f":"IF(ISNA(AND(A37=VLOOKUP($A37,'REC(an)'!$B$2:$B$33,1,0),A37=VLOOKUP($A37,'INV(an)'!$B$2:$B$16,1,0))),\"\",AND(A37=VLOOKUP($A37,'REC(an)'!$B$2:$B$33,1,0),A37=VLOOKUP($A37,'INV(an)'!$B$2:$B$16,1,0)))","v":""}]
[25046,"2009-06-25",{"$f":"IFERROR(AND(A38=VLOOKUP($A38,'REC(an)'!$B$2:$B$33,1,0),A38=VLOOKUP($A38,'INV(an)'!$B$2:$B$16,1,0)),\"\")","v":true},null,null,null,null,{"$f":"IF(ISNA(AND(A38=VLOOKUP($A38,'REC(an)'!$B$2:$B$33,1,0),A38=VLOOKUP($A38,'INV(an)'!$B$2:$B$16,1,0))),\"\",AND(A38=VLOOKUP($A38,'REC(an)'!$B$2:$B$33,1,0),A38=VLOOKUP($A38,'INV(an)'!$B$2:$B$16,1,0)))","v":true}]
[25047,"2009-06-26",{"$f":"IFERROR(AND(A39=VLOOKUP($A39,'REC(an)'!$B$2:$B$33,1,0),A39=VLOOKUP($A39,'INV(an)'!$B$2:$B$16,1,0)),\"\")","v":""},null,null,null,null,{"$f":"IF(ISNA(AND(A39=VLOOKUP($A39,'REC(an)'!$B$2:$B$33,1,0),A39=VLOOKUP($A39,'INV(an)'!$B$2:$B$16,1,0))),\"\",AND(A39=VLOOKUP($A39,'REC(an)'!$B$2:$B$33,1,0),A39=VLOOKUP($A39,'INV(an)'!$B$2:$B$16,1,0)))","v":""}]
[25048,"2009-06-27",{"$f":"IFERROR(AND(A40=VLOOKUP($A40,'REC(an)'!$B$2:$B$33,1,0),A40=VLOOKUP($A40,'INV(an)'!$B$2:$B$16,1,0)),\"\")","v":""},null,null,null,null,{"$f":"IF(ISNA(AND(A40=VLOOKUP($A40,'REC(an)'!$B$2:$B$33,1,0),A40=VLOOKUP($A40,'INV(an)'!$B$2:$B$16,1,0))),\"\",AND(A40=VLOOKUP($A40,'REC(an)'!$B$2:$B$33,1,0),A40=VLOOKUP($A40,'INV(an)'!$B$2:$B$16,1,0)))","v":""}]
[25049,"2009-06-28",{"$f":"IFERROR(AND(A41=VLOOKUP($A41,'REC(an)'!$B$2:$B$33,1,0),A41=VLOOKUP($A41,'INV(an)'!$B$2:$B$16,1,0)),\"\")","v":""},null,null,null,null,{"$f":"IF(ISNA(AND(A41=VLOOKUP($A41,'REC(an)'!$B$2:$B$33,1,0),A41=VLOOKUP($A41,'INV(an)'!$B$2:$B$16,1,0))),\"\",AND(A41=VLOOKUP($A41,'REC(an)'!$B$2:$B$33,1,0),A41=VLOOKUP($A41,'INV(an)'!$B$2:$B$16,1,0)))","v":""}]
[25050,"2009-06-29",{"$f":"IFERROR(AND(A42=VLOOKUP($A42,'REC(an)'!$B$2:$B$33,1,0),A42=VLOOKUP($A42,'INV(an)'!$B$2:$B$16,1,0)),\"\")","v":true},null,null,null,null,{"$f":"IF(ISNA(AND(A42=VLOOKUP($A42,'REC(an)'!$B$2:$B$33,1,0),A42=VLOOKUP($A42,'INV(an)'!$B$2:$B$16,1,0))),\"\",AND(A42=VLOOKUP($A42,'REC(an)'!$B$2:$B$33,1,0),A42=VLOOKUP($A42,'INV(an)'!$B$2:$B$16,1,0)))","v":true}]
[25051,"2009-06-30",{"$f":"IFERROR(AND(A43=VLOOKUP($A43,'REC(an)'!$B$2:$B$33,1,0),A43=VLOOKUP($A43,'INV(an)'!$B$2:$B$16,1,0)),\"\")","v":""},null,null,null,null,{"$f":"IF(ISNA(AND(A43=VLOOKUP($A43,'REC(an)'!$B$2:$B$33,1,0),A43=VLOOKUP($A43,'INV(an)'!$B$2:$B$16,1,0))),\"\",AND(A43=VLOOKUP($A43,'REC(an)'!$B$2:$B$33,1,0),A43=VLOOKUP($A43,'INV(an)'!$B$2:$B$16,1,0)))","v":""}]
[25052,"2009-07-01",{"$f":"IFERROR(AND(A44=VLOOKUP($A44,'REC(an)'!$B$2:$B$33,1,0),A44=VLOOKUP($A44,'INV(an)'!$B$2:$B$16,1,0)),\"\")","v":""},null,null,null,null,{"$f":"IF(ISNA(AND(A44=VLOOKUP($A44,'REC(an)'!$B$2:$B$33,1,0),A44=VLOOKUP($A44,'INV(an)'!$B$2:$B$16,1,0))),\"\",AND(A44=VLOOKUP($A44,'REC(an)'!$B$2:$B$33,1,0),A44=VLOOKUP($A44,'INV(an)'!$B$2:$B$16,1,0)))","v":""}]
[25053,"2009-07-02",{"$f":"IFERROR(AND(A45=VLOOKUP($A45,'REC(an)'!$B$2:$B$33,1,0),A45=VLOOKUP($A45,'INV(an)'!$B$2:$B$16,1,0)),\"\")","v":""},null,null,null,null,{"$f":"IF(ISNA(AND(A45=VLOOKUP($A45,'REC(an)'!$B$2:$B$33,1,0),A45=VLOOKUP($A45,'INV(an)'!$B$2:$B$16,1,0))),\"\",AND(A45=VLOOKUP($A45,'REC(an)'!$B$2:$B$33,1,0),A45=VLOOKUP($A45,'INV(an)'!$B$2:$B$16,1,0)))","v":""}]
[25054,"2009-07-03",{"$f":"IFERROR(AND(A46=VLOOKUP($A46,'REC(an)'!$B$2:$B$33,1,0),A46=VLOOKUP($A46,'INV(an)'!$B$2:$B$16,1,0)),\"\")","v":""},null,null,null,null,{"$f":"IF(ISNA(AND(A46=VLOOKUP($A46,'REC(an)'!$B$2:$B$33,1,0),A46=VLOOKUP($A46,'INV(an)'!$B$2:$B$16,1,0))),\"\",AND(A46=VLOOKUP($A46,'REC(an)'!$B$2:$B$33,1,0),A46=VLOOKUP($A46,'INV(an)'!$B$2:$B$16,1,0)))","v":""}]
[25055,"2009-07-04",{"$f":"IFERROR(AND(A47=VLOOKUP($A47,'REC(an)'!$B$2:$B$33,1,0),A47=VLOOKUP($A47,'INV(an)'!$B$2:$B$16,1,0)),\"\")","v":""},null,null,null,null,{"$f":"IF(ISNA(AND(A47=VLOOKUP($A47,'REC(an)'!$B$2:$B$33,1,0),A47=VLOOKUP($A47,'INV(an)'!$B$2:$B$16,1,0))),\"\",AND(A47=VLOOKUP($A47,'REC(an)'!$B$2:$B$33,1,0),A47=VLOOKUP($A47,'INV(an)'!$B$2:$B$16,1,0)))","v":""}]
[25056,"2009-07-05",{"$f":"IFERROR(AND(A48=VLOOKUP($A48,'REC(an)'!$B$2:$B$33,1,0),A48=VLOOKUP($A48,'INV(an)'!$B$2:$B$16,1,0)),\"\")","v":""},null,null,null,null,{"$f":"IF(ISNA(AND(A48=VLOOKUP($A48,'REC(an)'!$B$2:$B$33,1,0),A48=VLOOKUP($A48,'INV(an)'!$B$2:$B$16,1,0))),\"\",AND(A48=VLOOKUP($A48,'REC(an)'!$B$2:$B$33,1,0),A48=VLOOKUP($A48,'INV(an)'!$B$2:$B$16,1,0)))","v":""}]
[25057,"2009-07-06",{"$f":"IFERROR(AND(A49=VLOOKUP($A49,'REC(an)'!$B$2:$B$33,1,0),A49=VLOOKUP($A49,'INV(an)'!$B$2:$B$16,1,0)),\"\")","v":""},null,null,null,null,{"$f":"IF(ISNA(AND(A49=VLOOKUP($A49,'REC(an)'!$B$2:$B$33,1,0),A49=VLOOKUP($A49,'INV(an)'!$B$2:$B$16,1,0))),\"\",AND(A49=VLOOKUP($A49,'REC(an)'!$B$2:$B$33,1,0),A49=VLOOKUP($A49,'INV(an)'!$B$2:$B$16,1,0)))","v":""}]
[25058,"2009-07-07",{"$f":"IFERROR(AND(A50=VLOOKUP($A50,'REC(an)'!$B$2:$B$33,1,0),A50=VLOOKUP($A50,'INV(an)'!$B$2:$B$16,1,0)),\"\")","v":""},null,null,null,null,{"$f":"IF(ISNA(AND(A50=VLOOKUP($A50,'REC(an)'!$B$2:$B$33,1,0),A50=VLOOKUP($A50,'INV(an)'!$B$2:$B$16,1,0))),\"\",AND(A50=VLOOKUP($A50,'REC(an)'!$B$2:$B$33,1,0),A50=VLOOKUP($A50,'INV(an)'!$B$2:$B$16,1,0)))","v":""}]
[25059,"2009-07-08",{"$f":"IFERROR(AND(A51=VLOOKUP($A51,'REC(an)'!$B$2:$B$33,1,0),A51=VLOOKUP($A51,'INV(an)'!$B$2:$B$16,1,0)),\"\")","v":""},null,null,null,null,{"$f":"IF(ISNA(AND(A51=VLOOKUP($A51,'REC(an)'!$B$2:$B$33,1,0),A51=VLOOKUP($A51,'INV(an)'!$B$2:$B$16,1,0))),\"\",AND(A51=VLOOKUP($A51,'REC(an)'!$B$2:$B$33,1,0),A51=VLOOKUP($A51,'INV(an)'!$B$2:$B$16,1,0)))","v":""}]
[25060,"2009-07-09",{"$f":"IFERROR(AND(A52=VLOOKUP($A52,'REC(an)'!$B$2:$B$33,1,0),A52=VLOOKUP($A52,'INV(an)'!$B$2:$B$16,1,0)),\"\")","v":""},null,null,null,null,{"$f":"IF(ISNA(AND(A52=VLOOKUP($A52,'REC(an)'!$B$2:$B$33,1,0),A52=VLOOKUP($A52,'INV(an)'!$B$2:$B$16,1,0))),\"\",AND(A52=VLOOKUP($A52,'REC(an)'!$B$2:$B$33,1,0),A52=VLOOKUP($A52,'INV(an)'!$B$2:$B$16,1,0)))","v":""}]
[25061,"2009-07-10",{"$f":"IFERROR(AND(A53=VLOOKUP($A53,'REC(an)'!$B$2:$B$33,1,0),A53=VLOOKUP($A53,'INV(an)'!$B$2:$B$16,1,0)),\"\")","v":""},null,null,null,null,{"$f":"IF(ISNA(AND(A53=VLOOKUP($A53,'REC(an)'!$B$2:$B$33,1,0),A53=VLOOKUP($A53,'INV(an)'!$B$2:$B$16,1,0))),\"\",AND(A53=VLOOKUP($A53,'REC(an)'!$B$2:$B$33,1,0),A53=VLOOKUP($A53,'INV(an)'!$B$2:$B$16,1,0)))","v":""}]
[25062,"2009-07-11",{"$f":"IFERROR(AND(A54=VLOOKUP($A54,'REC(an)'!$B$2:$B$33,1,0),A54=VLOOKUP($A54,'INV(an)'!$B$2:$B$16,1,0)),\"\")","v":""},null,null,null,null,{"$f":"IF(ISNA(AND(A54=VLOOKUP($A54,'REC(an)'!$B$2:$B$33,1,0),A54=VLOOKUP($A54,'INV(an)'!$B$2:$B$16,1,0))),\"\",AND(A54=VLOOKUP($A54,'REC(an)'!$B$2:$B$33,1,0),A54=VLOOKUP($A54,'INV(an)'!$B$2:$B$16,1,0)))","v":""}]
[25063,"2009-07-12",{"$f":"IFERROR(AND(A55=VLOOKUP($A55,'REC(an)'!$B$2:$B$33,1,0),A55=VLOOKUP($A55,'INV(an)'!$B$2:$B$16,1,0)),\"\")","v":""},null,null,null,null,{"$f":"IF(ISNA(AND(A55=VLOOKUP($A55,'REC(an)'!$B$2:$B$33,1,0),A55=VLOOKUP($A55,'INV(an)'!$B$2:$B$16,1,0))),\"\",AND(A55=VLOOKUP($A55,'REC(an)'!$B$2:$B$33,1,0),A55=VLOOKUP($A55,'INV(an)'!$B$2:$B$16,1,0)))","v":""}]
[25064,"2009-07-13",{"$f":"IFERROR(AND(A56=VLOOKUP($A56,'REC(an)'!$B$2:$B$33,1,0),A56=VLOOKUP($A56,'INV(an)'!$B$2:$B$16,1,0)),\"\")","v":""},null,null,null,null,{"$f":"IF(ISNA(AND(A56=VLOOKUP($A56,'REC(an)'!$B$2:$B$33,1,0),A56=VLOOKUP($A56,'INV(an)'!$B$2:$B$16,1,0))),\"\",AND(A56=VLOOKUP($A56,'REC(an)'!$B$2:$B$33,1,0),A56=VLOOKUP($A56,'INV(an)'!$B$2:$B$16,1,0)))","v":""}]
[25065,"2009-07-14",{"$f":"IFERROR(AND(A57=VLOOKUP($A57,'REC(an)'!$B$2:$B$33,1,0),A57=VLOOKUP($A57,'INV(an)'!$B$2:$B$16,1,0)),\"\")","v":""},null,null,null,null,{"$f":"IF(ISNA(AND(A57=VLOOKUP($A57,'REC(an)'!$B$2:$B$33,1,0),A57=VLOOKUP($A57,'INV(an)'!$B$2:$B$16,1,0))),\"\",AND(A57=VLOOKUP($A57,'REC(an)'!$B$2:$B$33,1,0),A57=VLOOKUP($A57,'INV(an)'!$B$2:$B$16,1,0)))","v":""}]
[25066,"2009-07-15",{"$f":"IFERROR(AND(A58=VLOOKUP($A58,'REC(an)'!$B$2:$B$33,1,0),A58=VLOOKUP($A58,'INV(an)'!$B$2:$B$16,1,0)),\"\")","v":""},null,null,null,null,{"$f":"IF(ISNA(AND(A58=VLOOKUP($A58,'REC(an)'!$B$2:$B$33,1,0),A58=VLOOKUP($A58,'INV(an)'!$B$2:$B$16,1,0))),\"\",AND(A58=VLOOKUP($A58,'REC(an)'!$B$2:$B$33,1,0),A58=VLOOKUP($A58,'INV(an)'!$B$2:$B$16,1,0)))","v":""}]
[25067,"2009-07-16",{"$f":"IFERROR(AND(A59=VLOOKUP($A59,'REC(an)'!$B$2:$B$33,1,0),A59=VLOOKUP($A59,'INV(an)'!$B$2:$B$16,1,0)),\"\")","v":""},null,null,null,null,{"$f":"IF(ISNA(AND(A59=VLOOKUP($A59,'REC(an)'!$B$2:$B$33,1,0),A59=VLOOKUP($A59,'INV(an)'!$B$2:$B$16,1,0))),\"\",AND(A59=VLOOKUP($A59,'REC(an)'!$B$2:$B$33,1,0),A59=VLOOKUP($A59,'INV(an)'!$B$2:$B$16,1,0)))","v":""}]
[25068,"2009-07-17",{"$f":"IFERROR(AND(A60=VLOOKUP($A60,'REC(an)'!$B$2:$B$33,1,0),A60=VLOOKUP($A60,'INV(an)'!$B$2:$B$16,1,0)),\"\")","v":""},null,null,null,null,{"$f":"IF(ISNA(AND(A60=VLOOKUP($A60,'REC(an)'!$B$2:$B$33,1,0),A60=VLOOKUP($A60,'INV(an)'!$B$2:$B$16,1,0))),\"\",AND(A60=VLOOKUP($A60,'REC(an)'!$B$2:$B$33,1,0),A60=VLOOKUP($A60,'INV(an)'!$B$2:$B$16,1,0)))","v":""}]
[25069,"2009-07-18",{"$f":"IFERROR(AND(A61=VLOOKUP($A61,'REC(an)'!$B$2:$B$33,1,0),A61=VLOOKUP($A61,'INV(an)'!$B$2:$B$16,1,0)),\"\")","v":""},null,null,null,null,{"$f":"IF(ISNA(AND(A61=VLOOKUP($A61,'REC(an)'!$B$2:$B$33,1,0),A61=VLOOKUP($A61,'INV(an)'!$B$2:$B$16,1,0))),\"\",AND(A61=VLOOKUP($A61,'REC(an)'!$B$2:$B$33,1,0),A61=VLOOKUP($A61,'INV(an)'!$B$2:$B$16,1,0)))","v":""}]
[25070,"2009-07-19",{"$f":"IFERROR(AND(A62=VLOOKUP($A62,'REC(an)'!$B$2:$B$33,1,0),A62=VLOOKUP($A62,'INV(an)'!$B$2:$B$16,1,0)),\"\")","v":""},null,null,null,null,{"$f":"IF(ISNA(AND(A62=VLOOKUP($A62,'REC(an)'!$B$2:$B$33,1,0),A62=VLOOKUP($A62,'INV(an)'!$B$2:$B$16,1,0))),\"\",AND(A62=VLOOKUP($A62,'REC(an)'!$B$2:$B$33,1,0),A62=VLOOKUP($A62,'INV(an)'!$B$2:$B$16,1,0)))","v":""}]
[25071,"2009-07-20",{"$f":"IFERROR(AND(A63=VLOOKUP($A63,'REC(an)'!$B$2:$B$33,1,0),A63=VLOOKUP($A63,'INV(an)'!$B$2:$B$16,1,0)),\"\")","v":""},null,null,null,null,{"$f":"IF(ISNA(AND(A63=VLOOKUP($A63,'REC(an)'!$B$2:$B$33,1,0),A63=VLOOKUP($A63,'INV(an)'!$B$2:$B$16,1,0))),\"\",AND(A63=VLOOKUP($A63,'REC(an)'!$B$2:$B$33,1,0),A63=VLOOKUP($A63,'INV(an)'!$B$2:$B$16,1,0)))","v":""}]
[25072,"2009-07-21",{"$f":"IFERROR(AND(A64=VLOOKUP($A64,'REC(an)'!$B$2:$B$33,1,0),A64=VLOOKUP($A64,'INV(an)'!$B$2:$B$16,1,0)),\"\")","v":""},null,null,null,null,{"$f":"IF(ISNA(AND(A64=VLOOKUP($A64,'REC(an)'!$B$2:$B$33,1,0),A64=VLOOKUP($A64,'INV(an)'!$B$2:$B$16,1,0))),\"\",AND(A64=VLOOKUP($A64,'REC(an)'!$B$2:$B$33,1,0),A64=VLOOKUP($A64,'INV(an)'!$B$2:$B$16,1,0)))","v":""}]
[25073,"2009-07-22",{"$f":"IFERROR(AND(A65=VLOOKUP($A65,'REC(an)'!$B$2:$B$33,1,0),A65=VLOOKUP($A65,'INV(an)'!$B$2:$B$16,1,0)),\"\")","v":""},null,null,null,null,{"$f":"IF(ISNA(AND(A65=VLOOKUP($A65,'REC(an)'!$B$2:$B$33,1,0),A65=VLOOKUP($A65,'INV(an)'!$B$2:$B$16,1,0))),\"\",AND(A65=VLOOKUP($A65,'REC(an)'!$B$2:$B$33,1,0),A65=VLOOKUP($A65,'INV(an)'!$B$2:$B$16,1,0)))","v":""}]
[25074,"2010-07-21",{"$f":"IFERROR(AND(A66=VLOOKUP($A66,'REC(an)'!$B$2:$B$33,1,0),A66=VLOOKUP($A66,'INV(an)'!$B$2:$B$16,1,0)),\"\")","v":true},null,null,null,null,{"$f":"IF(ISNA(AND(A66=VLOOKUP($A66,'REC(an)'!$B$2:$B$33,1,0),A66=VLOOKUP($A66,'INV(an)'!$B$2:$B$16,1,0))),\"\",AND(A66=VLOOKUP($A66,'REC(an)'!$B$2:$B$33,1,0),A66=VLOOKUP($A66,'INV(an)'!$B$2:$B$16,1,0)))","v":true}]

{"sheet":"REC(an)","index":11,"n_rows":33,"n_cols":3,"rows_kept":33,"cut":false,"hidden":false,"merged":[]}
["Rec#","PO","Date"]
[22620,25010,"2009-05-24"]
[62480,25012,"2010-05-25"]
[71029,25014,"2011-05-26"]
[30367,25011,"2012-05-26"]
[82163,25013,"2013-05-27"]
[96494,25027,"2014-05-28"]
[21960,25028,"2015-05-29"]
[13496,25024,"2016-05-29"]
[47852,25026,"2017-05-30"]
[82319,25028,"2018-05-31"]
[85104,25030,"2019-06-01"]
[27775,25032,"2020-06-01"]
[47124,25034,"2021-06-02"]
[95387,25036,"2022-06-03"]
[91781,25038,"2023-06-04"]
[74449,25040,"2024-06-04"]
[39387,25042,"2025-06-05"]
[41153,25044,"2026-06-06"]
[52367,25046,"2027-06-07"]
[27576,25048,"2028-06-07"]
[24548,25050,"2029-06-08"]
[89055,25052,"2030-06-09"]
[61007,25054,"2031-06-10"]
[63399,25056,"2032-06-10"]
[47086,25058,"2033-06-11"]
[14940,25060,"2034-06-12"]
[80120,25062,"2035-06-13"]
[32820,25064,"2036-06-13"]
[81972,25066,"2037-06-14"]
[49301,25068,"2038-06-15"]
[42262,25070,"2039-06-16"]
[323,25074,"2010-07-22"]

{"sheet":"INV(an)","index":12,"n_rows":16,"n_cols":3,"rows_kept":16,"cut":false,"hidden":false,"merged":[]}
["Inv#","PO","Date"]
["G33398",25010,"2010-05-27"]
["Y96346",25014,"2010-05-28"]
["G15281",25011,"2010-05-28"]
["E66862",25013,"2010-05-29"]
["N13722",25026,"2010-05-30"]
["J84276",25030,"2010-05-31"]
["M14834",25034,"2010-06-01"]
["D58891",25038,"2010-06-02"]
["L50179",25042,"2010-06-03"]
["Z79465",25046,"2010-06-04"]
["J78185",25050,"2010-06-05"]
["P87275",25027,"2010-06-06"]
["J84477",25028,"2010-06-07"]
["rtdtrdrt",25012,"2010-06-08"]
["rtrtrtdd",25074,"2010-07-22"]