{"text_format":"1","workbook":"xlsx","n_sheets":6,"sheets":["GPD SUMIFS","GPD SUMIFS (an)","Sheet6","Data","Sheet5","PP"],"not_rendered":{"charts":0,"images":1,"macros":0,"external_links":0,"defined_names":6,"comments":0,"pivot_tables":2},"unopened":[],"bounds":{"document_bytes":16777216,"sheet_cells":100000,"rows_first":2000,"rows_last":500,"rows_between":2000,"halvings":0,"cell_chars":16384,"cell_head_chars":4096},"cells_cut":0,"cells_raw":0,"read":"whole","date_system":"1900"}

{"sheet":"GPD SUMIFS","index":0,"n_rows":34,"n_cols":16,"rows_kept":34,"cut":false,"hidden":false,"merged":[]}
[null,null,null,null,null,null,null,null,null,"Report Month:",2]
[]
[null,null,null,null,null,null,null,null,null,"Lower","2012-02-01","2013-02-01",null,"2012-01-01","2013-01-01"]
[null,null,null,null,null,null,null,null,null,"Upper",{"$f":"EOMONTH(K3,0)","v":"2012-02-29"},{"$f":"EOMONTH(L3,0)","v":"2013-02-28"},null,{"$f":"EOMONTH(N3,1)","v":"2012-02-29"},{"$f":"EOMONTH(O3,1)","v":"2013-02-28"}]
[null,2012,2013,null,2012,2013]
["Customer","Feb 2012","Feb 2013","Variance","YTD 2012","YTD 2013","Variance",null,null,"Customer","Feb 2012","Feb 2013","Variance","YTD 2012","YTD 2013","Variance"]
["AIG",{"$f":"GETPIVOTDATA(\"Sum of Revenue\",Sheet6!$A$3,\"Date\",RptMo,\"Customer\",$A7,\"Years\",B$5)","v":0},{"$f":"GETPIVOTDATA(\"Sum of Revenue\",Sheet6!$A$3,\"Date\",RptMo,\"Customer\",$A7,\"Years\",C$5)","v":0},{"$f":"IFERROR(C7/B7-1,0)","v":0},{"$f":"GETPIVOTDATA(\"Sum of YTDRev\",Sheet6!$A$3,\"Customer\",$A7,\"Years\",E$5)","v":0},{"$f":"GETPIVOTDATA(\"Sum of YTDRev\",Sheet6!$A$3,\"Customer\",$A7,\"Years\",F$5)","v":0},{"$f":"IFERROR(F7/E7-1,0)","v":0},null,null,"AIG"]
["AT&T",{"$f":"GETPIVOTDATA(\"Sum of Revenue\",Sheet6!$A$3,\"Date\",RptMo,\"Customer\",$A8,\"Years\",B$5)","v":0},{"$f":"GETPIVOTDATA(\"Sum of Revenue\",Sheet6!$A$3,\"Date\",RptMo,\"Customer\",$A8,\"Years\",C$5)","v":0},{"$f":"IFERROR(C8/B8-1,0)","v":0},{"$f":"GETPIVOTDATA(\"Sum of YTDRev\",Sheet6!$A$3,\"Customer\",$A8,\"Years\",E$5)","v":2401},{"$f":"GETPIVOTDATA(\"Sum of YTDRev\",Sheet6!$A$3,\"Customer\",$A8,\"Years\",F$5)","v":11784},{"$f":"IFERROR(F8/E8-1,0)","v":3.9079550187421903},null,null,"AT&T"]
["Bank of America",{"$f":"GETPIVOTDATA(\"Sum of Revenue\",Sheet6!$A$3,\"Date\",RptMo,\"Customer\",$A9,\"Years\",B$5)","v":0},{"$f":"GETPIVOTDATA(\"Sum of Revenue\",Sheet6!$A$3,\"Date\",RptMo,\"Customer\",$A9,\"Years\",C$5)","v":7152},0,{"$f":"GETPIVOTDATA(\"Sum of YTDRev\",Sheet6!$A$3,\"Customer\",$A9,\"Years\",E$5)","v":0},{"$f":"GETPIVOTDATA(\"Sum of YTDRev\",Sheet6!$A$3,\"Customer\",$A9,\"Years\",F$5)","v":7152},0,null,null,"Bank of America"]
["Boeing",{"$f":"GETPIVOTDATA(\"Sum of Revenue\",Sheet6!$A$3,\"Date\",RptMo,\"Customer\",$A10,\"Years\",B$5)","v":16936},{"$f":"GETPIVOTDATA(\"Sum of Revenue\",Sheet6!$A$3,\"Date\",RptMo,\"Customer\",$A10,\"Years\",C$5)","v":0},-1,{"$f":"GETPIVOTDATA(\"Sum of YTDRev\",Sheet6!$A$3,\"Customer\",$A10,\"Years\",E$5)","v":16936},{"$f":"GETPIVOTDATA(\"Sum of YTDRev\",Sheet6!$A$3,\"Customer\",$A10,\"Years\",F$5)","v":0},-1,null,null,"Boeing"]
["Chevron",{"$f":"GETPIVOTDATA(\"Sum of Revenue\",Sheet6!$A$3,\"Date\",RptMo,\"Customer\",$A11,\"Years\",B$5)","v":20610},{"$f":"GETPIVOTDATA(\"Sum of Revenue\",Sheet6!$A$3,\"Date\",RptMo,\"Customer\",$A11,\"Years\",C$5)","v":0},-1,{"$f":"GETPIVOTDATA(\"Sum of YTDRev\",Sheet6!$A$3,\"Customer\",$A11,\"Years\",E$5)","v":20610},{"$f":"GETPIVOTDATA(\"Sum of YTDRev\",Sheet6!$A$3,\"Customer\",$A11,\"Years\",F$5)","v":0},-1,null,null,"Chevron"]
["CitiGroup",{"$f":"GETPIVOTDATA(\"Sum of Revenue\",Sheet6!$A$3,\"Date\",RptMo,\"Customer\",$A12,\"Years\",B$5)","v":15684},{"$f":"GETPIVOTDATA(\"Sum of Revenue\",Sheet6!$A$3,\"Date\",RptMo,\"Customer\",$A12,\"Years\",C$5)","v":12798},-0.18400918133129307,{"$f":"GETPIVOTDATA(\"Sum of YTDRev\",Sheet6!$A$3,\"Customer\",$A12,\"Years\",E$5)","v":48082},{"$f":"GETPIVOTDATA(\"Sum of YTDRev\",Sheet6!$A$3,\"Customer\",$A12,\"Years\",F$5)","v":49553},3.0593569319079972E-2,null,null,"CitiGroup"]
["Compaq",{"$f":"GETPIVOTDATA(\"Sum of Revenue\",Sheet6!$A$3,\"Date\",RptMo,\"Customer\",$A13,\"Years\",B$5)","v":0},{"$f":"GETPIVOTDATA(\"Sum of Revenue\",Sheet6!$A$3,\"Date\",RptMo,\"Customer\",$A13,\"Years\",C$5)","v":0},0,{"$f":"GETPIVOTDATA(\"Sum of YTDRev\",Sheet6!$A$3,\"Customer\",$A13,\"Years\",E$5)","v":0},{"$f":"GETPIVOTDATA(\"Sum of YTDRev\",Sheet6!$A$3,\"Customer\",$A13,\"Years\",F$5)","v":0},0,null,null,"Compaq"]
["Duke Energy",{"$f":"GETPIVOTDATA(\"Sum of Revenue\",Sheet6!$A$3,\"Date\",RptMo,\"Customer\",$A14,\"Years\",B$5)","v":0},{"$f":"GETPIVOTDATA(\"Sum of Revenue\",Sheet6!$A$3,\"Date\",RptMo,\"Customer\",$A14,\"Years\",C$5)","v":0},0,{"$f":"GETPIVOTDATA(\"Sum of YTDRev\",Sheet6!$A$3,\"Customer\",$A14,\"Years\",E$5)","v":0},{"$f":"GETPIVOTDATA(\"Sum of YTDRev\",Sheet6!$A$3,\"Customer\",$A14,\"Years\",F$5)","v":0},0,null,null,"Duke Energy"]
["Exxon",{"$f":"GETPIVOTDATA(\"Sum of Revenue\",Sheet6!$A$3,\"Date\",RptMo,\"Customer\",$A15,\"Years\",B$5)","v":22554},{"$f":"GETPIVOTDATA(\"Sum of Revenue\",Sheet6!$A$3,\"Date\",RptMo,\"Customer\",$A15,\"Years\",C$5)","v":13314},-0.40968342644320299,{"$f":"GETPIVOTDATA(\"Sum of YTDRev\",Sheet6!$A$3,\"Customer\",$A15,\"Years\",E$5)","v":22554},{"$f":"GETPIVOTDATA(\"Sum of YTDRev\",Sheet6!$A$3,\"Customer\",$A15,\"Years\",F$5)","v":52186},1.3138245987407999,null,null,"Exxon"]
["Ford",{"$f":"GETPIVOTDATA(\"Sum of Revenue\",Sheet6!$A$3,\"Date\",RptMo,\"Customer\",$A16,\"Years\",B$5)","v":35115},{"$f":"GETPIVOTDATA(\"Sum of Revenue\",Sheet6!$A$3,\"Date\",RptMo,\"Customer\",$A16,\"Years\",C$5)","v":39704},0.13068489249608439,{"$f":"GETPIVOTDATA(\"Sum of YTDRev\",Sheet6!$A$3,\"Customer\",$A16,\"Years\",E$5)","v":57925},{"$f":"GETPIVOTDATA(\"Sum of YTDRev\",Sheet6!$A$3,\"Customer\",$A16,\"Years\",F$5)","v":39704},-0.31456193353474315,null,null,"Ford"]
["General Electric",{"$f":"GETPIVOTDATA(\"Sum of Revenue\",Sheet6!$A$3,\"Date\",RptMo,\"Customer\",$A17,\"Years\",B$5)","v":36180},{"$f":"GETPIVOTDATA(\"Sum of Revenue\",Sheet6!$A$3,\"Date\",RptMo,\"Customer\",$A17,\"Years\",C$5)","v":52344},0.44676616915422884,{"$f":"GETPIVOTDATA(\"Sum of YTDRev\",Sheet6!$A$3,\"Customer\",$A17,\"Years\",E$5)","v":36180},{"$f":"GETPIVOTDATA(\"Sum of YTDRev\",Sheet6!$A$3,\"Customer\",$A17,\"Years\",F$5)","v":93398},1.5814814814814815,null,null,"General Electric"]
["General Motors",{"$f":"GETPIVOTDATA(\"Sum of Revenue\",Sheet6!$A$3,\"Date\",RptMo,\"Customer\",$A18,\"Years\",B$5)","v":26613},{"$f":"GETPIVOTDATA(\"Sum of Revenue\",Sheet6!$A$3,\"Date\",RptMo,\"Customer\",$A18,\"Years\",C$5)","v":41101},0.54439559613722621,{"$f":"GETPIVOTDATA(\"Sum of YTDRev\",Sheet6!$A$3,\"Customer\",$A18,\"Years\",E$5)","v":98867},{"$f":"GETPIVOTDATA(\"Sum of YTDRev\",Sheet6!$A$3,\"Customer\",$A18,\"Years\",F$5)","v":53773},-0.45610770024376179,null,null,"General Motors"]
["Home Depot",{"$f":"GETPIVOTDATA(\"Sum of Revenue\",Sheet6!$A$3,\"Date\",RptMo,\"Customer\",$A19,\"Years\",B$5)","v":0},{"$f":"GETPIVOTDATA(\"Sum of Revenue\",Sheet6!$A$3,\"Date\",RptMo,\"Customer\",$A19,\"Years\",C$5)","v":0},0,{"$f":"GETPIVOTDATA(\"Sum of YTDRev\",Sheet6!$A$3,\"Customer\",$A19,\"Years\",E$5)","v":0},{"$f":"GETPIVOTDATA(\"Sum of YTDRev\",Sheet6!$A$3,\"Customer\",$A19,\"Years\",F$5)","v":0},0,null,null,"Home Depot"]
["HP",{"$f":"GETPIVOTDATA(\"Sum of Revenue\",Sheet6!$A$3,\"Date\",RptMo,\"Customer\",$A20,\"Years\",B$5)","v":0},{"$f":"GETPIVOTDATA(\"Sum of Revenue\",Sheet6!$A$3,\"Date\",RptMo,\"Customer\",$A20,\"Years\",C$5)","v":0},0,{"$f":"GETPIVOTDATA(\"Sum of YTDRev\",Sheet6!$A$3,\"Customer\",$A20,\"Years\",E$5)","v":0},{"$f":"GETPIVOTDATA(\"Sum of YTDRev\",Sheet6!$A$3,\"Customer\",$A20,\"Years\",F$5)","v":21015},0,null,null,"HP"]
["IBM",{"$f":"GETPIVOTDATA(\"Sum of Revenue\",Sheet6!$A$3,\"Date\",RptMo,\"Customer\",$A21,\"Years\",B$5)","v":19890},{"$f":"GETPIVOTDATA(\"Sum of Revenue\",Sheet6!$A$3,\"Date\",RptMo,\"Customer\",$A21,\"Years\",C$5)","v":38315},0.92634489693313227,{"$f":"GETPIVOTDATA(\"Sum of YTDRev\",Sheet6!$A$3,\"Customer\",$A21,\"Years\",E$5)","v":46891},{"$f":"GETPIVOTDATA(\"Sum of YTDRev\",Sheet6!$A$3,\"Customer\",$A21,\"Years\",F$5)","v":45175},-3.6595508733019089E-2,null,null,"IBM"]
["Kroger",{"$f":"GETPIVOTDATA(\"Sum of Revenue\",Sheet6!$A$3,\"Date\",RptMo,\"Customer\",$A22,\"Years\",B$5)","v":0},{"$f":"GETPIVOTDATA(\"Sum of Revenue\",Sheet6!$A$3,\"Date\",RptMo,\"Customer\",$A22,\"Years\",C$5)","v":0},0,{"$f":"GETPIVOTDATA(\"Sum of YTDRev\",Sheet6!$A$3,\"Customer\",$A22,\"Years\",E$5)","v":0},{"$f":"GETPIVOTDATA(\"Sum of YTDRev\",Sheet6!$A$3,\"Customer\",$A22,\"Years\",F$5)","v":0},0,null,null,"Kroger"]
["Lucent",{"$f":"GETPIVOTDATA(\"Sum of Revenue\",Sheet6!$A$3,\"Date\",RptMo,\"Customer\",$A23,\"Years\",B$5)","v":0},{"$f":"GETPIVOTDATA(\"Sum of Revenue\",Sheet6!$A$3,\"Date\",RptMo,\"Customer\",$A23,\"Years\",C$5)","v":0},0,{"$f":"GETPIVOTDATA(\"Sum of YTDRev\",Sheet6!$A$3,\"Customer\",$A23,\"Years\",E$5)","v":0},{"$f":"GETPIVOTDATA(\"Sum of YTDRev\",Sheet6!$A$3,\"Customer\",$A23,\"Years\",F$5)","v":0},0,null,null,"Lucent"]
["Merck",{"$f":"GETPIVOTDATA(\"Sum of Revenue\",Sheet6!$A$3,\"Date\",RptMo,\"Customer\",$A24,\"Years\",B$5)","v":0},{"$f":"GETPIVOTDATA(\"Sum of Revenue\",Sheet6!$A$3,\"Date\",RptMo,\"Customer\",$A24,\"Years\",C$5)","v":0},0,{"$f":"GETPIVOTDATA(\"Sum of YTDRev\",Sheet6!$A$3,\"Customer\",$A24,\"Years\",E$5)","v":22104},{"$f":"GETPIVOTDATA(\"Sum of YTDRev\",Sheet6!$A$3,\"Customer\",$A24,\"Years\",F$5)","v":0},-1,null,null,"Merck"]
["Motorola",{"$f":"GETPIVOTDATA(\"Sum of Revenue\",Sheet6!$A$3,\"Date\",RptMo,\"Customer\",$A25,\"Years\",B$5)","v":0},{"$f":"GETPIVOTDATA(\"Sum of Revenue\",Sheet6!$A$3,\"Date\",RptMo,\"Customer\",$A25,\"Years\",C$5)","v":0},0,{"$f":"GETPIVOTDATA(\"Sum of YTDRev\",Sheet6!$A$3,\"Customer\",$A25,\"Years\",E$5)","v":0},{"$f":"GETPIVOTDATA(\"Sum of YTDRev\",Sheet6!$A$3,\"Customer\",$A25,\"Years\",F$5)","v":0},0,null,null,"Motorola"]
["P&G",{"$f":"GETPIVOTDATA(\"Sum of Revenue\",Sheet6!$A$3,\"Date\",RptMo,\"Customer\",$A26,\"Years\",B$5)","v":0},{"$f":"GETPIVOTDATA(\"Sum of Revenue\",Sheet6!$A$3,\"Date\",RptMo,\"Customer\",$A26,\"Years\",C$5)","v":0},0,{"$f":"GETPIVOTDATA(\"Sum of YTDRev\",Sheet6!$A$3,\"Customer\",$A26,\"Years\",E$5)","v":0},{"$f":"GETPIVOTDATA(\"Sum of YTDRev\",Sheet6!$A$3,\"Customer\",$A26,\"Years\",F$5)","v":0},0,null,null,"P&G"]
["Phillip Morris",{"$f":"GETPIVOTDATA(\"Sum of Revenue\",Sheet6!$A$3,\"Date\",RptMo,\"Customer\",$A27,\"Years\",B$5)","v":0},{"$f":"GETPIVOTDATA(\"Sum of Revenue\",Sheet6!$A$3,\"Date\",RptMo,\"Customer\",$A27,\"Years\",C$5)","v":4614},0,{"$f":"GETPIVOTDATA(\"Sum of YTDRev\",Sheet6!$A$3,\"Customer\",$A27,\"Years\",E$5)","v":0},{"$f":"GETPIVOTDATA(\"Sum of YTDRev\",Sheet6!$A$3,\"Customer\",$A27,\"Years\",F$5)","v":4614},0,null,null,"Phillip Morris"]
["SBC Communications",{"$f":"GETPIVOTDATA(\"Sum of Revenue\",Sheet6!$A$3,\"Date\",RptMo,\"Customer\",$A28,\"Years\",B$5)","v":0},{"$f":"GETPIVOTDATA(\"Sum of Revenue\",Sheet6!$A$3,\"Date\",RptMo,\"Customer\",$A28,\"Years\",C$5)","v":0},0,{"$f":"GETPIVOTDATA(\"Sum of YTDRev\",Sheet6!$A$3,\"Customer\",$A28,\"Years\",E$5)","v":14440},{"$f":"GETPIVOTDATA(\"Sum of YTDRev\",Sheet6!$A$3,\"Customer\",$A28,\"Years\",F$5)","v":0},-1,null,null,"SBC Communications"]
["Sears",{"$f":"GETPIVOTDATA(\"Sum of Revenue\",Sheet6!$A$3,\"Date\",RptMo,\"Customer\",$A29,\"Years\",B$5)","v":0},{"$f":"GETPIVOTDATA(\"Sum of Revenue\",Sheet6!$A$3,\"Date\",RptMo,\"Customer\",$A29,\"Years\",C$5)","v":0},0,{"$f":"GETPIVOTDATA(\"Sum of YTDRev\",Sheet6!$A$3,\"Customer\",$A29,\"Years\",E$5)","v":0},{"$f":"GETPIVOTDATA(\"Sum of YTDRev\",Sheet6!$A$3,\"Customer\",$A29,\"Years\",F$5)","v":0},0,null,null,"Sears"]
["State Farm",{"$f":"GETPIVOTDATA(\"Sum of Revenue\",Sheet6!$A$3,\"Date\",RptMo,\"Customer\",$A30,\"Years\",B$5)","v":0},{"$f":"GETPIVOTDATA(\"Sum of Revenue\",Sheet6!$A$3,\"Date\",RptMo,\"Customer\",$A30,\"Years\",C$5)","v":0},0,{"$f":"GETPIVOTDATA(\"Sum of YTDRev\",Sheet6!$A$3,\"Customer\",$A30,\"Years\",E$5)","v":21730},{"$f":"GETPIVOTDATA(\"Sum of YTDRev\",Sheet6!$A$3,\"Customer\",$A30,\"Years\",F$5)","v":0},-1,null,null,"State Farm"]
["Texaco",{"$f":"GETPIVOTDATA(\"Sum of Revenue\",Sheet6!$A$3,\"Date\",RptMo,\"Customer\",$A31,\"Years\",B$5)","v":0},{"$f":"GETPIVOTDATA(\"Sum of Revenue\",Sheet6!$A$3,\"Date\",RptMo,\"Customer\",$A31,\"Years\",C$5)","v":0},0,{"$f":"GETPIVOTDATA(\"Sum of YTDRev\",Sheet6!$A$3,\"Customer\",$A31,\"Years\",E$5)","v":16288},{"$f":"GETPIVOTDATA(\"Sum of YTDRev\",Sheet6!$A$3,\"Customer\",$A31,\"Years\",F$5)","v":13806},-0.15238212180746558,null,null,"Texaco"]
["Verizon",{"$f":"GETPIVOTDATA(\"Sum of Revenue\",Sheet6!$A$3,\"Date\",RptMo,\"Customer\",$A32,\"Years\",B$5)","v":0},{"$f":"GETPIVOTDATA(\"Sum of Revenue\",Sheet6!$A$3,\"Date\",RptMo,\"Customer\",$A32,\"Years\",C$5)","v":38457},0,{"$f":"GETPIVOTDATA(\"Sum of YTDRev\",Sheet6!$A$3,\"Customer\",$A32,\"Years\",E$5)","v":30804},{"$f":"GETPIVOTDATA(\"Sum of YTDRev\",Sheet6!$A$3,\"Customer\",$A32,\"Years\",F$5)","v":38457},0.24844176081028446,null,null,"Verizon"]
["Wal-Mart",{"$f":"GETPIVOTDATA(\"Sum of Revenue\",Sheet6!$A$3,\"Date\",RptMo,\"Customer\",$A33,\"Years\",B$5)","v":110263},{"$f":"GETPIVOTDATA(\"Sum of Revenue\",Sheet6!$A$3,\"Date\",RptMo,\"Customer\",$A33,\"Years\",C$5)","v":9246},-0.91614594197509591,{"$f":"GETPIVOTDATA(\"Sum of YTDRev\",Sheet6!$A$3,\"Customer\",$A33,\"Years\",E$5)","v":143947},{"$f":"GETPIVOTDATA(\"Sum of YTDRev\",Sheet6!$A$3,\"Customer\",$A33,\"Years\",F$5)","v":70675},-0.50902068122295008,null,null,"Wal-Mart"]
["Grand Total",{"$f":"SUM(B7:B33)","v":303845},257045,null,{"$f":"SUM(E7:E33)","v":599759},501292,null,null,null,"Grand Total",{"$f":"SUM(K7:K33)","v":0},0,null,{"$f":"SUM(N7:N33)","v":0},0]

{"sheet":"GPD SUMIFS (an)","index":1,"n_rows":34,"n_cols":16,"rows_kept":34,"cut":false,"hidden":false,"merged":[]}
[null,null,null,null,null,null,null,null,null,"Report Month:",2]
[]
[null,null,null,null,null,null,null,null,null,"Lower","2012-02-01","2013-02-01",null,"2012-01-01","2013-01-01"]
[null,null,null,null,null,null,null,null,null,"Upper",{"$f":"EOMONTH(K3,0)","v":"2012-02-29"},{"$f":"EOMONTH(L3,0)","v":"2013-02-28"},null,{"$f":"EOMONTH(N3,1)","v":"2012-02-29"},{"$f":"EOMONTH(O3,1)","v":"2013-02-28"}]
[null,2012,2013,null,2012,2013]
["Customer","Feb 2012","Feb 2013","Variance","YTD 2012","YTD 2013","Variance",null,null,"Customer","Feb 2012","Feb 2013","Variance","YTD 2012","YTD 2013","Variance"]
["AIG",{"$f":"GETPIVOTDATA(\"Sum of Revenue\",Sheet6!$A$3,\"Date\",RptMo,\"Customer\",$A7,\"Years\",B$5)","v":0},{"$f":"GETPIVOTDATA(\"Sum of Revenue\",Sheet6!$A$3,\"Date\",RptMo,\"Customer\",$A7,\"Years\",C$5)","v":0},{"$f":"IFERROR(C7/B7-1,0)","v":0},{"$f":"GETPIVOTDATA(\"Sum of YTDRev\",Sheet6!$A$3,\"Customer\",$A7,\"Years\",E$5)","v":0},{"$f":"GETPIVOTDATA(\"Sum of YTDRev\",Sheet6!$A$3,\"Customer\",$A7,\"Years\",F$5)","v":0},{"$f":"IFERROR(F7/E7-1,0)","v":0},null,null,"AIG",{"$f":"SUMIFS(Data!$F$2:$F$564,Data!$C$2:$C$564,\">=\"&K$3,Data!$C$2:$C$564,\"<=\"&K$4,Data!$D$2:$D$564,$J7)","v":0},{"$f":"SUMIFS(Data!$F$2:$F$564,Data!$C$2:$C$564,\">=\"&L$3,Data!$C$2:$C$564,\"<=\"&L$4,Data!$D$2:$D$564,$J7)","v":0},{"$f":"IFERROR(L7/K7-1,0)","v":0},{"$f":"SUMIFS(Data!$F$2:$F$564,Data!$C$2:$C$564,\">=\"&N$3,Data!$C$2:$C$564,\"<=\"&N$4,Data!$D$2:$D$564,$J7)","v":0},{"$f":"SUMIFS(Data!$F$2:$F$564,Data!$C$2:$C$564,\">=\"&O$3,Data!$C$2:$C$564,\"<=\"&O$4,Data!$D$2:$D$564,$J7)","v":0},{"$f":"IFERROR(O7/N7-1,0)","v":0}]
["AT&T",{"$f":"GETPIVOTDATA(\"Sum of Revenue\",Sheet6!$A$3,\"Date\",RptMo,\"Customer\",$A8,\"Years\",B$5)","v":0},{"$f":"GETPIVOTDATA(\"Sum of Revenue\",Sheet6!$A$3,\"Date\",RptMo,\"Customer\",$A8,\"Years\",C$5)","v":0},{"$f":"IFERROR(C8/B8-1,0)","v":0},{"$f":"GETPIVOTDATA(\"Sum of YTDRev\",Sheet6!$A$3,\"Customer\",$A8,\"Years\",E$5)","v":2401},{"$f":"GETPIVOTDATA(\"Sum of YTDRev\",Sheet6!$A$3,\"Customer\",$A8,\"Years\",F$5)","v":11784},{"$f":"IFERROR(F8/E8-1,0)","v":3.9079550187421903},null,null,"AT&T",{"$f":"SUMIFS(Data!$F$2:$F$564,Data!$C$2:$C$564,\">=\"&K$3,Data!$C$2:$C$564,\"<=\"&K$4,Data!$D$2:$D$564,$J8)","v":0},{"$f":"SUMIFS(Data!$F$2:$F$564,Data!$C$2:$C$564,\">=\"&L$3,Data!$C$2:$C$564,\"<=\"&L$4,Data!$D$2:$D$564,$J8)","v":0},{"$f":"IFERROR(L8/K8-1,0)","v":0},{"$f":"SUMIFS(Data!$F$2:$F$564,Data!$C$2:$C$564,\">=\"&N$3,Data!$C$2:$C$564,\"<=\"&N$4,Data!$D$2:$D$564,$J8)","v":2401},{"$f":"SUMIFS(Data!$F$2:$F$564,Data!$C$2:$C$564,\">=\"&O$3,Data!$C$2:$C$564,\"<=\"&O$4,Data!$D$2:$D$564,$J8)","v":11784},{"$f":"IFERROR(O8/N8-1,0)","v":3.9079550187421903}]
["Bank of America",{"$f":"GETPIVOTDATA(\"Sum of Revenue\",Sheet6!$A$3,\"Date\",RptMo,\"Customer\",$A9,\"Years\",B$5)","v":0},{"$f":"GETPIVOTDATA(\"Sum of Revenue\",Sheet6!$A$3,\"Date\",RptMo,\"Customer\",$A9,\"Years\",C$5)","v":7152},0,{"$f":"GETPIVOTDATA(\"Sum of YTDRev\",Sheet6!$A$3,\"Customer\",$A9,\"Years\",E$5)","v":0},{"$f":"GETPIVOTDATA(\"Sum of YTDRev\",Sheet6!$A$3,\"Customer\",$A9,\"Years\",F$5)","v":7152},0,null,null,"Bank of America",{"$f":"SUMIFS(Data!$F$2:$F$564,Data!$C$2:$C$564,\">=\"&K$3,Data!$C$2:$C$564,\"<=\"&K$4,Data!$D$2:$D$564,$J9)","v":0},{"$f":"SUMIFS(Data!$F$2:$F$564,Data!$C$2:$C$564,\">=\"&L$3,Data!$C$2:$C$564,\"<=\"&L$4,Data!$D$2:$D$564,$J9)","v":7152},0,{"$f":"SUMIFS(Data!$F$2:$F$564,Data!$C$2:$C$564,\">=\"&N$3,Data!$C$2:$C$564,\"<=\"&N$4,Data!$D$2:$D$564,$J9)","v":0},{"$f":"SUMIFS(Data!$F$2:$F$564,Data!$C$2:$C$564,\">=\"&O$3,Data!$C$2:$C$564,\"<=\"&O$4,Data!$D$2:$D$564,$J9)","v":7152},0]
["Boeing",{"$f":"GETPIVOTDATA(\"Sum of Revenue\",Sheet6!$A$3,\"Date\",RptMo,\"Customer\",$A10,\"Years\",B$5)","v":16936},{"$f":"GETPIVOTDATA(\"Sum of Revenue\",Sheet6!$A$3,\"Date\",RptMo,\"Customer\",$A10,\"Years\",C$5)","v":0},-1,{"$f":"GETPIVOTDATA(\"Sum of YTDRev\",Sheet6!$A$3,\"Customer\",$A10,\"Years\",E$5)","v":16936},{"$f":"GETPIVOTDATA(\"Sum of YTDRev\",Sheet6!$A$3,\"Customer\",$A10,\"Years\",F$5)","v":0},-1,null,null,"Boeing",{"$f":"SUMIFS(Data!$F$2:$F$564,Data!$C$2:$C$564,\">=\"&K$3,Data!$C$2:$C$564,\"<=\"&K$4,Data!$D$2:$D$564,$J10)","v":16936},{"$f":"SUMIFS(Data!$F$2:$F$564,Data!$C$2:$C$564,\">=\"&L$3,Data!$C$2:$C$564,\"<=\"&L$4,Data!$D$2:$D$564,$J10)","v":0},-1,{"$f":"SUMIFS(Data!$F$2:$F$564,Data!$C$2:$C$564,\">=\"&N$3,Data!$C$2:$C$564,\"<=\"&N$4,Data!$D$2:$D$564,$J10)","v":16936},{"$f":"SUMIFS(Data!$F$2:$F$564,Data!$C$2:$C$564,\">=\"&O$3,Data!$C$2:$C$564,\"<=\"&O$4,Data!$D$2:$D$564,$J10)","v":0},-1]
["Chevron",{"$f":"GETPIVOTDATA(\"Sum of Revenue\",Sheet6!$A$3,\"Date\",RptMo,\"Customer\",$A11,\"Years\",B$5)","v":20610},{"$f":"GETPIVOTDATA(\"Sum of Revenue\",Sheet6!$A$3,\"Date\",RptMo,\"Customer\",$A11,\"Years\",C$5)","v":0},-1,{"$f":"GETPIVOTDATA(\"Sum of YTDRev\",Sheet6!$A$3,\"Customer\",$A11,\"Years\",E$5)","v":20610},{"$f":"GETPIVOTDATA(\"Sum of YTDRev\",Sheet6!$A$3,\"Customer\",$A11,\"Years\",F$5)","v":0},-1,null,null,"Chevron",{"$f":"SUMIFS(Data!$F$2:$F$564,Data!$C$2:$C$564,\">=\"&K$3,Data!$C$2:$C$564,\"<=\"&K$4,Data!$D$2:$D$564,$J11)","v":20610},{"$f":"SUMIFS(Data!$F$2:$F$564,Data!$C$2:$C$564,\">=\"&L$3,Data!$C$2:$C$564,\"<=\"&L$4,Data!$D$2:$D$564,$J11)","v":0},-1,{"$f":"SUMIFS(Data!$F$2:$F$564,Data!$C$2:$C$564,\">=\"&N$3,Data!$C$2:$C$564,\"<=\"&N$4,Data!$D$2:$D$564,$J11)","v":20610},{"$f":"SUMIFS(Data!$F$2:$F$564,Data!$C$2:$C$564,\">=\"&O$3,Data!$C$2:$C$564,\"<=\"&O$4,Data!$D$2:$D$564,$J11)","v":0},-1]
["CitiGroup",{"$f":"GETPIVOTDATA(\"Sum of Revenue\",Sheet6!$A$3,\"Date\",RptMo,\"Customer\",$A12,\"Years\",B$5)","v":15684},{"$f":"GETPIVOTDATA(\"Sum of Revenue\",Sheet6!$A$3,\"Date\",RptMo,\"Customer\",$A12,\"Years\",C$5)","v":12798},-0.18400918133129307,{"$f":"GETPIVOTDATA(\"Sum of YTDRev\",Sheet6!$A$3,\"Customer\",$A12,\"Years\",E$5)","v":48082},{"$f":"GETPIVOTDATA(\"Sum of YTDRev\",Sheet6!$A$3,\"Customer\",$A12,\"Years\",F$5)","v":49553},3.0593569319079972E-2,null,null,"CitiGroup",{"$f":"SUMIFS(Data!$F$2:$F$564,Data!$C$2:$C$564,\">=\"&K$3,Data!$C$2:$C$564,\"<=\"&K$4,Data!$D$2:$D$564,$J12)","v":15684},{"$f":"SUMIFS(Data!$F$2:$F$564,Data!$C$2:$C$564,\">=\"&L$3,Data!$C$2:$C$564,\"<=\"&L$4,Data!$D$2:$D$564,$J12)","v":12798},-0.18400918133129307,{"$f":"SUMIFS(Data!$F$2:$F$564,Data!$C$2:$C$564,\">=\"&N$3,Data!$C$2:$C$564,\"<=\"&N$4,Data!$D$2:$D$564,$J12)","v":48082},{"$f":"SUMIFS(Data!$F$2:$F$564,Data!$C$2:$C$564,\">=\"&O$3,Data!$C$2:$C$564,\"<=\"&O$4,Data!$D$2:$D$564,$J12)","v":49553},3.0593569319079972E-2]
["Compaq",{"$f":"GETPIVOTDATA(\"Sum of Revenue\",Sheet6!$A$3,\"Date\",RptMo,\"Customer\",$A13,\"Years\",B$5)","v":0},{"$f":"GETPIVOTDATA(\"Sum of Revenue\",Sheet6!$A$3,\"Date\",RptMo,\"Customer\",$A13,\"Years\",C$5)","v":0},0,{"$f":"GETPIVOTDATA(\"Sum of YTDRev\",Sheet6!$A$3,\"Customer\",$A13,\"Years\",E$5)","v":0},{"$f":"GETPIVOTDATA(\"Sum of YTDRev\",Sheet6!$A$3,\"Customer\",$A13,\"Years\",F$5)","v":0},0,null,null,"Compaq",{"$f":"SUMIFS(Data!$F$2:$F$564,Data!$C$2:$C$564,\">=\"&K$3,Data!$C$2:$C$564,\"<=\"&K$4,Data!$D$2:$D$564,$J13)","v":0},{"$f":"SUMIFS(Data!$F$2:$F$564,Data!$C$2:$C$564,\">=\"&L$3,Data!$C$2:$C$564,\"<=\"&L$4,Data!$D$2:$D$564,$J13)","v":0},0,{"$f":"SUMIFS(Data!$F$2:$F$564,Data!$C$2:$C$564,\">=\"&N$3,Data!$C$2:$C$564,\"<=\"&N$4,Data!$D$2:$D$564,$J13)","v":0},{"$f":"SUMIFS(Data!$F$2:$F$564,Data!$C$2:$C$564,\">=\"&O$3,Data!$C$2:$C$564,\"<=\"&O$4,Data!$D$2:$D$564,$J13)","v":0},0]
["Duke Energy",{"$f":"GETPIVOTDATA(\"Sum of Revenue\",Sheet6!$A$3,\"Date\",RptMo,\"Customer\",$A14,\"Years\",B$5)","v":0},{"$f":"GETPIVOTDATA(\"Sum of Revenue\",Sheet6!$A$3,\"Date\",RptMo,\"Customer\",$A14,\"Years\",C$5)","v":0},0,{"$f":"GETPIVOTDATA(\"Sum of YTDRev\",Sheet6!$A$3,\"Customer\",$A14,\"Years\",E$5)","v":0},{"$f":"GETPIVOTDATA(\"Sum of YTDRev\",Sheet6!$A$3,\"Customer\",$A14,\"Years\",F$5)","v":0},0,null,null,"Duke Energy",{"$f":"SUMIFS(Data!$F$2:$F$564,Data!$C$2:$C$564,\">=\"&K$3,Data!$C$2:$C$564,\"<=\"&K$4,Data!$D$2:$D$564,$J14)","v":0},{"$f":"SUMIFS(Data!$F$2:$F$564,Data!$C$2:$C$564,\">=\"&L$3,Data!$C$2:$C$564,\"<=\"&L$4,Data!$D$2:$D$564,$J14)","v":0},0,{"$f":"SUMIFS(Data!$F$2:$F$564,Data!$C$2:$C$564,\">=\"&N$3,Data!$C$2:$C$564,\"<=\"&N$4,Data!$D$2:$D$564,$J14)","v":0},{"$f":"SUMIFS(Data!$F$2:$F$564,Data!$C$2:$C$564,\">=\"&O$3,Data!$C$2:$C$564,\"<=\"&O$4,Data!$D$2:$D$564,$J14)","v":0},0]
["Exxon",{"$f":"GETPIVOTDATA(\"Sum of Revenue\",Sheet6!$A$3,\"Date\",RptMo,\"Customer\",$A15,\"Years\",B$5)","v":22554},{"$f":"GETPIVOTDATA(\"Sum of Revenue\",Sheet6!$A$3,\"Date\",RptMo,\"Customer\",$A15,\"Years\",C$5)","v":13314},-0.40968342644320299,{"$f":"GETPIVOTDATA(\"Sum of YTDRev\",Sheet6!$A$3,\"Customer\",$A15,\"Years\",E$5)","v":22554},{"$f":"GETPIVOTDATA(\"Sum of YTDRev\",Sheet6!$A$3,\"Customer\",$A15,\"Years\",F$5)","v":52186},1.3138245987407999,null,null,"Exxon",{"$f":"SUMIFS(Data!$F$2:$F$564,Data!$C$2:$C$564,\">=\"&K$3,Data!$C$2:$C$564,\"<=\"&K$4,Data!$D$2:$D$564,$J15)","v":22554},{"$f":"SUMIFS(Data!$F$2:$F$564,Data!$C$2:$C$564,\">=\"&L$3,Data!$C$2:$C$564,\"<=\"&L$4,Data!$D$2:$D$564,$J15)","v":13314},-0.40968342644320299,{"$f":"SUMIFS(Data!$F$2:$F$564,Data!$C$2:$C$564,\">=\"&N$3,Data!$C$2:$C$564,\"<=\"&N$4,Data!$D$2:$D$564,$J15)","v":22554},{"$f":"SUMIFS(Data!$F$2:$F$564,Data!$C$2:$C$564,\">=\"&O$3,Data!$C$2:$C$564,\"<=\"&O$4,Data!$D$2:$D$564,$J15)","v":52186},1.3138245987407999]
["Ford",{"$f":"GETPIVOTDATA(\"Sum of Revenue\",Sheet6!$A$3,\"Date\",RptMo,\"Customer\",$A16,\"Years\",B$5)","v":35115},{"$f":"GETPIVOTDATA(\"Sum of Revenue\",Sheet6!$A$3,\"Date\",RptMo,\"Customer\",$A16,\"Years\",C$5)","v":39704},0.13068489249608439,{"$f":"GETPIVOTDATA(\"Sum of YTDRev\",Sheet6!$A$3,\"Customer\",$A16,\"Years\",E$5)","v":57925},{"$f":"GETPIVOTDATA(\"Sum of YTDRev\",Sheet6!$A$3,\"Customer\",$A16,\"Years\",F$5)","v":39704},-0.31456193353474315,null,null,"Ford",{"$f":"SUMIFS(Data!$F$2:$F$564,Data!$C$2:$C$564,\">=\"&K$3,Data!$C$2:$C$564,\"<=\"&K$4,Data!$D$2:$D$564,$J16)","v":35115},{"$f":"SUMIFS(Data!$F$2:$F$564,Data!$C$2:$C$564,\">=\"&L$3,Data!$C$2:$C$564,\"<=\"&L$4,Data!$D$2:$D$564,$J16)","v":39704},0.13068489249608439,{"$f":"SUMIFS(Data!$F$2:$F$564,Data!$C$2:$C$564,\">=\"&N$3,Data!$C$2:$C$564,\"<=\"&N$4,Data!$D$2:$D$564,$J16)","v":57925},{"$f":"SUMIFS(Data!$F$2:$F$564,Data!$C$2:$C$564,\">=\"&O$3,Data!$C$2:$C$564,\"<=\"&O$4,Data!$D$2:$D$564,$J16)","v":39704},-0.31456193353474315]
["General Electric",{"$f":"GETPIVOTDATA(\"Sum of Revenue\",Sheet6!$A$3,\"Date\",RptMo,\"Customer\",$A17,\"Years\",B$5)","v":36180},{"$f":"GETPIVOTDATA(\"Sum of Revenue\",Sheet6!$A$3,\"Date\",RptMo,\"Customer\",$A17,\"Years\",C$5)","v":52344},0.44676616915422884,{"$f":"GETPIVOTDATA(\"Sum of YTDRev\",Sheet6!$A$3,\"Customer\",$A17,\"Years\",E$5)","v":36180},{"$f":"GETPIVOTDATA(\"Sum of YTDRev\",Sheet6!$A$3,\"Customer\",$A17,\"Years\",F$5)","v":93398},1.5814814814814815,null,null,"General Electric",{"$f":"SUMIFS(Data!$F$2:$F$564,Data!$C$2:$C$564,\">=\"&K$3,Data!$C$2:$C$564,\"<=\"&K$4,Data!$D$2:$D$564,$J17)","v":36180},{"$f":"SUMIFS(Data!$F$2:$F$564,Data!$C$2:$C$564,\">=\"&L$3,Data!$C$2:$C$564,\"<=\"&L$4,Data!$D$2:$D$564,$J17)","v":52344},0.44676616915422884,{"$f":"SUMIFS(Data!$F$2:$F$564,Data!$C$2:$C$564,\">=\"&N$3,Data!$C$2:$C$564,\"<=\"&N$4,Data!$D$2:$D$564,$J17)","v":36180},{"$f":"SUMIFS(Data!$F$2:$F$564,Data!$C$2:$C$564,\">=\"&O$3,Data!$C$2:$C$564,\"<=\"&O$4,Data!$D$2:$D$564,$J17)","v":93398},1.5814814814814815]
["General Motors",{"$f":"GETPIVOTDATA(\"Sum of Revenue\",Sheet6!$A$3,\"Date\",RptMo,\"Customer\",$A18,\"Years\",B$5)","v":26613},{"$f":"GETPIVOTDATA(\"Sum of Revenue\",Sheet6!$A$3,\"Date\",RptMo,\"Customer\",$A18,\"Years\",C$5)","v":41101},0.54439559613722621,{"$f":"GETPIVOTDATA(\"Sum of YTDRev\",Sheet6!$A$3,\"Customer\",$A18,\"Years\",E$5)","v":98867},{"$f":"GETPIVOTDATA(\"Sum of YTDRev\",Sheet6!$A$3,\"Customer\",$A18,\"Years\",F$5)","v":53773},-0.45610770024376179,null,null,"General Motors",{"$f":"SUMIFS(Data!$F$2:$F$564,Data!$C$2:$C$564,\">=\"&K$3,Data!$C$2:$C$564,\"<=\"&K$4,Data!$D$2:$D$564,$J18)","v":26613},{"$f":"SUMIFS(Data!$F$2:$F$564,Data!$C$2:$C$564,\">=\"&L$3,Data!$C$2:$C$564,\"<=\"&L$4,Data!$D$2:$D$564,$J18)","v":41101},0.54439559613722621,{"$f":"SUMIFS(Data!$F$2:$F$564,Data!$C$2:$C$564,\">=\"&N$3,Data!$C$2:$C$564,\"<=\"&N$4,Data!$D$2:$D$564,$J18)","v":98867},{"$f":"SUMIFS(Data!$F$2:$F$564,Data!$C$2:$C$564,\">=\"&O$3,Data!$C$2:$C$564,\"<=\"&O$4,Data!$D$2:$D$564,$J18)","v":53773},-0.45610770024376179]
["Home Depot",{"$f":"GETPIVOTDATA(\"Sum of Revenue\",Sheet6!$A$3,\"Date\",RptMo,\"Customer\",$A19,\"Years\",B$5)","v":0},{"$f":"GETPIVOTDATA(\"Sum of Revenue\",Sheet6!$A$3,\"Date\",RptMo,\"Customer\",$A19,\"Years\",C$5)","v":0},0,{"$f":"GETPIVOTDATA(\"Sum of YTDRev\",Sheet6!$A$3,\"Customer\",$A19,\"Years\",E$5)","v":0},{"$f":"GETPIVOTDATA(\"Sum of YTDRev\",Sheet6!$A$3,\"Customer\",$A19,\"Years\",F$5)","v":0},0,null,null,"Home Depot",{"$f":"SUMIFS(Data!$F$2:$F$564,Data!$C$2:$C$564,\">=\"&K$3,Data!$C$2:$C$564,\"<=\"&K$4,Data!$D$2:$D$564,$J19)","v":0},{"$f":"SUMIFS(Data!$F$2:$F$564,Data!$C$2:$C$564,\">=\"&L$3,Data!$C$2:$C$564,\"<=\"&L$4,Data!$D$2:$D$564,$J19)","v":0},0,{"$f":"SUMIFS(Data!$F$2:$F$564,Data!$C$2:$C$564,\">=\"&N$3,Data!$C$2:$C$564,\"<=\"&N$4,Data!$D$2:$D$564,$J19)","v":0},{"$f":"SUMIFS(Data!$F$2:$F$564,Data!$C$2:$C$564,\">=\"&O$3,Data!$C$2:$C$564,\"<=\"&O$4,Data!$D$2:$D$564,$J19)","v":0},0]
["HP",{"$f":"GETPIVOTDATA(\"Sum of Revenue\",Sheet6!$A$3,\"Date\",RptMo,\"Customer\",$A20,\"Years\",B$5)","v":0},{"$f":"GETPIVOTDATA(\"Sum of Revenue\",Sheet6!$A$3,\"Date\",RptMo,\"Customer\",$A20,\"Years\",C$5)","v":0},0,{"$f":"GETPIVOTDATA(\"Sum of YTDRev\",Sheet6!$A$3,\"Customer\",$A20,\"Years\",E$5)","v":0},{"$f":"GETPIVOTDATA(\"Sum of YTDRev\",Sheet6!$A$3,\"Customer\",$A20,\"Years\",F$5)","v":21015},0,null,null,"HP",{"$f":"SUMIFS(Data!$F$2:$F$564,Data!$C$2:$C$564,\">=\"&K$3,Data!$C$2:$C$564,\"<=\"&K$4,Data!$D$2:$D$564,$J20)","v":0},{"$f":"SUMIFS(Data!$F$2:$F$564,Data!$C$2:$C$564,\">=\"&L$3,Data!$C$2:$C$564,\"<=\"&L$4,Data!$D$2:$D$564,$J20)","v":0},0,{"$f":"SUMIFS(Data!$F$2:$F$564,Data!$C$2:$C$564,\">=\"&N$3,Data!$C$2:$C$564,\"<=\"&N$4,Data!$D$2:$D$564,$J20)","v":0},{"$f":"SUMIFS(Data!$F$2:$F$564,Data!$C$2:$C$564,\">=\"&O$3,Data!$C$2:$C$564,\"<=\"&O$4,Data!$D$2:$D$564,$J20)","v":21015},0]
["IBM",{"$f":"GETPIVOTDATA(\"Sum of Revenue\",Sheet6!$A$3,\"Date\",RptMo,\"Customer\",$A21,\"Years\",B$5)","v":19890},{"$f":"GETPIVOTDATA(\"Sum of Revenue\",Sheet6!$A$3,\"Date\",RptMo,\"Customer\",$A21,\"Years\",C$5)","v":38315},0.92634489693313227,{"$f":"GETPIVOTDATA(\"Sum of YTDRev\",Sheet6!$A$3,\"Customer\",$A21,\"Years\",E$5)","v":46891},{"$f":"GETPIVOTDATA(\"Sum of YTDRev\",Sheet6!$A$3,\"Customer\",$A21,\"Years\",F$5)","v":45175},-3.6595508733019089E-2,null,null,"IBM",{"$f":"SUMIFS(Data!$F$2:$F$564,Data!$C$2:$C$564,\">=\"&K$3,Data!$C$2:$C$564,\"<=\"&K$4,Data!$D$2:$D$564,$J21)","v":19890},{"$f":"SUMIFS(Data!$F$2:$F$564,Data!$C$2:$C$564,\">=\"&L$3,Data!$C$2:$C$564,\"<=\"&L$4,Data!$D$2:$D$564,$J21)","v":38315},0.92634489693313227,{"$f":"SUMIFS(Data!$F$2:$F$564,Data!$C$2:$C$564,\">=\"&N$3,Data!$C$2:$C$564,\"<=\"&N$4,Data!$D$2:$D$564,$J21)","v":46891},{"$f":"SUMIFS(Data!$F$2:$F$564,Data!$C$2:$C$564,\">=\"&O$3,Data!$C$2:$C$564,\"<=\"&O$4,Data!$D$2:$D$564,$J21)","v":45175},-3.6595508733019089E-2]
["Kroger",{"$f":"GETPIVOTDATA(\"Sum of Revenue\",Sheet6!$A$3,\"Date\",RptMo,\"Customer\",$A22,\"Years\",B$5)","v":0},{"$f":"GETPIVOTDATA(\"Sum of Revenue\",Sheet6!$A$3,\"Date\",RptMo,\"Customer\",$A22,\"Years\",C$5)","v":0},0,{"$f":"GETPIVOTDATA(\"Sum of YTDRev\",Sheet6!$A$3,\"Customer\",$A22,\"Years\",E$5)","v":0},{"$f":"GETPIVOTDATA(\"Sum of YTDRev\",Sheet6!$A$3,\"Customer\",$A22,\"Years\",F$5)","v":0},0,null,null,"Kroger",{"$f":"SUMIFS(Data!$F$2:$F$564,Data!$C$2:$C$564,\">=\"&K$3,Data!$C$2:$C$564,\"<=\"&K$4,Data!$D$2:$D$564,$J22)","v":0},{"$f":"SUMIFS(Data!$F$2:$F$564,Data!$C$2:$C$564,\">=\"&L$3,Data!$C$2:$C$564,\"<=\"&L$4,Data!$D$2:$D$564,$J22)","v":0},0,{"$f":"SUMIFS(Data!$F$2:$F$564,Data!$C$2:$C$564,\">=\"&N$3,Data!$C$2:$C$564,\"<=\"&N$4,Data!$D$2:$D$564,$J22)","v":0},{"$f":"SUMIFS(Data!$F$2:$F$564,Data!$C$2:$C$564,\">=\"&O$3,Data!$C$2:$C$564,\"<=\"&O$4,Data!$D$2:$D$564,$J22)","v":0},0]
["Lucent",{"$f":"GETPIVOTDATA(\"Sum of Revenue\",Sheet6!$A$3,\"Date\",RptMo,\"Customer\",$A23,\"Years\",B$5)","v":0},{"$f":"GETPIVOTDATA(\"Sum of Revenue\",Sheet6!$A$3,\"Date\",RptMo,\"Customer\",$A23,\"Years\",C$5)","v":0},0,{"$f":"GETPIVOTDATA(\"Sum of YTDRev\",Sheet6!$A$3,\"Customer\",$A23,\"Years\",E$5)","v":0},{"$f":"GETPIVOTDATA(\"Sum of YTDRev\",Sheet6!$A$3,\"Customer\",$A23,\"Years\",F$5)","v":0},0,null,null,"Lucent",{"$f":"SUMIFS(Data!$F$2:$F$564,Data!$C$2:$C$564,\">=\"&K$3,Data!$C$2:$C$564,\"<=\"&K$4,Data!$D$2:$D$564,$J23)","v":0},{"$f":"SUMIFS(Data!$F$2:$F$564,Data!$C$2:$C$564,\">=\"&L$3,Data!$C$2:$C$564,\"<=\"&L$4,Data!$D$2:$D$564,$J23)","v":0},0,{"$f":"SUMIFS(Data!$F$2:$F$564,Data!$C$2:$C$564,\">=\"&N$3,Data!$C$2:$C$564,\"<=\"&N$4,Data!$D$2:$D$564,$J23)","v":0},{"$f":"SUMIFS(Data!$F$2:$F$564,Data!$C$2:$C$564,\">=\"&O$3,Data!$C$2:$C$564,\"<=\"&O$4,Data!$D$2:$D$564,$J23)","v":0},0]
["Merck",{"$f":"GETPIVOTDATA(\"Sum of Revenue\",Sheet6!$A$3,\"Date\",RptMo,\"Customer\",$A24,\"Years\",B$5)","v":0},{"$f":"GETPIVOTDATA(\"Sum of Revenue\",Sheet6!$A$3,\"Date\",RptMo,\"Customer\",$A24,\"Years\",C$5)","v":0},0,{"$f":"GETPIVOTDATA(\"Sum of YTDRev\",Sheet6!$A$3,\"Customer\",$A24,\"Years\",E$5)","v":22104},{"$f":"GETPIVOTDATA(\"Sum of YTDRev\",Sheet6!$A$3,\"Customer\",$A24,\"Years\",F$5)","v":0},-1,null,null,"Merck",{"$f":"SUMIFS(Data!$F$2:$F$564,Data!$C$2:$C$564,\">=\"&K$3,Data!$C$2:$C$564,\"<=\"&K$4,Data!$D$2:$D$564,$J24)","v":0},{"$f":"SUMIFS(Data!$F$2:$F$564,Data!$C$2:$C$564,\">=\"&L$3,Data!$C$2:$C$564,\"<=\"&L$4,Data!$D$2:$D$564,$J24)","v":0},0,{"$f":"SUMIFS(Data!$F$2:$F$564,Data!$C$2:$C$564,\">=\"&N$3,Data!$C$2:$C$564,\"<=\"&N$4,Data!$D$2:$D$564,$J24)","v":22104},{"$f":"SUMIFS(Data!$F$2:$F$564,Data!$C$2:$C$564,\">=\"&O$3,Data!$C$2:$C$564,\"<=\"&O$4,Data!$D$2:$D$564,$J24)","v":0},-1]
["Motorola",{"$f":"GETPIVOTDATA(\"Sum of Revenue\",Sheet6!$A$3,\"Date\",RptMo,\"Customer\",$A25,\"Years\",B$5)","v":0},{"$f":"GETPIVOTDATA(\"Sum of Revenue\",Sheet6!$A$3,\"Date\",RptMo,\"Customer\",$A25,\"Years\",C$5)","v":0},0,{"$f":"GETPIVOTDATA(\"Sum of YTDRev\",Sheet6!$A$3,\"Customer\",$A25,\"Years\",E$5)","v":0},{"$f":"GETPIVOTDATA(\"Sum of YTDRev\",Sheet6!$A$3,\"Customer\",$A25,\"Years\",F$5)","v":0},0,null,null,"Motorola",{"$f":"SUMIFS(Data!$F$2:$F$564,Data!$C$2:$C$564,\">=\"&K$3,Data!$C$2:$C$564,\"<=\"&K$4,Data!$D$2:$D$564,$J25)","v":0},{"$f":"SUMIFS(Data!$F$2:$F$564,Data!$C$2:$C$564,\">=\"&L$3,Data!$C$2:$C$564,\"<=\"&L$4,Data!$D$2:$D$564,$J25)","v":0},0,{"$f":"SUMIFS(Data!$F$2:$F$564,Data!$C$2:$C$564,\">=\"&N$3,Data!$C$2:$C$564,\"<=\"&N$4,Data!$D$2:$D$564,$J25)","v":0},{"$f":"SUMIFS(Data!$F$2:$F$564,Data!$C$2:$C$564,\">=\"&O$3,Data!$C$2:$C$564,\"<=\"&O$4,Data!$D$2:$D$564,$J25)","v":0},0]
["P&G",{"$f":"GETPIVOTDATA(\"Sum of Revenue\",Sheet6!$A$3,\"Date\",RptMo,\"Customer\",$A26,\"Years\",B$5)","v":0},{"$f":"GETPIVOTDATA(\"Sum of Revenue\",Sheet6!$A$3,\"Date\",RptMo,\"Customer\",$A26,\"Years\",C$5)","v":0},0,{"$f":"GETPIVOTDATA(\"Sum of YTDRev\",Sheet6!$A$3,\"Customer\",$A26,\"Years\",E$5)","v":0},{"$f":"GETPIVOTDATA(\"Sum of YTDRev\",Sheet6!$A$3,\"Customer\",$A26,\"Years\",F$5)","v":0},0,null,null,"P&G",{"$f":"SUMIFS(Data!$F$2:$F$564,Data!$C$2:$C$564,\">=\"&K$3,Data!$C$2:$C$564,\"<=\"&K$4,Data!$D$2:$D$564,$J26)","v":0},{"$f":"SUMIFS(Data!$F$2:$F$564,Data!$C$2:$C$564,\">=\"&L$3,Data!$C$2:$C$564,\"<=\"&L$4,Data!$D$2:$D$564,$J26)","v":0},0,{"$f":"SUMIFS(Data!$F$2:$F$564,Data!$C$2:$C$564,\">=\"&N$3,Data!$C$2:$C$564,\"<=\"&N$4,Data!$D$2:$D$564,$J26)","v":0},{"$f":"SUMIFS(Data!$F$2:$F$564,Data!$C$2:$C$564,\">=\"&O$3,Data!$C$2:$C$564,\"<=\"&O$4,Data!$D$2:$D$564,$J26)","v":0},0]
["Phillip Morris",{"$f":"GETPIVOTDATA(\"Sum of Revenue\",Sheet6!$A$3,\"Date\",RptMo,\"Customer\",$A27,\"Years\",B$5)","v":0},{"$f":"GETPIVOTDATA(\"Sum of Revenue\",Sheet6!$A$3,\"Date\",RptMo,\"Customer\",$A27,\"Years\",C$5)","v":4614},0,{"$f":"GETPIVOTDATA(\"Sum of YTDRev\",Sheet6!$A$3,\"Customer\",$A27,\"Years\",E$5)","v":0},{"$f":"GETPIVOTDATA(\"Sum of YTDRev\",Sheet6!$A$3,\"Customer\",$A27,\"Years\",F$5)","v":4614},0,null,null,"Phillip Morris",{"$f":"SUMIFS(Data!$F$2:$F$564,Data!$C$2:$C$564,\">=\"&K$3,Data!$C$2:$C$564,\"<=\"&K$4,Data!$D$2:$D$564,$J27)","v":0},{"$f":"SUMIFS(Data!$F$2:$F$564,Data!$C$2:$C$564,\">=\"&L$3,Data!$C$2:$C$564,\"<=\"&L$4,Data!$D$2:$D$564,$J27)","v":4614},0,{"$f":"SUMIFS(Data!$F$2:$F$564,Data!$C$2:$C$564,\">=\"&N$3,Data!$C$2:$C$564,\"<=\"&N$4,Data!$D$2:$D$564,$J27)","v":0},{"$f":"SUMIFS(Data!$F$2:$F$564,Data!$C$2:$C$564,\">=\"&O$3,Data!$C$2:$C$564,\"<=\"&O$4,Data!$D$2:$D$564,$J27)","v":4614},0]
["SBC Communications",{"$f":"GETPIVOTDATA(\"Sum of Revenue\",Sheet6!$A$3,\"Date\",RptMo,\"Customer\",$A28,\"Years\",B$5)","v":0},{"$f":"GETPIVOTDATA(\"Sum of Revenue\",Sheet6!$A$3,\"Date\",RptMo,\"Customer\",$A28,\"Years\",C$5)","v":0},0,{"$f":"GETPIVOTDATA(\"Sum of YTDRev\",Sheet6!$A$3,\"Customer\",$A28,\"Years\",E$5)","v":14440},{"$f":"GETPIVOTDATA(\"Sum of YTDRev\",Sheet6!$A$3,\"Customer\",$A28,\"Years\",F$5)","v":0},-1,null,null,"SBC Communications",{"$f":"SUMIFS(Data!$F$2:$F$564,Data!$C$2:$C$564,\">=\"&K$3,Data!$C$2:$C$564,\"<=\"&K$4,Data!$D$2:$D$564,$J28)","v":0},{"$f":"SUMIFS(Data!$F$2:$F$564,Data!$C$2:$C$564,\">=\"&L$3,Data!$C$2:$C$564,\"<=\"&L$4,Data!$D$2:$D$564,$J28)","v":0},0,{"$f":"SUMIFS(Data!$F$2:$F$564,Data!$C$2:$C$564,\">=\"&N$3,Data!$C$2:$C$564,\"<=\"&N$4,Data!$D$2:$D$564,$J28)","v":14440},{"$f":"SUMIFS(Data!$F$2:$F$564,Data!$C$2:$C$564,\">=\"&O$3,Data!$C$2:$C$564,\"<=\"&O$4,Data!$D$2:$D$564,$J28)","v":0},-1]
["Sears",{"$f":"GETPIVOTDATA(\"Sum of Revenue\",Sheet6!$A$3,\"Date\",RptMo,\"Customer\",$A29,\"Years\",B$5)","v":0},{"$f":"GETPIVOTDATA(\"Sum of Revenue\",Sheet6!$A$3,\"Date\",RptMo,\"Customer\",$A29,\"Years\",C$5)","v":0},0,{"$f":"GETPIVOTDATA(\"Sum of YTDRev\",Sheet6!$A$3,\"Customer\",$A29,\"Years\",E$5)","v":0},{"$f":"GETPIVOTDATA(\"Sum of YTDRev\",Sheet6!$A$3,\"Customer\",$A29,\"Years\",F$5)","v":0},0,null,null,"Sears",{"$f":"SUMIFS(Data!$F$2:$F$564,Data!$C$2:$C$564,\">=\"&K$3,Data!$C$2:$C$564,\"<=\"&K$4,Data!$D$2:$D$564,$J29)","v":0},{"$f":"SUMIFS(Data!$F$2:$F$564,Data!$C$2:$C$564,\">=\"&L$3,Data!$C$2:$C$564,\"<=\"&L$4,Data!$D$2:$D$564,$J29)","v":0},0,{"$f":"SUMIFS(Data!$F$2:$F$564,Data!$C$2:$C$564,\">=\"&N$3,Data!$C$2:$C$564,\"<=\"&N$4,Data!$D$2:$D$564,$J29)","v":0},{"$f":"SUMIFS(Data!$F$2:$F$564,Data!$C$2:$C$564,\">=\"&O$3,Data!$C$2:$C$564,\"<=\"&O$4,Data!$D$2:$D$564,$J29)","v":0},0]
["State Farm",{"$f":"GETPIVOTDATA(\"Sum of Revenue\",Sheet6!$A$3,\"Date\",RptMo,\"Customer\",$A30,\"Years\",B$5)","v":0},{"$f":"GETPIVOTDATA(\"Sum of Revenue\",Sheet6!$A$3,\"Date\",RptMo,\"Customer\",$A30,\"Years\",C$5)","v":0},0,{"$f":"GETPIVOTDATA(\"Sum of YTDRev\",Sheet6!$A$3,\"Customer\",$A30,\"Years\",E$5)","v":21730},{"$f":"GETPIVOTDATA(\"Sum of YTDRev\",Sheet6!$A$3,\"Customer\",$A30,\"Years\",F$5)","v":0},-1,null,null,"State Farm",{"$f":"SUMIFS(Data!$F$2:$F$564,Data!$C$2:$C$564,\">=\"&K$3,Data!$C$2:$C$564,\"<=\"&K$4,Data!$D$2:$D$564,$J30)","v":0},{"$f":"SUMIFS(Data!$F$2:$F$564,Data!$C$2:$C$564,\">=\"&L$3,Data!$C$2:$C$564,\"<=\"&L$4,Data!$D$2:$D$564,$J30)","v":0},0,{"$f":"SUMIFS(Data!$F$2:$F$564,Data!$C$2:$C$564,\">=\"&N$3,Data!$C$2:$C$564,\"<=\"&N$4,Data!$D$2:$D$564,$J30)","v":21730},{"$f":"SUMIFS(Data!$F$2:$F$564,Data!$C$2:$C$564,\">=\"&O$3,Data!$C$2:$C$564,\"<=\"&O$4,Data!$D$2:$D$564,$J30)","v":0},-1]
["Texaco",{"$f":"GETPIVOTDATA(\"Sum of Revenue\",Sheet6!$A$3,\"Date\",RptMo,\"Customer\",$A31,\"Years\",B$5)","v":0},{"$f":"GETPIVOTDATA(\"Sum of Revenue\",Sheet6!$A$3,\"Date\",RptMo,\"Customer\",$A31,\"Years\",C$5)","v":0},0,{"$f":"GETPIVOTDATA(\"Sum of YTDRev\",Sheet6!$A$3,\"Customer\",$A31,\"Years\",E$5)","v":16288},{"$f":"GETPIVOTDATA(\"Sum of YTDRev\",Sheet6!$A$3,\"Customer\",$A31,\"Years\",F$5)","v":13806},-0.15238212180746558,null,null,"Texaco",{"$f":"SUMIFS(Data!$F$2:$F$564,Data!$C$2:$C$564,\">=\"&K$3,Data!$C$2:$C$564,\"<=\"&K$4,Data!$D$2:$D$564,$J31)","v":0},{"$f":"SUMIFS(Data!$F$2:$F$564,Data!$C$2:$C$564,\">=\"&L$3,Data!$C$2:$C$564,\"<=\"&L$4,Data!$D$2:$D$564,$J31)","v":0},0,{"$f":"SUMIFS(Data!$F$2:$F$564,Data!$C$2:$C$564,\">=\"&N$3,Data!$C$2:$C$564,\"<=\"&N$4,Data!$D$2:$D$564,$J31)","v":16288},{"$f":"SUMIFS(Data!$F$2:$F$564,Data!$C$2:$C$564,\">=\"&O$3,Data!$C$2:$C$564,\"<=\"&O$4,Data!$D$2:$D$564,$J31)","v":13806},-0.15238212180746558]
["Verizon",{"$f":"GETPIVOTDATA(\"Sum of Revenue\",Sheet6!$A$3,\"Date\",RptMo,\"Customer\",$A32,\"Years\",B$5)","v":0},{"$f":"GETPIVOTDATA(\"Sum of Revenue\",Sheet6!$A$3,\"Date\",RptMo,\"Customer\",$A32,\"Years\",C$5)","v":38457},0,{"$f":"GETPIVOTDATA(\"Sum of YTDRev\",Sheet6!$A$3,\"Customer\",$A32,\"Years\",E$5)","v":30804},{"$f":"GETPIVOTDATA(\"Sum of YTDRev\",Sheet6!$A$3,\"Customer\",$A32,\"Years\",F$5)","v":38457},0.24844176081028446,null,null,"Verizon",{"$f":"SUMIFS(Data!$F$2:$F$564,Data!$C$2:$C$564,\">=\"&K$3,Data!$C$2:$C$564,\"<=\"&K$4,Data!$D$2:$D$564,$J32)","v":0},{"$f":"SUMIFS(Data!$F$2:$F$564,Data!$C$2:$C$564,\">=\"&L$3,Data!$C$2:$C$564,\"<=\"&L$4,Data!$D$2:$D$564,$J32)","v":38457},0,{"$f":"SUMIFS(Data!$F$2:$F$564,Data!$C$2:$C$564,\">=\"&N$3,Data!$C$2:$C$564,\"<=\"&N$4,Data!$D$2:$D$564,$J32)","v":30804},{"$f":"SUMIFS(Data!$F$2:$F$564,Data!$C$2:$C$564,\">=\"&O$3,Data!$C$2:$C$564,\"<=\"&O$4,Data!$D$2:$D$564,$J32)","v":38457},0.24844176081028446]
["Wal-Mart",{"$f":"GETPIVOTDATA(\"Sum of Revenue\",Sheet6!$A$3,\"Date\",RptMo,\"Customer\",$A33,\"Years\",B$5)","v":110263},{"$f":"GETPIVOTDATA(\"Sum of Revenue\",Sheet6!$A$3,\"Date\",RptMo,\"Customer\",$A33,\"Years\",C$5)","v":9246},-0.91614594197509591,{"$f":"GETPIVOTDATA(\"Sum of YTDRev\",Sheet6!$A$3,\"Customer\",$A33,\"Years\",E$5)","v":143947},{"$f":"GETPIVOTDATA(\"Sum of YTDRev\",Sheet6!$A$3,\"Customer\",$A33,\"Years\",F$5)","v":70675},-0.50902068122295008,null,null,"Wal-Mart",{"$f":"SUMIFS(Data!$F$2:$F$564,Data!$C$2:$C$564,\">=\"&K$3,Data!$C$2:$C$564,\"<=\"&K$4,Data!$D$2:$D$564,$J33)","v":110263},{"$f":"SUMIFS(Data!$F$2:$F$564,Data!$C$2:$C$564,\">=\"&L$3,Data!$C$2:$C$564,\"<=\"&L$4,Data!$D$2:$D$564,$J33)","v":9246},-0.91614594197509591,{"$f":"SUMIFS(Data!$F$2:$F$564,Data!$C$2:$C$564,\">=\"&N$3,Data!$C$2:$C$564,\"<=\"&N$4,Data!$D$2:$D$564,$J33)","v":143947},{"$f":"SUMIFS(Data!$F$2:$F$564,Data!$C$2:$C$564,\">=\"&O$3,Data!$C$2:$C$564,\"<=\"&O$4,Data!$D$2:$D$564,$J33)","v":70675},-0.50902068122295008]
["Grand Total",{"$f":"SUM(B7:B33)","v":303845},257045,null,{"$f":"SUM(E7:E33)","v":599759},501292,null,null,null,"Grand Total",{"$f":"SUM(K7:K33)","v":303845},257045,null,{"$f":"SUM(N7:N33)","v":599759},501292]

{"sheet":"Sheet6","index":2,"n_rows":34,"n_cols":55,"rows_kept":34,"cut":false,"hidden":false,"merged":[]}
[]
[]
[null,"Years","Date","Values"]
[null,"2012",null,null,null,null,null,null,null,null,null,null,null,null,null,null,null,null,null,null,null,null,null,null,null,"2012 Sum of Revenue","2012 Sum of YTDRev","2013",null,null,null,null,null,null,null,null,null,null,null,null,null,null,null,null,null,null,null,null,null,null,null,"2013 Sum of Revenue","2013 Sum of YTDRev","Total Sum of Revenue","Total Sum of YTDRev"]
[null,"Jan",null,"Feb",null,"Mar",null,"Apr",null,"May",null,"Jun",null,"Jul",null,"Aug",null,"Sep",null,"Oct",null,"Nov",null,"Dec",null,null,null,"Jan",null,"Feb",null,"Mar",null,"Apr",null,"May",null,"Jun",null,"Jul",null,"Aug",null,"Sep",null,"Oct",null,"Nov",null,"Dec"]
["Customer","Sum of Revenue","Sum of YTDRev","Sum of Revenue","Sum of YTDRev","Sum of Revenue","Sum of YTDRev","Sum of Revenue","Sum of YTDRev","Sum of Revenue","Sum of YTDRev","Sum of Revenue","Sum of YTDRev","Sum of Revenue","Sum of YTDRev","Sum of Revenue","Sum of YTDRev","Sum of Revenue","Sum of YTDRev","Sum of Revenue","Sum of YTDRev","Sum of Revenue","Sum of YTDRev","Sum of Revenue","Sum of YTDRev",null,null,"Sum of Revenue","Sum of YTDRev","Sum of Revenue","Sum of YTDRev","Sum of Revenue","Sum of YTDRev","Sum of Revenue","Sum of YTDRev","Sum of Revenue","Sum of YTDRev","Sum of Revenue","Sum of YTDRev","Sum of Revenue","Sum of YTDRev","Sum of Revenue","Sum of YTDRev","Sum of Revenue","Sum of YTDRev","Sum of Revenue","Sum of YTDRev","Sum of Revenue","Sum of YTDRev","Sum of Revenue","Sum of YTDRev"]
["AIG",null,null,null,null,null,null,null,null,null,null,null,null,null,null,18072,0,null,null,null,null,null,null,null,null,18072,0,null,null,null,null,null,null,14004,0,null,null,4060,0,null,null,null,null,null,null,null,null,15104,0,null,null,33168,0,51240,0]
["AT&T",2401,2401,null,null,47940,0,4124,0,51517,0,19062,0,11660,0,47372,0,33951,0,21834,0,36801,0,9460,0,286122,2401,11784,11784,null,null,null,null,51638,0,18898,0,40500,0,15488,0,6522,0,14485,0,21042,0,14154,0,18304,0,212815,11784,498937,14185]
["Bank of America",null,null,null,null,null,null,33974,0,21075,0,15856,0,25350,0,62260,0,null,null,14133,0,21033,0,11274,0,204955,0,null,null,7152,7152,24224,0,null,null,40390,0,null,null,null,null,29783,0,23295,0,42546,0,null,null,33981,0,201371,7152,406326,7152]
["Boeing",null,null,16936,16936,null,null,null,null,9635,0,null,null,24130,0,null,null,null,null,null,null,null,null,null,null,50701,16936,null,null,null,null,null,null,20950,0,null,null,null,null,null,null,null,null,null,null,null,null,null,null,null,null,20950,0,71651,16936]
["Chevron",null,null,20610,20610,8116,0,null,null,null,null,null,null,null,null,null,null,null,null,7032,0,null,null,null,null,35758,20610,null,null,null,null,null,null,null,null,null,null,null,null,18290,0,null,null,null,null,null,null,null,null,null,null,18290,0,54048,20610]
["CitiGroup",32398,32398,15684,15684,43213,0,8016,0,null,null,null,null,21800,0,39357,0,51826,0,62921,0,28954,0,null,null,304169,48082,36755,36755,12798,12798,15856,0,9575,0,53843,0,18072,0,null,null,16144,0,9002,0,38985,0,62712,0,35603,0,309345,49553,613514,97635]
["Compaq",null,null,null,null,null,null,null,null,null,null,null,null,null,null,null,null,null,null,null,null,17250,0,null,null,17250,0,null,null,null,null,null,null,null,null,null,null,9064,0,null,null,4380,0,null,null,null,null,8556,0,null,null,22000,0,39250,0]
["Duke Energy",null,null,null,null,null,null,18264,0,null,null,null,null,null,null,null,null,16784,0,16936,0,null,null,null,null,51984,0,null,null,null,null,null,null,null,null,null,null,null,null,null,null,5532,0,null,null,null,null,null,null,null,null,5532,0,57516,0]
["Exxon",null,null,22554,22554,25375,0,17534,0,41116,0,17847,0,30872,0,40457,0,18156,0,65738,0,null,null,78440,0,358089,22554,38872,38872,13314,13314,9505,0,2178,0,17537,0,31633,0,64074,0,33392,0,40821,0,30070,0,41828,0,23046,0,346270,52186,704359,74740]
["Ford",22810,22810,35115,35115,23090,0,31319,0,null,null,6077,0,15876,0,20182,0,9821,0,null,null,null,null,31264,0,195554,57925,null,null,39704,39704,31987,0,69862,0,46913,0,16219,0,47099,0,58038,0,13566,0,21010,0,41414,0,41428,0,427240,39704,622794,97629]
["General Electric",null,null,36180,36180,27932,0,23547,0,39506,0,34798,0,34539,0,11064,0,22578,0,20120,0,44065,0,45668,0,339997,36180,41054,41054,52344,52344,4472,0,14845,0,15479,0,29274,0,null,null,15544,0,33427,0,17719,0,null,null,4696,0,228854,93398,568851,129578]
["General Motors",72254,72254,26613,26613,25448,0,22530,0,45149,0,null,null,36093,0,19584,0,45503,0,18351,0,15204,0,10290,0,337019,98867,12672,12672,41101,41101,51357,0,45974,0,45207,0,null,null,28440,0,42486,0,2106,0,6420,0,76426,0,60955,0,413144,53773,750163,152640]
["Home Depot",null,null,null,null,null,null,null,null,null,null,null,null,18120,0,null,null,null,null,11220,0,null,null,null,null,29340,0,null,null,null,null,null,null,null,null,null,null,null,null,null,null,null,null,2029,0,null,null,null,null,null,null,2029,0,31369,0]
["HP",null,null,null,null,null,null,null,null,4846,0,null,null,17840,0,null,null,null,null,null,null,null,null,null,null,22686,0,21015,21015,null,null,null,null,null,null,null,null,null,null,null,null,null,null,11550,0,null,null,null,null,null,null,32565,21015,55251,21015]
["IBM",27001,27001,19890,19890,1819,0,19539,0,51714,0,26751,0,17512,0,12030,0,1957,0,28750,0,3942,0,21889,0,232794,46891,6860,6860,38315,38315,30965,0,null,null,null,null,36540,0,37993,0,8466,0,15174,0,11530,0,null,null,8712,0,194555,45175,427349,92066]
["Kroger",null,null,null,null,null,null,19520,0,null,null,null,null,null,null,1819,0,null,null,null,null,2538,0,null,null,23877,0,null,null,null,null,null,null,null,null,null,null,null,null,22840,0,null,null,null,null,null,null,null,null,null,null,22840,0,46717,0]
["Lucent",null,null,null,null,null,null,null,null,null,null,7167,0,23890,0,null,null,null,null,null,null,null,null,null,null,31057,0,null,null,null,null,null,null,null,null,null,null,null,null,14497,0,null,null,null,null,17190,0,null,null,null,null,31687,0,62744,0]
["Merck",22104,22104,null,null,null,null,null,null,null,null,null,null,null,null,null,null,null,null,null,null,null,null,null,null,22104,22104,null,null,null,null,2484,0,17728,0,null,null,null,null,null,null,null,null,null,null,null,null,null,null,null,null,20212,0,42316,22104]
["Motorola",null,null,null,null,null,null,4948,0,null,null,null,null,null,null,17856,0,null,null,2358,0,null,null,null,null,25162,0,null,null,null,null,5859,0,null,null,null,null,null,null,null,null,null,null,null,null,null,null,null,null,null,null,5859,0,31021,0]
["P&G",null,null,null,null,32882,0,null,null,17757,0,null,null,null,null,null,null,null,null,null,null,null,null,9660,0,60299,0,null,null,null,null,null,null,null,null,null,null,null,null,null,null,null,null,null,null,null,null,null,null,null,null,null,null,60299,0]
["Phillip Morris",null,null,null,null,null,null,null,null,null,null,null,null,null,null,null,null,null,null,null,null,19344,0,10760,0,30104,0,null,null,4614,4614,null,null,null,null,null,null,null,null,null,null,null,null,null,null,15312,0,null,null,null,null,19926,4614,50030,4614]
["SBC Communications",14440,14440,null,null,null,null,null,null,null,null,22140,0,null,null,null,null,null,null,null,null,24420,0,null,null,61000,14440,null,null,null,null,null,null,null,null,null,null,null,null,null,null,null,null,null,null,null,null,null,null,11680,0,11680,0,72680,14440]
["Sears",null,null,null,null,null,null,null,null,null,null,4282,0,8876,0,null,null,null,null,null,null,null,null,null,null,13158,0,null,null,null,null,null,null,null,null,null,null,null,null,null,null,null,null,null,null,21552,0,null,null,null,null,21552,0,34710,0]
["State Farm",21730,21730,null,null,null,null,null,null,null,null,4754,0,null,null,null,null,null,null,null,null,null,null,null,null,26484,21730,null,null,null,null,null,null,null,null,13853,0,null,null,null,null,null,null,null,null,null,null,null,null,19544,0,33397,0,59881,21730]
["Texaco",16288,16288,null,null,null,null,null,null,null,null,null,null,null,null,null,null,null,null,null,null,null,null,null,null,16288,16288,13806,13806,null,null,null,null,null,null,null,null,null,null,null,null,4270,0,null,null,null,null,null,null,null,null,18076,13806,34364,30094]
["Verizon",30804,30804,null,null,null,null,24346,0,4012,0,30280,0,13866,0,6309,0,15680,0,null,null,48566,0,30966,0,204829,30804,null,null,38457,38457,8732,0,4378,0,14203,0,18042,0,12387,0,18981,0,12936,0,34448,0,13290,0,10295,0,186149,38457,390978,69261]
["Wal-Mart",33684,33684,110263,110263,60507,0,27269,0,46941,0,26980,0,38104,0,2012,0,36632,0,38755,0,null,null,18243,0,439390,143947,61429,61429,9246,9246,41060,0,40139,0,37442,0,24576,0,41830,0,22645,0,39903,0,24070,0,49914,0,37810,0,430064,70675,869454,214622]
["Grand Total",295914,295914,303845,303845,296322,0,254930,0,333268,0,215994,0,338528,0,298374,0,252888,0,308148,0,262117,0,277914,0,3438242,599759,244247,244247,257045,257045,226501,0,291271,0,303765,0,227980,0,302938,0,266183,0,218294,0,301894,0,323398,0,306054,0,3269570,501292,6707812,1101051]

{"sheet":"Data","index":3,"n_rows":564,"n_cols":11,"rows_kept":564,"cut":false,"hidden":false,"merged":[]}
["Region","Product","Date","Customer","Quantity","Revenue","COGS","Profit","YTDRev",null,"Customer"]
["East","XYZ","2012-01-01","Ford",1000,22810,10220,12590,{"$f":"IF(MONTH(C2)<=RptMo,F2,0)","v":22810},null,"Ford"]
["East","DEF","2012-01-01","Merck",800,18552,7872,10680,{"$f":"IF(MONTH(C3)<=RptMo,F3,0)","v":18552},null,"Merck"]
["East","XYZ","2012-01-01","Texaco",400,9152,4088,5064,{"$f":"IF(MONTH(C4)<=RptMo,F4,0)","v":9152},null,"Texaco"]
["Central","DEF","2012-01-01","Verizon",100,2257,984,1273,{"$f":"IF(MONTH(C5)<=RptMo,F5,0)","v":2257},null,"Verizon"]
["East","ABC","2012-01-04","General Motors",400,8456,3388,5068,{"$f":"IF(MONTH(C6)<=RptMo,F6,0)","v":8456},null,"General Motors"]
["East","DEF","2012-01-04","State Farm",1000,21730,9840,11890,{"$f":"IF(MONTH(C7)<=RptMo,F7,0)","v":21730},null,"State Farm"]
["Central","ABC","2012-01-06","General Motors",800,16416,6776,9640,{"$f":"IF(MONTH(C8)<=RptMo,F8,0)","v":16416},null,"Wal-Mart"]
["Central","XYZ","2012-01-07","Wal-Mart",900,21438,9198,12240,{"$f":"IF(MONTH(C9)<=RptMo,F9,0)","v":21438},null,"IBM"]
["Central","ABC","2012-01-09","IBM",300,6267,2541,3726,{"$f":"IF(MONTH(C10)<=RptMo,F10,0)","v":6267},null,"AT&T"]
["East","XYZ","2012-01-11","AT&T",100,2401,1022,1379,{"$f":"IF(MONTH(C11)<=RptMo,F11,0)","v":2401},null,"CitiGroup"]
["East","ABC","2012-01-12","Verizon",500,9345,4235,5110,{"$f":"IF(MONTH(C12)<=RptMo,F12,0)","v":9345},null,"SBC Communications"]
["East","ABC","2012-01-13","CitiGroup",600,11628,5082,6546,{"$f":"IF(MONTH(C13)<=RptMo,F13,0)","v":11628},null,"General Electric"]
["West","DEF","2012-01-16","Verizon",100,2042,984,1058,{"$f":"IF(MONTH(C14)<=RptMo,F14,0)","v":2042},null,"Boeing"]
["West","ABC","2012-01-18","Merck",200,3552,1694,1858,{"$f":"IF(MONTH(C15)<=RptMo,F15,0)","v":3552},null,"Exxon"]
["East","ABC","2012-01-18","SBC Communications",800,14440,6776,7664,{"$f":"IF(MONTH(C16)<=RptMo,F16,0)","v":14440},null,"Chevron"]
["West","ABC","2012-01-20","General Motors",800,14592,6776,7816,{"$f":"IF(MONTH(C17)<=RptMo,F17,0)","v":14592},null,"P&G"]
["East","ABC","2012-01-21","IBM",600,12606,5082,7524,{"$f":"IF(MONTH(C18)<=RptMo,F18,0)","v":12606},null,"Bank of America"]
["Central","ABC","2012-01-22","CitiGroup",1000,20770,8470,12300,{"$f":"IF(MONTH(C19)<=RptMo,F19,0)","v":20770},null,"Motorola"]
["East","ABC","2012-01-23","IBM",400,8128,3388,4740,{"$f":"IF(MONTH(C20)<=RptMo,F20,0)","v":8128},null,"Duke Energy"]
["East","DEF","2012-01-26","General Motors",700,17150,6888,10262,{"$f":"IF(MONTH(C21)<=RptMo,F21,0)","v":17150},null,"Kroger"]
["East","ABC","2012-01-26","Texaco",400,7136,3388,3748,{"$f":"IF(MONTH(C22)<=RptMo,F22,0)","v":7136},null,"HP"]
["East","DEF","2012-01-27","Wal-Mart",300,6714,2952,3762,{"$f":"IF(MONTH(C23)<=RptMo,F23,0)","v":6714},null,"Sears"]
["East","ABC","2012-01-28","General Motors",800,15640,6776,8864,{"$f":"IF(MONTH(C24)<=RptMo,F24,0)","v":15640},null,"Lucent"]
["West","ABC","2012-01-29","Wal-Mart",300,5532,2541,2991,{"$f":"IF(MONTH(C25)<=RptMo,F25,0)","v":5532},null,"Home Depot"]
["West","DEF","2012-01-31","Verizon",800,17160,7872,9288,{"$f":"IF(MONTH(C26)<=RptMo,F26,0)","v":17160},null,"AIG"]
["East","DEF","2012-02-03","General Electric",900,21708,8856,12852,{"$f":"IF(MONTH(C27)<=RptMo,F27,0)","v":21708},null,"Compaq"]
["West","ABC","2012-02-04","IBM",1000,19890,8470,11420,{"$f":"IF(MONTH(C28)<=RptMo,F28,0)","v":19890},null,"Phillip Morris"]
["Central","ABC","2012-02-05","CitiGroup",100,1817,847,970,{"$f":"IF(MONTH(C29)<=RptMo,F29,0)","v":1817}]
["Central","ABC","2012-02-06","General Motors",300,5157,2541,2616,{"$f":"IF(MONTH(C30)<=RptMo,F30,0)","v":5157}]
["East","DEF","2012-02-11","CitiGroup",700,13867,6888,6979,{"$f":"IF(MONTH(C31)<=RptMo,F31,0)","v":13867}]
["East","XYZ","2012-02-13","Boeing",800,16936,8176,8760,{"$f":"IF(MONTH(C32)<=RptMo,F32,0)","v":16936}]
["East","ABC","2012-02-14","Exxon",600,11430,5082,6348,{"$f":"IF(MONTH(C33)<=RptMo,F33,0)","v":11430}]
["West","ABC","2012-02-15","Wal-Mart",1000,20250,8470,11780,{"$f":"IF(MONTH(C34)<=RptMo,F34,0)","v":20250}]
["Central","ABC","2012-02-16","Wal-Mart",500,10385,4235,6150,{"$f":"IF(MONTH(C35)<=RptMo,F35,0)","v":10385}]
["Central","ABC","2012-02-17","Exxon",600,11124,5082,6042,{"$f":"IF(MONTH(C36)<=RptMo,F36,0)","v":11124}]
["West","ABC","2012-02-17","Ford",300,5700,2541,3159,{"$f":"IF(MONTH(C37)<=RptMo,F37,0)","v":5700}]
["Central","XYZ","2012-02-17","Wal-Mart",1000,23810,10220,13590,{"$f":"IF(MONTH(C38)<=RptMo,F38,0)","v":23810}]
["Central","XYZ","2012-02-20","Wal-Mart",500,11525,5110,6415,{"$f":"IF(MONTH(C39)<=RptMo,F39,0)","v":11525}]
["Central","DEF","2012-02-23","Chevron",900,20610,8856,11754,{"$f":"IF(MONTH(C40)<=RptMo,F40,0)","v":20610}]
["East","DEF","2012-02-23","Ford",600,13206,5904,7302,{"$f":"IF(MONTH(C41)<=RptMo,F41,0)","v":13206}]
["Central","XYZ","2012-02-23","Wal-Mart",1000,25140,10220,14920,{"$f":"IF(MONTH(C42)<=RptMo,F42,0)","v":25140}]
["Central","ABC","2012-02-24","Ford",900,16209,7623,8586,{"$f":"IF(MONTH(C43)<=RptMo,F43,0)","v":16209}]
["East","DEF","2012-02-24","Wal-Mart",400,8708,3936,4772,{"$f":"IF(MONTH(C44)<=RptMo,F44,0)","v":8708}]
["East","XYZ","2012-02-25","General Motors",900,21456,9198,12258,{"$f":"IF(MONTH(C45)<=RptMo,F45,0)","v":21456}]
["West","XYZ","2012-02-26","Wal-Mart",500,10445,5110,5335,{"$f":"IF(MONTH(C46)<=RptMo,F46,0)","v":10445}]
["West","DEF","2012-02-29","General Electric",600,14472,5904,8568,{"$f":"IF(MONTH(C47)<=RptMo,F47,0)","v":14472}]
["Central","XYZ","2012-03-01","Wal-Mart",200,4262,2044,2218,{"$f":"IF(MONTH(C48)<=RptMo,F48,0)","v":0}]
["West","ABC","2012-03-02","P&G",700,12474,5929,6545,{"$f":"IF(MONTH(C49)<=RptMo,F49,0)","v":0}]
["West","ABC","2012-03-03","Exxon",500,10155,4235,5920,{"$f":"IF(MONTH(C50)<=RptMo,F50,0)","v":0}]
["Central","DEF","2012-03-06","Wal-Mart",900,19503,8856,10647,{"$f":"IF(MONTH(C51)<=RptMo,F51,0)","v":0}]
["East","ABC","2012-03-09","IBM",100,1819,847,972,{"$f":"IF(MONTH(C52)<=RptMo,F52,0)","v":0}]
["Central","XYZ","2012-03-10","CitiGroup",1000,24430,10220,14210,{"$f":"IF(MONTH(C53)<=RptMo,F53,0)","v":0}]
["East","XYZ","2012-03-10","Wal-Mart",500,10935,5110,5825,{"$f":"IF(MONTH(C54)<=RptMo,F54,0)","v":0}]
["East","ABC","2012-03-12","Chevron",400,8116,3388,4728,{"$f":"IF(MONTH(C55)<=RptMo,F55,0)","v":0}]
["Central","XYZ","2012-03-13","CitiGroup",900,18783,9198,9585,{"$f":"IF(MONTH(C56)<=RptMo,F56,0)","v":0}]
["Central","ABC","2012-03-15","Wal-Mart",800,16696,6776,9920,{"$f":"IF(MONTH(C57)<=RptMo,F57,0)","v":0}]
["East","ABC","2012-03-16","General Electric",400,7132,3388,3744,{"$f":"IF(MONTH(C58)<=RptMo,F58,0)","v":0}]
["East","XYZ","2012-03-17","General Electric",200,4784,2044,2740,{"$f":"IF(MONTH(C59)<=RptMo,F59,0)","v":0}]
["West","XYZ","2012-03-18","AT&T",300,6765,3066,3699,{"$f":"IF(MONTH(C60)<=RptMo,F60,0)","v":0}]
["Central","ABC","2012-03-19","Wal-Mart",300,5355,2541,2814,{"$f":"IF(MONTH(C61)<=RptMo,F61,0)","v":0}]
["Central","ABC","2012-03-20","Wal-Mart",200,3756,1694,2062,{"$f":"IF(MONTH(C62)<=RptMo,F62,0)","v":0}]
["East","DEF","2012-03-21","General Motors",1000,20090,9840,10250,{"$f":"IF(MONTH(C63)<=RptMo,F63,0)","v":0}]
["Central","XYZ","2012-03-22","Ford",1000,23090,10220,12870,{"$f":"IF(MONTH(C64)<=RptMo,F64,0)","v":0}]
["Central","DEF","2012-03-24","AT&T",900,21357,8856,12501,{"$f":"IF(MONTH(C65)<=RptMo,F65,0)","v":0}]
["Central","ABC","2012-03-24","General Motors",300,5358,2541,2817,{"$f":"IF(MONTH(C66)<=RptMo,F66,0)","v":0}]
["West","DEF","2012-03-26","General Electric",800,16016,7872,8144,{"$f":"IF(MONTH(C67)<=RptMo,F67,0)","v":0}]
["Central","XYZ","2012-03-28","AT&T",600,14448,6132,8316,{"$f":"IF(MONTH(C68)<=RptMo,F68,0)","v":0}]
["East","ABC","2012-03-29","AT&T",300,5370,2541,2829,{"$f":"IF(MONTH(C69)<=RptMo,F69,0)","v":0}]
["East","DEF","2012-03-31","Exxon",400,8632,3936,4696,{"$f":"IF(MONTH(C70)<=RptMo,F70,0)","v":0}]
["East","DEF","2012-03-31","Exxon",300,6588,2952,3636,{"$f":"IF(MONTH(C71)<=RptMo,F71,0)","v":0}]
["West","XYZ","2012-03-31","P&G",800,20408,8176,12232,{"$f":"IF(MONTH(C72)<=RptMo,F72,0)","v":0}]
["West","XYZ","2012-04-01","Verizon",100,2466,1022,1444,{"$f":"IF(MONTH(C73)<=RptMo,F73,0)","v":0}]
["East","ABC","2012-04-03","Bank of America",700,14686,5929,8757,{"$f":"IF(MONTH(C74)<=RptMo,F74,0)","v":0}]
["Central","ABC","2012-04-03","General Electric",300,5886,2541,3345,{"$f":"IF(MONTH(C75)<=RptMo,F75,0)","v":0}]
["East","DEF","2012-04-06","Exxon",500,12095,4920,7175,{"$f":"IF(MONTH(C76)<=RptMo,F76,0)","v":0}]
["East","XYZ","2012-04-07","IBM",900,19539,9198,10341,{"$f":"IF(MONTH(C77)<=RptMo,F77,0)","v":0}]
["West","ABC","2012-04-08","General Electric",300,6063,2541,3522,{"$f":"IF(MONTH(C78)<=RptMo,F78,0)","v":0}]
["East","ABC","2012-04-09","General Electric",600,11598,5082,6516,{"$f":"IF(MONTH(C79)<=RptMo,F79,0)","v":0}]
["Central","ABC","2012-04-10","CitiGroup",400,8016,3388,4628,{"$f":"IF(MONTH(C80)<=RptMo,F80,0)","v":0}]
["Central","XYZ","2012-04-16","Motorola",200,4948,2044,2904,{"$f":"IF(MONTH(C81)<=RptMo,F81,0)","v":0}]
["East","XYZ","2012-04-16","Verizon",1000,21880,10220,11660,{"$f":"IF(MONTH(C82)<=RptMo,F82,0)","v":0}]
["Central","XYZ","2012-04-18","Wal-Mart",700,15834,7154,8680,{"$f":"IF(MONTH(C83)<=RptMo,F83,0)","v":0}]
["East","DEF","2012-04-19","Ford",100,2457,984,1473,{"$f":"IF(MONTH(C84)<=RptMo,F84,0)","v":0}]
["East","ABC","2012-04-20","Exxon",300,5439,2541,2898,{"$f":"IF(MONTH(C85)<=RptMo,F85,0)","v":0}]
["East","DEF","2012-04-21","Wal-Mart",500,11435,4920,6515,{"$f":"IF(MONTH(C86)<=RptMo,F86,0)","v":0}]
["Central","XYZ","2012-04-23","General Motors",1000,22530,10220,12310,{"$f":"IF(MONTH(C87)<=RptMo,F87,0)","v":0}]
["East","XYZ","2012-04-24","Ford",1000,25060,10220,14840,{"$f":"IF(MONTH(C88)<=RptMo,F88,0)","v":0}]
["East","XYZ","2012-04-25","Duke Energy",800,18264,8176,10088,{"$f":"IF(MONTH(C89)<=RptMo,F89,0)","v":0}]
["East","XYZ","2012-04-26","AT&T",200,4124,2044,2080,{"$f":"IF(MONTH(C90)<=RptMo,F90,0)","v":0}]
["Central","ABC","2012-04-27","Ford",200,3802,1694,2108,{"$f":"IF(MONTH(C91)<=RptMo,F91,0)","v":0}]
["Central","DEF","2012-04-27","Kroger",800,19520,7872,11648,{"$f":"IF(MONTH(C92)<=RptMo,F92,0)","v":0}]
["West","XYZ","2012-04-29","Bank of America",800,19288,8176,11112,{"$f":"IF(MONTH(C93)<=RptMo,F93,0)","v":0}]
["East","ABC","2012-05-01","AT&T",800,15592,6776,8816,{"$f":"IF(MONTH(C94)<=RptMo,F94,0)","v":0}]
["West","XYZ","2012-05-01","Bank of America",300,6867,3066,3801,{"$f":"IF(MONTH(C95)<=RptMo,F95,0)","v":0}]
["East","ABC","2012-05-03","AT&T",600,12318,5082,7236,{"$f":"IF(MONTH(C96)<=RptMo,F96,0)","v":0}]
["West","DEF","2012-05-03","Bank of America",400,8052,3936,4116,{"$f":"IF(MONTH(C97)<=RptMo,F97,0)","v":0}]
["West","DEF","2012-05-04","Wal-Mart",800,17544,7872,9672,{"$f":"IF(MONTH(C98)<=RptMo,F98,0)","v":0}]
["East","DEF","2012-05-05","IBM",700,16765,6888,9877,{"$f":"IF(MONTH(C99)<=RptMo,F99,0)","v":0}]
["Central","ABC","2012-05-07","Exxon",500,8785,4235,4550,{"$f":"IF(MONTH(C100)<=RptMo,F100,0)","v":0}]
["East","DEF","2012-05-08","Wal-Mart",700,16772,6888,9884,{"$f":"IF(MONTH(C101)<=RptMo,F101,0)","v":0}]
["East","ABC","2012-05-09","General Electric",500,9380,4235,5145,{"$f":"IF(MONTH(C102)<=RptMo,F102,0)","v":0}]
["Central","XYZ","2012-05-09","Wal-Mart",500,12625,5110,7515,{"$f":"IF(MONTH(C103)<=RptMo,F103,0)","v":0}]
["East","ABC","2012-05-10","Boeing",500,9635,4235,5400,{"$f":"IF(MONTH(C104)<=RptMo,F104,0)","v":0}]
["West","DEF","2012-05-12","Bank of America",300,6156,2952,3204,{"$f":"IF(MONTH(C105)<=RptMo,F105,0)","v":0}]
["East","DEF","2012-05-15","P&G",900,17757,8856,8901,{"$f":"IF(MONTH(C106)<=RptMo,F106,0)","v":0}]
["West","XYZ","2012-05-16","HP",200,4846,2044,2802,{"$f":"IF(MONTH(C107)<=RptMo,F107,0)","v":0}]
["East","ABC","2012-05-17","General Electric",600,11208,5082,6126,{"$f":"IF(MONTH(C108)<=RptMo,F108,0)","v":0}]
["Central","DEF","2012-05-18","AT&T",500,10195,4920,5275,{"$f":"IF(MONTH(C109)<=RptMo,F109,0)","v":0}]
["West","ABC","2012-05-19","General Motors",700,12803,5929,6874,{"$f":"IF(MONTH(C110)<=RptMo,F110,0)","v":0}]
["East","ABC","2012-05-19","Verizon",200,4012,1694,2318,{"$f":"IF(MONTH(C111)<=RptMo,F111,0)","v":0}]
["East","DEF","2012-05-20","Exxon",100,2319,984,1335,{"$f":"IF(MONTH(C112)<=RptMo,F112,0)","v":0}]
["Central","ABC","2012-05-20","General Motors",600,11700,5082,6618,{"$f":"IF(MONTH(C113)<=RptMo,F113,0)","v":0}]
["East","DEF","2012-05-22","Exxon",600,12048,5904,6144,{"$f":"IF(MONTH(C114)<=RptMo,F114,0)","v":0}]
["East","XYZ","2012-05-24","IBM",700,14469,7154,7315,{"$f":"IF(MONTH(C115)<=RptMo,F115,0)","v":0}]
["West","ABC","2012-05-25","Exxon",900,17964,7623,10341,{"$f":"IF(MONTH(C116)<=RptMo,F116,0)","v":0}]
["West","ABC","2012-05-26","AT&T",700,13412,5929,7483,{"$f":"IF(MONTH(C117)<=RptMo,F117,0)","v":0}]
["Central","XYZ","2012-05-26","General Motors",300,6660,3066,3594,{"$f":"IF(MONTH(C118)<=RptMo,F118,0)","v":0}]
["Central","XYZ","2012-05-27","General Electric",900,18918,9198,9720,{"$f":"IF(MONTH(C119)<=RptMo,F119,0)","v":0}]
["Central","ABC","2012-05-28","General Motors",700,13986,5929,8057,{"$f":"IF(MONTH(C120)<=RptMo,F120,0)","v":0}]
["Central","DEF","2012-05-30","IBM",1000,20480,9840,10640,{"$f":"IF(MONTH(C121)<=RptMo,F121,0)","v":0}]
["Central","XYZ","2012-06-02","Wal-Mart",200,4264,2044,2220,{"$f":"IF(MONTH(C122)<=RptMo,F122,0)","v":0}]
["East","DEF","2012-06-03","Sears",200,4282,1968,2314,{"$f":"IF(MONTH(C123)<=RptMo,F123,0)","v":0}]
["Central","XYZ","2012-06-04","IBM",500,12135,5110,7025,{"$f":"IF(MONTH(C124)<=RptMo,F124,0)","v":0}]
["Central","DEF","2012-06-06","IBM",200,4286,1968,2318,{"$f":"IF(MONTH(C125)<=RptMo,F125,0)","v":0}]
["East","XYZ","2012-06-08","Verizon",500,10650,5110,5540,{"$f":"IF(MONTH(C126)<=RptMo,F126,0)","v":0}]
["East","ABC","2012-06-09","Verizon",1000,19630,8470,11160,{"$f":"IF(MONTH(C127)<=RptMo,F127,0)","v":0}]
["Central","ABC","2012-06-10","General Electric",700,12838,5929,6909,{"$f":"IF(MONTH(C128)<=RptMo,F128,0)","v":0}]
["West","ABC","2012-06-11","Ford",200,3856,1694,2162,{"$f":"IF(MONTH(C129)<=RptMo,F129,0)","v":0}]
["Central","DEF","2012-06-15","SBC Communications",1000,22140,9840,12300,{"$f":"IF(MONTH(C130)<=RptMo,F130,0)","v":0}]
["Central","ABC","2012-06-19","IBM",500,10330,4235,6095,{"$f":"IF(MONTH(C131)<=RptMo,F131,0)","v":0}]
["West","ABC","2012-06-20","Exxon",100,1882,847,1035,{"$f":"IF(MONTH(C132)<=RptMo,F132,0)","v":0}]
["Central","DEF","2012-06-21","Ford",100,2221,984,1237,{"$f":"IF(MONTH(C133)<=RptMo,F133,0)","v":0}]
["Central","DEF","2012-06-22","Bank of America",800,15856,7872,7984,{"$f":"IF(MONTH(C134)<=RptMo,F134,0)","v":0}]
["Central","ABC","2012-06-22","Exxon",700,13734,5929,7805,{"$f":"IF(MONTH(C135)<=RptMo,F135,0)","v":0}]
["Central","DEF","2012-06-23","State Farm",200,4754,1968,2786,{"$f":"IF(MONTH(C136)<=RptMo,F136,0)","v":0}]
["Central","DEF","2012-06-26","Exxon",100,2231,984,1247,{"$f":"IF(MONTH(C137)<=RptMo,F137,0)","v":0}]
["Central","XYZ","2012-06-28","General Electric",900,21960,9198,12762,{"$f":"IF(MONTH(C138)<=RptMo,F138,0)","v":0}]
["Central","XYZ","2012-06-29","Lucent",300,7167,3066,4101,{"$f":"IF(MONTH(C139)<=RptMo,F139,0)","v":0}]
["East","XYZ","2012-06-29","Wal-Mart",900,22716,9198,13518,{"$f":"IF(MONTH(C140)<=RptMo,F140,0)","v":0}]
["East","XYZ","2012-06-30","AT&T",900,19062,9198,9864,{"$f":"IF(MONTH(C141)<=RptMo,F141,0)","v":0}]
["West","XYZ","2012-07-01","General Motors",300,7593,3066,4527,{"$f":"IF(MONTH(C142)<=RptMo,F142,0)","v":0}]
["East","DEF","2012-07-04","Exxon",900,21168,8856,12312,{"$f":"IF(MONTH(C143)<=RptMo,F143,0)","v":0}]
["West","XYZ","2012-07-06","Boeing",1000,24130,10220,13910,{"$f":"IF(MONTH(C144)<=RptMo,F144,0)","v":0}]
["Central","XYZ","2012-07-07","Sears",400,8876,4088,4788,{"$f":"IF(MONTH(C145)<=RptMo,F145,0)","v":0}]
["East","DEF","2012-07-10","General Electric",900,21555,8856,12699,{"$f":"IF(MONTH(C146)<=RptMo,F146,0)","v":0}]
["Central","XYZ","2012-07-11","Ford",700,15876,7154,8722,{"$f":"IF(MONTH(C147)<=RptMo,F147,0)","v":0}]
["East","ABC","2012-07-11","IBM",300,5967,2541,3426,{"$f":"IF(MONTH(C148)<=RptMo,F148,0)","v":0}]
["East","XYZ","2012-07-13","Bank of America",1000,25350,10220,15130,{"$f":"IF(MONTH(C149)<=RptMo,F149,0)","v":0}]
["West","ABC","2012-07-14","Home Depot",200,4158,1694,2464,{"$f":"IF(MONTH(C150)<=RptMo,F150,0)","v":0}]
["Central","DEF","2012-07-14","IBM",500,11545,4920,6625,{"$f":"IF(MONTH(C151)<=RptMo,F151,0)","v":0}]
["West","ABC","2012-07-16","General Motors",600,12684,5082,7602,{"$f":"IF(MONTH(C152)<=RptMo,F152,0)","v":0}]
["East","ABC","2012-07-18","Wal-Mart",1000,18660,8470,10190,{"$f":"IF(MONTH(C153)<=RptMo,F153,0)","v":0}]
["Central","DEF","2012-07-19","AT&T",500,11660,4920,6740,{"$f":"IF(MONTH(C154)<=RptMo,F154,0)","v":0}]
["East","DEF","2012-07-22","General Motors",800,15816,7872,7944,{"$f":"IF(MONTH(C155)<=RptMo,F155,0)","v":0}]
["West","XYZ","2012-07-23","Lucent",1000,23890,10220,13670,{"$f":"IF(MONTH(C156)<=RptMo,F156,0)","v":0}]
["West","DEF","2012-07-24","Verizon",600,13866,5904,7962,{"$f":"IF(MONTH(C157)<=RptMo,F157,0)","v":0}]
["East","ABC","2012-07-25","HP",1000,17840,8470,9370,{"$f":"IF(MONTH(C158)<=RptMo,F158,0)","v":0}]
["East","ABC","2012-07-25","Wal-Mart",800,13936,6776,7160,{"$f":"IF(MONTH(C159)<=RptMo,F159,0)","v":0}]
["East","XYZ","2012-07-26","General Electric",600,12984,6132,6852,{"$f":"IF(MONTH(C160)<=RptMo,F160,0)","v":0}]
["Central","DEF","2012-07-27","CitiGroup",1000,21800,9840,11960,{"$f":"IF(MONTH(C161)<=RptMo,F161,0)","v":0}]
["Central","ABC","2012-07-27","Wal-Mart",300,5508,2541,2967,{"$f":"IF(MONTH(C162)<=RptMo,F162,0)","v":0}]
["East","XYZ","2012-07-30","Exxon",400,9704,4088,5616,{"$f":"IF(MONTH(C163)<=RptMo,F163,0)","v":0}]
["West","XYZ","2012-07-31","Home Depot",600,13962,6132,7830,{"$f":"IF(MONTH(C164)<=RptMo,F164,0)","v":0}]
["Central","ABC","2012-08-01","Exxon",700,13433,5929,7504,{"$f":"IF(MONTH(C165)<=RptMo,F165,0)","v":0}]
["Central","ABC","2012-08-02","Bank of America",800,15288,6776,8512,{"$f":"IF(MONTH(C166)<=RptMo,F166,0)","v":0}]
["Central","XYZ","2012-08-02","General Motors",900,19584,9198,10386,{"$f":"IF(MONTH(C167)<=RptMo,F167,0)","v":0}]
["Central","XYZ","2012-08-03","General Electric",100,2320,1022,1298,{"$f":"IF(MONTH(C168)<=RptMo,F168,0)","v":0}]
["West","DEF","2012-08-08","AT&T",800,16936,7872,9064,{"$f":"IF(MONTH(C169)<=RptMo,F169,0)","v":0}]
["East","ABC","2012-08-10","Ford",300,6138,2541,3597,{"$f":"IF(MONTH(C170)<=RptMo,F170,0)","v":0}]
["West","DEF","2012-08-10","IBM",600,12030,5904,6126,{"$f":"IF(MONTH(C171)<=RptMo,F171,0)","v":0}]
["West","XYZ","2012-08-12","Bank of America",400,9384,4088,5296,{"$f":"IF(MONTH(C172)<=RptMo,F172,0)","v":0}]
["East","ABC","2012-08-13","Exxon",300,5904,2541,3363,{"$f":"IF(MONTH(C173)<=RptMo,F173,0)","v":0}]
["Central","ABC","2012-08-15","Exxon",1000,21120,8470,12650,{"$f":"IF(MONTH(C174)<=RptMo,F174,0)","v":0}]
["East","XYZ","2012-08-16","Bank of America",900,18684,9198,9486,{"$f":"IF(MONTH(C175)<=RptMo,F175,0)","v":0}]
["East","ABC","2012-08-16","Ford",100,1836,847,989,{"$f":"IF(MONTH(C176)<=RptMo,F176,0)","v":0}]
["East","XYZ","2012-08-18","AT&T",600,15006,6132,8874,{"$f":"IF(MONTH(C177)<=RptMo,F177,0)","v":0}]
["West","DEF","2012-08-18","CitiGroup",900,19989,8856,11133,{"$f":"IF(MONTH(C178)<=RptMo,F178,0)","v":0}]
["East","ABC","2012-08-21","Ford",100,1913,847,1066,{"$f":"IF(MONTH(C179)<=RptMo,F179,0)","v":0}]
["West","XYZ","2012-08-21","General Electric",400,8744,4088,4656,{"$f":"IF(MONTH(C180)<=RptMo,F180,0)","v":0}]
["West","XYZ","2012-08-21","Motorola",800,17856,8176,9680,{"$f":"IF(MONTH(C181)<=RptMo,F181,0)","v":0}]
["East","XYZ","2012-08-22","CitiGroup",900,19368,9198,10170,{"$f":"IF(MONTH(C182)<=RptMo,F182,0)","v":0}]
["East","ABC","2012-08-23","Kroger",100,1819,847,972,{"$f":"IF(MONTH(C183)<=RptMo,F183,0)","v":0}]
["East","XYZ","2012-08-24","AT&T",500,10990,5110,5880,{"$f":"IF(MONTH(C184)<=RptMo,F184,0)","v":0}]
["Central","XYZ","2012-08-24","AT&T",200,4440,2044,2396,{"$f":"IF(MONTH(C185)<=RptMo,F185,0)","v":0}]
["Central","ABC","2012-08-25","Verizon",300,6309,2541,3768,{"$f":"IF(MONTH(C186)<=RptMo,F186,0)","v":0}]
["West","DEF","2012-08-26","Bank of America",800,18904,7872,11032,{"$f":"IF(MONTH(C187)<=RptMo,F187,0)","v":0}]
["West","XYZ","2012-08-28","AIG",800,18072,8176,9896,{"$f":"IF(MONTH(C188)<=RptMo,F188,0)","v":0}]
["Central","ABC","2012-08-28","Wal-Mart",100,2012,847,1165,{"$f":"IF(MONTH(C189)<=RptMo,F189,0)","v":0}]
["West","ABC","2012-08-31","Ford",500,10295,4235,6060,{"$f":"IF(MONTH(C190)<=RptMo,F190,0)","v":0}]
["Central","ABC","2012-09-01","Ford",400,7944,3388,4556,{"$f":"IF(MONTH(C191)<=RptMo,F191,0)","v":0}]
["West","ABC","2012-09-02","IBM",100,1957,847,1110,{"$f":"IF(MONTH(C192)<=RptMo,F192,0)","v":0}]
["East","DEF","2012-09-06","AT&T",600,12756,5904,6852,{"$f":"IF(MONTH(C193)<=RptMo,F193,0)","v":0}]
["Central","DEF","2012-09-06","Verizon",700,15680,6888,8792,{"$f":"IF(MONTH(C194)<=RptMo,F194,0)","v":0}]
["Central","ABC","2012-09-07","Exxon",300,5826,2541,3285,{"$f":"IF(MONTH(C195)<=RptMo,F195,0)","v":0}]
["East","XYZ","2012-09-09","CitiGroup",800,20008,8176,11832,{"$f":"IF(MONTH(C196)<=RptMo,F196,0)","v":0}]
["East","ABC","2012-09-10","CitiGroup",300,5457,2541,2916,{"$f":"IF(MONTH(C197)<=RptMo,F197,0)","v":0}]
["East","ABC","2012-09-11","Exxon",600,12330,5082,7248,{"$f":"IF(MONTH(C198)<=RptMo,F198,0)","v":0}]
["East","DEF","2012-09-14","AT&T",500,11845,4920,6925,{"$f":"IF(MONTH(C199)<=RptMo,F199,0)","v":0}]
["Central","DEF","2012-09-15","Duke Energy",800,16784,7872,8912,{"$f":"IF(MONTH(C200)<=RptMo,F200,0)","v":0}]
["Central","ABC","2012-09-18","General Motors",1000,17200,8470,8730,{"$f":"IF(MONTH(C201)<=RptMo,F201,0)","v":0}]
["Central","ABC","2012-09-19","CitiGroup",600,10602,5082,5520,{"$f":"IF(MONTH(C202)<=RptMo,F202,0)","v":0}]
["Central","ABC","2012-09-21","AT&T",500,9350,4235,5115,{"$f":"IF(MONTH(C203)<=RptMo,F203,0)","v":0}]
["East","XYZ","2012-09-21","General Motors",100,2095,1022,1073,{"$f":"IF(MONTH(C204)<=RptMo,F204,0)","v":0}]
["West","DEF","2012-09-22","General Motors",600,13728,5904,7824,{"$f":"IF(MONTH(C205)<=RptMo,F205,0)","v":0}]
["Central","ABC","2012-09-23","General Electric",900,17712,7623,10089,{"$f":"IF(MONTH(C206)<=RptMo,F206,0)","v":0}]
["Central","DEF","2012-09-23","Wal-Mart",1000,23080,9840,13240,{"$f":"IF(MONTH(C207)<=RptMo,F207,0)","v":0}]
["West","ABC","2012-09-24","Wal-Mart",800,13552,6776,6776,{"$f":"IF(MONTH(C208)<=RptMo,F208,0)","v":0}]
["Central","XYZ","2012-09-25","General Motors",600,12480,6132,6348,{"$f":"IF(MONTH(C209)<=RptMo,F209,0)","v":0}]
["East","ABC","2012-09-26","CitiGroup",900,15759,7623,8136,{"$f":"IF(MONTH(C210)<=RptMo,F210,0)","v":0}]
["East","DEF","2012-09-28","General Electric",200,4866,1968,2898,{"$f":"IF(MONTH(C211)<=RptMo,F211,0)","v":0}]
["East","ABC","2012-09-29","Ford",100,1877,847,1030,{"$f":"IF(MONTH(C212)<=RptMo,F212,0)","v":0}]
["West","XYZ","2012-10-02","Duke Energy",800,16936,8176,8760,{"$f":"IF(MONTH(C213)<=RptMo,F213,0)","v":0}]
["East","XYZ","2012-10-03","Wal-Mart",700,15715,7154,8561,{"$f":"IF(MONTH(C214)<=RptMo,F214,0)","v":0}]
["East","XYZ","2012-10-04","CitiGroup",800,18208,8176,10032,{"$f":"IF(MONTH(C215)<=RptMo,F215,0)","v":0}]
["East","DEF","2012-10-04","Motorola",100,2358,984,1374,{"$f":"IF(MONTH(C216)<=RptMo,F216,0)","v":0}]
["East","XYZ","2012-10-06","IBM",400,8560,4088,4472,{"$f":"IF(MONTH(C217)<=RptMo,F217,0)","v":0}]
["West","DEF","2012-10-08","IBM",1000,20190,9840,10350,{"$f":"IF(MONTH(C218)<=RptMo,F218,0)","v":0}]
["West","XYZ","2012-10-09","Chevron",300,7032,3066,3966,{"$f":"IF(MONTH(C219)<=RptMo,F219,0)","v":0}]
["East","XYZ","2012-10-11","CitiGroup",100,2517,1022,1495,{"$f":"IF(MONTH(C220)<=RptMo,F220,0)","v":0}]
["East","ABC","2012-10-12","Bank of America",700,14133,5929,8204,{"$f":"IF(MONTH(C221)<=RptMo,F221,0)","v":0}]
["Central","XYZ","2012-10-12","Exxon",500,10550,5110,5440,{"$f":"IF(MONTH(C222)<=RptMo,F222,0)","v":0}]
["Central","XYZ","2012-10-13","Exxon",300,6495,3066,3429,{"$f":"IF(MONTH(C223)<=RptMo,F223,0)","v":0}]
["Central","ABC","2012-10-14","CitiGroup",400,7520,3388,4132,{"$f":"IF(MONTH(C224)<=RptMo,F224,0)","v":0}]
["West","XYZ","2012-10-16","AT&T",900,21834,9198,12636,{"$f":"IF(MONTH(C225)<=RptMo,F225,0)","v":0}]
["Central","ABC","2012-10-16","CitiGroup",800,14136,6776,7360,{"$f":"IF(MONTH(C226)<=RptMo,F226,0)","v":0}]
["East","ABC","2012-10-18","General Motors",800,16008,6776,9232,{"$f":"IF(MONTH(C227)<=RptMo,F227,0)","v":0}]
["Central","DEF","2012-10-18","Home Depot",500,11220,4920,6300,{"$f":"IF(MONTH(C228)<=RptMo,F228,0)","v":0}]
["East","DEF","2012-10-19","Wal-Mart",1000,23040,9840,13200,{"$f":"IF(MONTH(C229)<=RptMo,F229,0)","v":0}]
["Central","XYZ","2012-10-21","Exxon",900,21762,9198,12564,{"$f":"IF(MONTH(C230)<=RptMo,F230,0)","v":0}]
["West","DEF","2012-10-21","Exxon",500,10955,4920,6035,{"$f":"IF(MONTH(C231)<=RptMo,F231,0)","v":0}]
["Central","ABC","2012-10-23","Exxon",800,15976,6776,9200,{"$f":"IF(MONTH(C232)<=RptMo,F232,0)","v":0}]
["East","DEF","2012-10-26","CitiGroup",1000,20540,9840,10700,{"$f":"IF(MONTH(C233)<=RptMo,F233,0)","v":0}]
["Central","ABC","2012-10-27","General Electric",500,9475,4235,5240,{"$f":"IF(MONTH(C234)<=RptMo,F234,0)","v":0}]
["Central","XYZ","2012-10-28","General Motors",100,2343,1022,1321,{"$f":"IF(MONTH(C235)<=RptMo,F235,0)","v":0}]
["East","XYZ","2012-10-31","General Electric",500,10645,5110,5535,{"$f":"IF(MONTH(C236)<=RptMo,F236,0)","v":0}]
["East","ABC","2012-11-01","General Electric",400,8468,3388,5080,{"$f":"IF(MONTH(C237)<=RptMo,F237,0)","v":0}]
["West","ABC","2012-11-04","CitiGroup",400,8196,3388,4808,{"$f":"IF(MONTH(C238)<=RptMo,F238,0)","v":0}]
["West","DEF","2012-11-07","CitiGroup",500,11295,4920,6375,{"$f":"IF(MONTH(C239)<=RptMo,F239,0)","v":0}]
["East","DEF","2012-11-09","General Electric",600,14466,5904,8562,{"$f":"IF(MONTH(C240)<=RptMo,F240,0)","v":0}]
["West","XYZ","2012-11-09","Verizon",800,19376,8176,11200,{"$f":"IF(MONTH(C241)<=RptMo,F241,0)","v":0}]
["Central","ABC","2012-11-11","AT&T",900,15255,7623,7632,{"$f":"IF(MONTH(C242)<=RptMo,F242,0)","v":0}]
["Central","DEF","2012-11-11","Bank of America",900,21033,8856,12177,{"$f":"IF(MONTH(C243)<=RptMo,F243,0)","v":0}]
["West","ABC","2012-11-12","Compaq",1000,17250,8470,8780,{"$f":"IF(MONTH(C244)<=RptMo,F244,0)","v":0}]
["Central","DEF","2012-11-13","General Motors",600,13200,5904,7296,{"$f":"IF(MONTH(C245)<=RptMo,F245,0)","v":0}]
["West","ABC","2012-11-16","General Electric",200,3672,1694,1978,{"$f":"IF(MONTH(C246)<=RptMo,F246,0)","v":0}]
["East","XYZ","2012-11-16","SBC Communications",1000,24420,10220,14200,{"$f":"IF(MONTH(C247)<=RptMo,F247,0)","v":0}]
["Central","DEF","2012-11-17","CitiGroup",300,7053,2952,4101,{"$f":"IF(MONTH(C248)<=RptMo,F248,0)","v":0}]
["West","DEF","2012-11-19","CitiGroup",100,2410,984,1426,{"$f":"IF(MONTH(C249)<=RptMo,F249,0)","v":0}]
["Central","ABC","2012-11-19","Verizon",900,17136,7623,9513,{"$f":"IF(MONTH(C250)<=RptMo,F250,0)","v":0}]
["Central","DEF","2012-11-20","Verizon",300,6462,2952,3510,{"$f":"IF(MONTH(C251)<=RptMo,F251,0)","v":0}]
["East","XYZ","2012-11-21","Kroger",100,2538,1022,1516,{"$f":"IF(MONTH(C252)<=RptMo,F252,0)","v":0}]
["East","DEF","2012-11-24","General Electric",500,9890,4920,4970,{"$f":"IF(MONTH(C253)<=RptMo,F253,0)","v":0}]
["Central","DEF","2012-11-24","General Motors",100,2004,984,1020,{"$f":"IF(MONTH(C254)<=RptMo,F254,0)","v":0}]
["West","XYZ","2012-11-25","General Electric",300,7569,3066,4503,{"$f":"IF(MONTH(C255)<=RptMo,F255,0)","v":0}]
["Central","ABC","2012-11-26","Verizon",300,5592,2541,3051,{"$f":"IF(MONTH(C256)<=RptMo,F256,0)","v":0}]
["West","DEF","2012-11-27","IBM",200,3942,1968,1974,{"$f":"IF(MONTH(C257)<=RptMo,F257,0)","v":0}]
["West","DEF","2012-11-28","Phillip Morris",800,19344,7872,11472,{"$f":"IF(MONTH(C258)<=RptMo,F258,0)","v":0}]
["Central","DEF","2012-11-30","AT&T",900,21546,8856,12690,{"$f":"IF(MONTH(C259)<=RptMo,F259,0)","v":0}]
["East","DEF","2012-12-01","Phillip Morris",500,10760,4920,5840,{"$f":"IF(MONTH(C260)<=RptMo,F260,0)","v":0}]
["East","ABC","2012-12-01","Wal-Mart",900,18243,7623,10620,{"$f":"IF(MONTH(C261)<=RptMo,F261,0)","v":0}]
["West","ABC","2012-12-02","Ford",800,16856,6776,10080,{"$f":"IF(MONTH(C262)<=RptMo,F262,0)","v":0}]
["West","ABC","2012-12-04","Exxon",700,14105,5929,8176,{"$f":"IF(MONTH(C263)<=RptMo,F263,0)","v":0}]
["Central","ABC","2012-12-04","IBM",100,2111,847,1264,{"$f":"IF(MONTH(C264)<=RptMo,F264,0)","v":0}]
["Central","XYZ","2012-12-05","P&G",400,9660,4088,5572,{"$f":"IF(MONTH(C265)<=RptMo,F265,0)","v":0}]
["West","ABC","2012-12-06","Exxon",100,1878,847,1031,{"$f":"IF(MONTH(C266)<=RptMo,F266,0)","v":0}]
["Central","DEF","2012-12-06","General Electric",600,12888,5904,6984,{"$f":"IF(MONTH(C267)<=RptMo,F267,0)","v":0}]
["Central","ABC","2012-12-08","IBM",100,2108,847,1261,{"$f":"IF(MONTH(C268)<=RptMo,F268,0)","v":0}]
["Central","ABC","2012-12-10","Exxon",600,11964,5082,6882,{"$f":"IF(MONTH(C269)<=RptMo,F269,0)","v":0}]
["East","XYZ","2012-12-11","Exxon",900,20664,9198,11466,{"$f":"IF(MONTH(C270)<=RptMo,F270,0)","v":0}]
["East","XYZ","2012-12-11","IBM",300,6732,3066,3666,{"$f":"IF(MONTH(C271)<=RptMo,F271,0)","v":0}]
["Central","ABC","2012-12-14","Exxon",900,15651,7623,8028,{"$f":"IF(MONTH(C272)<=RptMo,F272,0)","v":0}]
["East","ABC","2012-12-15","Bank of America",600,11274,5082,6192,{"$f":"IF(MONTH(C273)<=RptMo,F273,0)","v":0}]
["West","ABC","2012-12-16","Ford",800,14408,6776,7632,{"$f":"IF(MONTH(C274)<=RptMo,F274,0)","v":0}]
["West","XYZ","2012-12-17","IBM",100,2213,1022,1191,{"$f":"IF(MONTH(C275)<=RptMo,F275,0)","v":0}]
["East","ABC","2012-12-18","IBM",500,8725,4235,4490,{"$f":"IF(MONTH(C276)<=RptMo,F276,0)","v":0}]
["West","XYZ","2012-12-20","Verizon",900,18666,9198,9468,{"$f":"IF(MONTH(C277)<=RptMo,F277,0)","v":0}]
["West","DEF","2012-12-21","General Electric",500,10475,4920,5555,{"$f":"IF(MONTH(C278)<=RptMo,F278,0)","v":0}]
["East","ABC","2012-12-21","Verizon",100,2055,847,1208,{"$f":"IF(MONTH(C279)<=RptMo,F279,0)","v":0}]
["East","XYZ","2012-12-23","Exxon",600,14178,6132,8046,{"$f":"IF(MONTH(C280)<=RptMo,F280,0)","v":0}]
["Central","ABC","2012-12-23","General Electric",100,1861,847,1014,{"$f":"IF(MONTH(C281)<=RptMo,F281,0)","v":0}]
["Central","ABC","2012-12-24","AT&T",500,9460,4235,5225,{"$f":"IF(MONTH(C282)<=RptMo,F282,0)","v":0}]
["Central","ABC","2012-12-25","General Motors",600,10290,5082,5208,{"$f":"IF(MONTH(C283)<=RptMo,F283,0)","v":0}]
["East","ABC","2012-12-29","Verizon",500,10245,4235,6010,{"$f":"IF(MONTH(C284)<=RptMo,F284,0)","v":0}]
["Central","XYZ","2012-12-30","General Electric",500,11240,5110,6130,{"$f":"IF(MONTH(C285)<=RptMo,F285,0)","v":0}]
["Central","XYZ","2012-12-31","General Electric",400,9204,4088,5116,{"$f":"IF(MONTH(C286)<=RptMo,F286,0)","v":0}]
["Central","ABC","2013-01-01","IBM",400,6860,3388,3472,{"$f":"IF(MONTH(C287)<=RptMo,F287,0)","v":6860}]
["West","XYZ","2013-01-03","Texaco",600,13806,6132,7674,{"$f":"IF(MONTH(C288)<=RptMo,F288,0)","v":13806}]
["East","XYZ","2013-01-05","HP",900,21015,9198,11817,{"$f":"IF(MONTH(C289)<=RptMo,F289,0)","v":21015}]
["East","XYZ","2013-01-06","General Electric",900,21465,9198,12267,{"$f":"IF(MONTH(C290)<=RptMo,F290,0)","v":21465}]
["West","XYZ","2013-01-08","General Electric",400,9144,4088,5056,{"$f":"IF(MONTH(C291)<=RptMo,F291,0)","v":9144}]
["Central","ABC","2013-01-10","AT&T",100,1740,847,893,{"$f":"IF(MONTH(C292)<=RptMo,F292,0)","v":1740}]
["West","ABC","2013-01-10","Wal-Mart",1000,19110,8470,10640,{"$f":"IF(MONTH(C293)<=RptMo,F293,0)","v":19110}]
["Central","XYZ","2013-01-12","Wal-Mart",900,21888,9198,12690,{"$f":"IF(MONTH(C294)<=RptMo,F294,0)","v":21888}]
["East","DEF","2013-01-13","Exxon",300,5961,2952,3009,{"$f":"IF(MONTH(C295)<=RptMo,F295,0)","v":5961}]
["Central","ABC","2013-01-16","CitiGroup",900,17505,7623,9882,{"$f":"IF(MONTH(C296)<=RptMo,F296,0)","v":17505}]
["West","DEF","2013-01-17","Exxon",300,7032,2952,4080,{"$f":"IF(MONTH(C297)<=RptMo,F297,0)","v":7032}]
["West","DEF","2013-01-18","Exxon",300,6735,2952,3783,{"$f":"IF(MONTH(C298)<=RptMo,F298,0)","v":6735}]
["East","ABC","2013-01-19","Exxon",400,8164,3388,4776,{"$f":"IF(MONTH(C299)<=RptMo,F299,0)","v":8164}]
["West","ABC","2013-01-20","Wal-Mart",300,6207,2541,3666,{"$f":"IF(MONTH(C300)<=RptMo,F300,0)","v":6207}]
["East","DEF","2013-01-21","Exxon",300,6240,2952,3288,{"$f":"IF(MONTH(C301)<=RptMo,F301,0)","v":6240}]
["Central","ABC","2013-01-23","General Electric",500,10445,4235,6210,{"$f":"IF(MONTH(C302)<=RptMo,F302,0)","v":10445}]
["East","ABC","2013-01-25","Wal-Mart",800,14224,6776,7448,{"$f":"IF(MONTH(C303)<=RptMo,F303,0)","v":14224}]
["Central","XYZ","2013-01-26","AT&T",400,10044,4088,5956,{"$f":"IF(MONTH(C304)<=RptMo,F304,0)","v":10044}]
["West","ABC","2013-01-27","CitiGroup",1000,19250,8470,10780,{"$f":"IF(MONTH(C305)<=RptMo,F305,0)","v":19250}]
["East","DEF","2013-01-28","Exxon",200,4740,1968,2772,{"$f":"IF(MONTH(C306)<=RptMo,F306,0)","v":4740}]
["East","DEF","2013-01-28","General Motors",600,12672,5904,6768,{"$f":"IF(MONTH(C307)<=RptMo,F307,0)","v":12672}]
["Central","ABC","2013-02-01","Exxon",700,13314,5929,7385,{"$f":"IF(MONTH(C308)<=RptMo,F308,0)","v":13314}]
["Central","DEF","2013-02-02","General Electric",200,4280,1968,2312,{"$f":"IF(MONTH(C309)<=RptMo,F309,0)","v":4280}]
["East","ABC","2013-02-04","Verizon",300,6045,2541,3504,{"$f":"IF(MONTH(C310)<=RptMo,F310,0)","v":6045}]
["Central","ABC","2013-02-05","Wal-Mart",400,7180,3388,3792,{"$f":"IF(MONTH(C311)<=RptMo,F311,0)","v":7180}]
["East","DEF","2013-02-09","CitiGroup",600,12798,5904,6894,{"$f":"IF(MONTH(C312)<=RptMo,F312,0)","v":12798}]
["East","ABC","2013-02-11","Wal-Mart",100,2066,847,1219,{"$f":"IF(MONTH(C313)<=RptMo,F313,0)","v":2066}]
["East","DEF","2013-02-12","Ford",200,4742,1968,2774,{"$f":"IF(MONTH(C314)<=RptMo,F314,0)","v":4742}]
["West","ABC","2013-02-13","General Motors",200,3876,1694,2182,{"$f":"IF(MONTH(C315)<=RptMo,F315,0)","v":3876}]
["West","XYZ","2013-02-15","General Motors",1000,25080,10220,14860,{"$f":"IF(MONTH(C316)<=RptMo,F316,0)","v":25080}]
["West","DEF","2013-02-15","IBM",400,9088,3936,5152,{"$f":"IF(MONTH(C317)<=RptMo,F317,0)","v":9088}]
["East","ABC","2013-02-16","Bank of America",400,7152,3388,3764,{"$f":"IF(MONTH(C318)<=RptMo,F318,0)","v":7152}]
["Central","DEF","2013-02-16","General Electric",800,18504,7872,10632,{"$f":"IF(MONTH(C319)<=RptMo,F319,0)","v":18504}]
["Central","DEF","2013-02-18","Ford",600,12282,5904,6378,{"$f":"IF(MONTH(C320)<=RptMo,F320,0)","v":12282}]
["East","XYZ","2013-02-20","General Electric",1000,20940,10220,10720,{"$f":"IF(MONTH(C321)<=RptMo,F321,0)","v":20940}]
["Central","XYZ","2013-02-22","Ford",1000,22680,10220,12460,{"$f":"IF(MONTH(C322)<=RptMo,F322,0)","v":22680}]
["West","ABC","2013-02-22","General Motors",700,12145,5929,6216,{"$f":"IF(MONTH(C323)<=RptMo,F323,0)","v":12145}]
["Central","XYZ","2013-02-22","IBM",700,17367,7154,10213,{"$f":"IF(MONTH(C324)<=RptMo,F324,0)","v":17367}]
["Central","XYZ","2013-02-23","Phillip Morris",200,4614,2044,2570,{"$f":"IF(MONTH(C325)<=RptMo,F325,0)","v":4614}]
["Central","ABC","2013-02-23","Verizon",600,11922,5082,6840,{"$f":"IF(MONTH(C326)<=RptMo,F326,0)","v":11922}]
["East","XYZ","2013-02-24","Verizon",1000,20490,10220,10270,{"$f":"IF(MONTH(C327)<=RptMo,F327,0)","v":20490}]
["East","XYZ","2013-02-27","General Electric",400,8620,4088,4532,{"$f":"IF(MONTH(C328)<=RptMo,F328,0)","v":8620}]
["East","DEF","2013-02-28","IBM",500,11860,4920,6940,{"$f":"IF(MONTH(C329)<=RptMo,F329,0)","v":11860}]
["East","ABC","2013-03-02","Bank of America",800,14984,6776,8208,{"$f":"IF(MONTH(C330)<=RptMo,F330,0)","v":0}]
["Central","ABC","2013-03-02","Ford",200,4010,1694,2316,{"$f":"IF(MONTH(C331)<=RptMo,F331,0)","v":0}]
["Central","XYZ","2013-03-05","General Motors",500,12505,5110,7395,{"$f":"IF(MONTH(C332)<=RptMo,F332,0)","v":0}]
["West","ABC","2013-03-09","General Motors",100,1704,847,857,{"$f":"IF(MONTH(C333)<=RptMo,F333,0)","v":0}]
["West","XYZ","2013-03-09","IBM",300,7305,3066,4239,{"$f":"IF(MONTH(C334)<=RptMo,F334,0)","v":0}]
["West","XYZ","2013-03-10","IBM",500,11965,5110,6855,{"$f":"IF(MONTH(C335)<=RptMo,F335,0)","v":0}]
["West","XYZ","2013-03-12","Bank of America",400,9240,4088,5152,{"$f":"IF(MONTH(C336)<=RptMo,F336,0)","v":0}]
["East","DEF","2013-03-12","Ford",200,4526,1968,2558,{"$f":"IF(MONTH(C337)<=RptMo,F337,0)","v":0}]
["East","DEF","2013-03-14","IBM",500,11695,4920,6775,{"$f":"IF(MONTH(C338)<=RptMo,F338,0)","v":0}]
["East","DEF","2013-03-15","Exxon",100,2272,984,1288,{"$f":"IF(MONTH(C339)<=RptMo,F339,0)","v":0}]
["West","DEF","2013-03-16","Ford",100,2157,984,1173,{"$f":"IF(MONTH(C340)<=RptMo,F340,0)","v":0}]
["West","XYZ","2013-03-18","Verizon",400,8732,4088,4644,{"$f":"IF(MONTH(C341)<=RptMo,F341,0)","v":0}]
["West","DEF","2013-03-19","CitiGroup",800,15856,7872,7984,{"$f":"IF(MONTH(C342)<=RptMo,F342,0)","v":0}]
["Central","XYZ","2013-03-20","Merck",100,2484,1022,1462,{"$f":"IF(MONTH(C343)<=RptMo,F343,0)","v":0}]
["West","DEF","2013-03-20","Wal-Mart",1000,23820,9840,13980,{"$f":"IF(MONTH(C344)<=RptMo,F344,0)","v":0}]
["Central","DEF","2013-03-21","General Electric",200,4472,1968,2504,{"$f":"IF(MONTH(C345)<=RptMo,F345,0)","v":0}]
["Central","ABC","2013-03-22","General Motors",700,11858,5929,5929,{"$f":"IF(MONTH(C346)<=RptMo,F346,0)","v":0}]
["West","ABC","2013-03-24","General Motors",500,9855,4235,5620,{"$f":"IF(MONTH(C347)<=RptMo,F347,0)","v":0}]
["East","DEF","2013-03-26","Wal-Mart",800,17240,7872,9368,{"$f":"IF(MONTH(C348)<=RptMo,F348,0)","v":0}]
["Central","XYZ","2013-03-27","Ford",600,13542,6132,7410,{"$f":"IF(MONTH(C349)<=RptMo,F349,0)","v":0}]
["West","ABC","2013-03-28","Motorola",300,5859,2541,3318,{"$f":"IF(MONTH(C350)<=RptMo,F350,0)","v":0}]
["Central","DEF","2013-03-30","Exxon",300,7233,2952,4281,{"$f":"IF(MONTH(C351)<=RptMo,F351,0)","v":0}]
["West","ABC","2013-03-31","Ford",400,7752,3388,4364,{"$f":"IF(MONTH(C352)<=RptMo,F352,0)","v":0}]
["East","XYZ","2013-03-31","General Motors",700,15435,7154,8281,{"$f":"IF(MONTH(C353)<=RptMo,F353,0)","v":0}]
["West","ABC","2013-04-01","CitiGroup",500,9575,4235,5340,{"$f":"IF(MONTH(C354)<=RptMo,F354,0)","v":0}]
["West","XYZ","2013-04-01","Exxon",100,2178,1022,1156,{"$f":"IF(MONTH(C355)<=RptMo,F355,0)","v":0}]
["Central","ABC","2013-04-03","Ford",500,10460,4235,6225,{"$f":"IF(MONTH(C356)<=RptMo,F356,0)","v":0}]
["Central","XYZ","2013-04-06","Ford",800,18344,8176,10168,{"$f":"IF(MONTH(C357)<=RptMo,F357,0)","v":0}]
["East","ABC","2013-04-06","General Motors",400,8132,3388,4744,{"$f":"IF(MONTH(C358)<=RptMo,F358,0)","v":0}]
["West","DEF","2013-04-08","General Electric",400,8776,3936,4840,{"$f":"IF(MONTH(C359)<=RptMo,F359,0)","v":0}]
["East","DEF","2013-04-09","Wal-Mart",900,20403,8856,11547,{"$f":"IF(MONTH(C360)<=RptMo,F360,0)","v":0}]
["East","DEF","2013-04-10","AIG",600,14004,5904,8100,{"$f":"IF(MONTH(C361)<=RptMo,F361,0)","v":0}]
["West","ABC","2013-04-11","Ford",800,14216,6776,7440,{"$f":"IF(MONTH(C362)<=RptMo,F362,0)","v":0}]
["East","ABC","2013-04-16","General Motors",900,17172,7623,9549,{"$f":"IF(MONTH(C363)<=RptMo,F363,0)","v":0}]
["Central","XYZ","2013-04-17","General Motors",1000,20670,10220,10450,{"$f":"IF(MONTH(C364)<=RptMo,F364,0)","v":0}]
["West","ABC","2013-04-18","Wal-Mart",400,7376,3388,3988,{"$f":"IF(MONTH(C365)<=RptMo,F365,0)","v":0}]
["West","XYZ","2013-04-20","Merck",800,17728,8176,9552,{"$f":"IF(MONTH(C366)<=RptMo,F366,0)","v":0}]
["Central","DEF","2013-04-21","Boeing",1000,20950,9840,11110,{"$f":"IF(MONTH(C367)<=RptMo,F367,0)","v":0}]
["Central","ABC","2013-04-22","Ford",400,7852,3388,4464,{"$f":"IF(MONTH(C368)<=RptMo,F368,0)","v":0}]
["Central","ABC","2013-04-23","Wal-Mart",600,12360,5082,7278,{"$f":"IF(MONTH(C369)<=RptMo,F369,0)","v":0}]
["Central","DEF","2013-04-25","Ford",900,18990,8856,10134,{"$f":"IF(MONTH(C370)<=RptMo,F370,0)","v":0}]
["West","ABC","2013-04-25","General Electric",300,6069,2541,3528,{"$f":"IF(MONTH(C371)<=RptMo,F371,0)","v":0}]
["East","ABC","2013-04-27","AT&T",1000,20310,8470,11840,{"$f":"IF(MONTH(C372)<=RptMo,F372,0)","v":0}]
["West","DEF","2013-04-27","AT&T",300,6018,2952,3066,{"$f":"IF(MONTH(C373)<=RptMo,F373,0)","v":0}]
["West","XYZ","2013-04-28","AT&T",1000,25310,10220,15090,{"$f":"IF(MONTH(C374)<=RptMo,F374,0)","v":0}]
["West","DEF","2013-04-29","Verizon",200,4378,1968,2410,{"$f":"IF(MONTH(C375)<=RptMo,F375,0)","v":0}]
["Central","DEF","2013-05-01","General Motors",700,15407,6888,8519,{"$f":"IF(MONTH(C376)<=RptMo,F376,0)","v":0}]
["Central","ABC","2013-05-02","Wal-Mart",1000,18290,8470,9820,{"$f":"IF(MONTH(C377)<=RptMo,F377,0)","v":0}]
["East","ABC","2013-05-03","AT&T",100,1842,847,995,{"$f":"IF(MONTH(C378)<=RptMo,F378,0)","v":0}]
["Central","XYZ","2013-05-03","CitiGroup",500,10400,5110,5290,{"$f":"IF(MONTH(C379)<=RptMo,F379,0)","v":0}]
["East","ABC","2013-05-04","Ford",100,1982,847,1135,{"$f":"IF(MONTH(C380)<=RptMo,F380,0)","v":0}]
["Central","XYZ","2013-05-06","CitiGroup",300,6789,3066,3723,{"$f":"IF(MONTH(C381)<=RptMo,F381,0)","v":0}]
["Central","DEF","2013-05-07","Bank of America",300,7245,2952,4293,{"$f":"IF(MONTH(C382)<=RptMo,F382,0)","v":0}]
["Central","XYZ","2013-05-08","Exxon",500,11000,5110,5890,{"$f":"IF(MONTH(C383)<=RptMo,F383,0)","v":0}]
["East","ABC","2013-05-09","Bank of America",500,9155,4235,4920,{"$f":"IF(MONTH(C384)<=RptMo,F384,0)","v":0}]
["East","DEF","2013-05-09","General Motors",400,9760,3936,5824,{"$f":"IF(MONTH(C385)<=RptMo,F385,0)","v":0}]
["East","XYZ","2013-05-11","Ford",400,9156,4088,5068,{"$f":"IF(MONTH(C386)<=RptMo,F386,0)","v":0}]
["Central","XYZ","2013-05-14","General Electric",500,10385,5110,5275,{"$f":"IF(MONTH(C387)<=RptMo,F387,0)","v":0}]
["Central","DEF","2013-05-16","Verizon",700,14203,6888,7315,{"$f":"IF(MONTH(C388)<=RptMo,F388,0)","v":0}]
["West","XYZ","2013-05-17","CitiGroup",600,14634,6132,8502,{"$f":"IF(MONTH(C389)<=RptMo,F389,0)","v":0}]
["Central","XYZ","2013-05-18","Exxon",100,2149,1022,1127,{"$f":"IF(MONTH(C390)<=RptMo,F390,0)","v":0}]
["West","ABC","2013-05-18","State Farm",700,13853,5929,7924,{"$f":"IF(MONTH(C391)<=RptMo,F391,0)","v":0}]
["East","DEF","2013-05-19","Ford",200,4474,1968,2506,{"$f":"IF(MONTH(C392)<=RptMo,F392,0)","v":0}]
["East","XYZ","2013-05-19","Ford",100,2487,1022,1465,{"$f":"IF(MONTH(C393)<=RptMo,F393,0)","v":0}]
["West","XYZ","2013-05-20","Exxon",200,4388,2044,2344,{"$f":"IF(MONTH(C394)<=RptMo,F394,0)","v":0}]
["West","ABC","2013-05-21","General Electric",300,5094,2541,2553,{"$f":"IF(MONTH(C395)<=RptMo,F395,0)","v":0}]
["Central","DEF","2013-05-24","Ford",800,16264,7872,8392,{"$f":"IF(MONTH(C396)<=RptMo,F396,0)","v":0}]
["East","ABC","2013-05-24","General Motors",200,3632,1694,1938,{"$f":"IF(MONTH(C397)<=RptMo,F397,0)","v":0}]
["Central","XYZ","2013-05-26","Ford",500,12550,5110,7440,{"$f":"IF(MONTH(C398)<=RptMo,F398,0)","v":0}]
["East","DEF","2013-05-26","General Motors",700,16408,6888,9520,{"$f":"IF(MONTH(C399)<=RptMo,F399,0)","v":0}]
["West","DEF","2013-05-27","AT&T",800,17056,7872,9184,{"$f":"IF(MONTH(C400)<=RptMo,F400,0)","v":0}]
["East","XYZ","2013-05-27","Wal-Mart",800,19152,8176,10976,{"$f":"IF(MONTH(C401)<=RptMo,F401,0)","v":0}]
["East","XYZ","2013-05-30","Bank of America",1000,23990,10220,13770,{"$f":"IF(MONTH(C402)<=RptMo,F402,0)","v":0}]
["East","XYZ","2013-05-31","CitiGroup",1000,22020,10220,11800,{"$f":"IF(MONTH(C403)<=RptMo,F403,0)","v":0}]
["Central","XYZ","2013-06-03","Compaq",400,9064,4088,4976,{"$f":"IF(MONTH(C404)<=RptMo,F404,0)","v":0}]
["East","ABC","2013-06-04","CitiGroup",900,18072,7623,10449,{"$f":"IF(MONTH(C405)<=RptMo,F405,0)","v":0}]
["East","ABC","2013-06-05","AT&T",800,16288,6776,9512,{"$f":"IF(MONTH(C406)<=RptMo,F406,0)","v":0}]
["Central","DEF","2013-06-07","IBM",800,17944,7872,10072,{"$f":"IF(MONTH(C407)<=RptMo,F407,0)","v":0}]
["East","DEF","2013-06-08","Wal-Mart",300,6477,2952,3525,{"$f":"IF(MONTH(C408)<=RptMo,F408,0)","v":0}]
["West","ABC","2013-06-09","Exxon",600,10404,5082,5322,{"$f":"IF(MONTH(C409)<=RptMo,F409,0)","v":0}]
["West","ABC","2013-06-10","IBM",500,8780,4235,4545,{"$f":"IF(MONTH(C410)<=RptMo,F410,0)","v":0}]
["East","ABC","2013-06-14","General Electric",700,13874,5929,7945,{"$f":"IF(MONTH(C411)<=RptMo,F411,0)","v":0}]
["East","XYZ","2013-06-17","Verizon",700,15988,7154,8834,{"$f":"IF(MONTH(C412)<=RptMo,F412,0)","v":0}]
["Central","DEF","2013-06-20","AT&T",1000,20020,9840,10180,{"$f":"IF(MONTH(C413)<=RptMo,F413,0)","v":0}]
["Central","DEF","2013-06-21","AIG",200,4060,1968,2092,{"$f":"IF(MONTH(C414)<=RptMo,F414,0)","v":0}]
["West","DEF","2013-06-22","Ford",700,16219,6888,9331,{"$f":"IF(MONTH(C415)<=RptMo,F415,0)","v":0}]
["West","ABC","2013-06-22","General Electric",800,15400,6776,8624,{"$f":"IF(MONTH(C416)<=RptMo,F416,0)","v":0}]
["Central","XYZ","2013-06-23","Exxon",400,8804,4088,4716,{"$f":"IF(MONTH(C417)<=RptMo,F417,0)","v":0}]
["East","XYZ","2013-06-26","Exxon",500,12425,5110,7315,{"$f":"IF(MONTH(C418)<=RptMo,F418,0)","v":0}]
["East","DEF","2013-06-27","Verizon",100,2054,984,1070,{"$f":"IF(MONTH(C419)<=RptMo,F419,0)","v":0}]
["East","XYZ","2013-06-28","IBM",400,9816,4088,5728,{"$f":"IF(MONTH(C420)<=RptMo,F420,0)","v":0}]
["East","ABC","2013-06-29","AT&T",200,4192,1694,2498,{"$f":"IF(MONTH(C421)<=RptMo,F421,0)","v":0}]
["West","DEF","2013-06-29","Wal-Mart",900,18099,8856,9243,{"$f":"IF(MONTH(C422)<=RptMo,F422,0)","v":0}]
["Central","DEF","2013-07-01","Exxon",700,16303,6888,9415,{"$f":"IF(MONTH(C423)<=RptMo,F423,0)","v":0}]
["East","XYZ","2013-07-03","Wal-Mart",400,8580,4088,4492,{"$f":"IF(MONTH(C424)<=RptMo,F424,0)","v":0}]
["Central","DEF","2013-07-04","General Motors",500,12270,4920,7350,{"$f":"IF(MONTH(C425)<=RptMo,F425,0)","v":0}]
["Central","ABC","2013-07-07","Wal-Mart",900,17883,7623,10260,{"$f":"IF(MONTH(C426)<=RptMo,F426,0)","v":0}]
["East","DEF","2013-07-09","IBM",500,11725,4920,6805,{"$f":"IF(MONTH(C427)<=RptMo,F427,0)","v":0}]
["Central","XYZ","2013-07-10","IBM",900,21366,9198,12168,{"$f":"IF(MONTH(C428)<=RptMo,F428,0)","v":0}]
["East","DEF","2013-07-11","Lucent",700,14497,6888,7609,{"$f":"IF(MONTH(C429)<=RptMo,F429,0)","v":0}]
["Central","DEF","2013-07-12","Ford",800,17416,7872,9544,{"$f":"IF(MONTH(C430)<=RptMo,F430,0)","v":0}]
["East","ABC","2013-07-14","Ford",700,13804,5929,7875,{"$f":"IF(MONTH(C431)<=RptMo,F431,0)","v":0}]
["Central","XYZ","2013-07-14","IBM",200,4902,2044,2858,{"$f":"IF(MONTH(C432)<=RptMo,F432,0)","v":0}]
["East","DEF","2013-07-15","Wal-Mart",500,11235,4920,6315,{"$f":"IF(MONTH(C433)<=RptMo,F433,0)","v":0}]
["West","XYZ","2013-07-17","Kroger",1000,22840,10220,12620,{"$f":"IF(MONTH(C434)<=RptMo,F434,0)","v":0}]
["West","ABC","2013-07-18","Exxon",200,3390,1694,1696,{"$f":"IF(MONTH(C435)<=RptMo,F435,0)","v":0}]
["East","DEF","2013-07-19","Verizon",300,6228,2952,3276,{"$f":"IF(MONTH(C436)<=RptMo,F436,0)","v":0}]
["East","DEF","2013-07-22","Ford",600,13332,5904,7428,{"$f":"IF(MONTH(C437)<=RptMo,F437,0)","v":0}]
["Central","DEF","2013-07-23","Wal-Mart",200,4132,1968,2164,{"$f":"IF(MONTH(C438)<=RptMo,F438,0)","v":0}]
["Central","XYZ","2013-07-24","Exxon",200,4722,2044,2678,{"$f":"IF(MONTH(C439)<=RptMo,F439,0)","v":0}]
["East","DEF","2013-07-25","General Motors",700,16170,6888,9282,{"$f":"IF(MONTH(C440)<=RptMo,F440,0)","v":0}]
["West","ABC","2013-07-26","Chevron",1000,18290,8470,9820,{"$f":"IF(MONTH(C441)<=RptMo,F441,0)","v":0}]
["Central","DEF","2013-07-26","Verizon",300,6159,2952,3207,{"$f":"IF(MONTH(C442)<=RptMo,F442,0)","v":0}]
["West","ABC","2013-07-27","Exxon",1000,18500,8470,10030,{"$f":"IF(MONTH(C443)<=RptMo,F443,0)","v":0}]
["Central","XYZ","2013-07-30","Exxon",900,21159,9198,11961,{"$f":"IF(MONTH(C444)<=RptMo,F444,0)","v":0}]
["West","ABC","2013-07-31","AT&T",800,15488,6776,8712,{"$f":"IF(MONTH(C445)<=RptMo,F445,0)","v":0}]
["East","XYZ","2013-07-31","Ford",100,2547,1022,1525,{"$f":"IF(MONTH(C446)<=RptMo,F446,0)","v":0}]
["West","ABC","2013-08-01","Wal-Mart",200,3418,1694,1724,{"$f":"IF(MONTH(C447)<=RptMo,F447,0)","v":0}]
["West","ABC","2013-08-02","General Motors",1000,19530,8470,11060,{"$f":"IF(MONTH(C448)<=RptMo,F448,0)","v":0}]
["East","DEF","2013-08-03","Compaq",200,4380,1968,2412,{"$f":"IF(MONTH(C449)<=RptMo,F449,0)","v":0}]
["Central","DEF","2013-08-07","Wal-Mart",600,13368,5904,7464,{"$f":"IF(MONTH(C450)<=RptMo,F450,0)","v":0}]
["Central","XYZ","2013-08-08","Ford",200,4550,2044,2506,{"$f":"IF(MONTH(C451)<=RptMo,F451,0)","v":0}]
["West","DEF","2013-08-10","AT&T",300,6522,2952,3570,{"$f":"IF(MONTH(C452)<=RptMo,F452,0)","v":0}]
["Central","DEF","2013-08-12","Bank of America",700,17213,6888,10325,{"$f":"IF(MONTH(C453)<=RptMo,F453,0)","v":0}]
["Central","DEF","2013-08-12","Texaco",200,4270,1968,2302,{"$f":"IF(MONTH(C454)<=RptMo,F454,0)","v":0}]
["East","DEF","2013-08-14","Exxon",800,16232,7872,8360,{"$f":"IF(MONTH(C455)<=RptMo,F455,0)","v":0}]
["West","XYZ","2013-08-15","Ford",500,12755,5110,7645,{"$f":"IF(MONTH(C456)<=RptMo,F456,0)","v":0}]
["West","DEF","2013-08-16","General Motors",200,4470,1968,2502,{"$f":"IF(MONTH(C457)<=RptMo,F457,0)","v":0}]
["Central","ABC","2013-08-17","Ford",300,6156,2541,3615,{"$f":"IF(MONTH(C458)<=RptMo,F458,0)","v":0}]
["Central","ABC","2013-08-18","General Electric",800,15544,6776,8768,{"$f":"IF(MONTH(C459)<=RptMo,F459,0)","v":0}]
["West","DEF","2013-08-20","Ford",100,2409,984,1425,{"$f":"IF(MONTH(C460)<=RptMo,F460,0)","v":0}]
["East","XYZ","2013-08-21","Bank of America",600,12570,6132,6438,{"$f":"IF(MONTH(C461)<=RptMo,F461,0)","v":0}]
["Central","XYZ","2013-08-21","IBM",300,6438,3066,3372,{"$f":"IF(MONTH(C462)<=RptMo,F462,0)","v":0}]
["Central","XYZ","2013-08-22","Ford",900,19593,9198,10395,{"$f":"IF(MONTH(C463)<=RptMo,F463,0)","v":0}]
["West","ABC","2013-08-23","Verizon",900,18981,7623,11358,{"$f":"IF(MONTH(C464)<=RptMo,F464,0)","v":0}]
["Central","XYZ","2013-08-24","Exxon",800,17160,8176,8984,{"$f":"IF(MONTH(C465)<=RptMo,F465,0)","v":0}]
["East","ABC","2013-08-24","IBM",100,2028,847,1181,{"$f":"IF(MONTH(C466)<=RptMo,F466,0)","v":0}]
["West","ABC","2013-08-24","Wal-Mart",300,5859,2541,3318,{"$f":"IF(MONTH(C467)<=RptMo,F467,0)","v":0}]
["East","ABC","2013-08-25","Duke Energy",300,5532,2541,2991,{"$f":"IF(MONTH(C468)<=RptMo,F468,0)","v":0}]
["West","XYZ","2013-08-26","Ford",500,12575,5110,7465,{"$f":"IF(MONTH(C469)<=RptMo,F469,0)","v":0}]
["West","ABC","2013-08-28","CitiGroup",800,16144,6776,9368,{"$f":"IF(MONTH(C470)<=RptMo,F470,0)","v":0}]
["East","DEF","2013-08-30","General Motors",900,18486,8856,9630,{"$f":"IF(MONTH(C471)<=RptMo,F471,0)","v":0}]
["East","ABC","2013-09-01","Exxon",900,17289,7623,9666,{"$f":"IF(MONTH(C472)<=RptMo,F472,0)","v":0}]
["East","DEF","2013-09-01","General Motors",100,2106,984,1122,{"$f":"IF(MONTH(C473)<=RptMo,F473,0)","v":0}]
["East","DEF","2013-09-05","Home Depot",100,2029,984,1045,{"$f":"IF(MONTH(C474)<=RptMo,F474,0)","v":0}]
["Central","DEF","2013-09-06","HP",500,11550,4920,6630,{"$f":"IF(MONTH(C475)<=RptMo,F475,0)","v":0}]
["Central","XYZ","2013-09-06","Verizon",600,12936,6132,6804,{"$f":"IF(MONTH(C476)<=RptMo,F476,0)","v":0}]
["East","DEF","2013-09-08","Bank of America",600,14580,5904,8676,{"$f":"IF(MONTH(C477)<=RptMo,F477,0)","v":0}]
["Central","XYZ","2013-09-10","CitiGroup",100,2058,1022,1036,{"$f":"IF(MONTH(C478)<=RptMo,F478,0)","v":0}]
["East","DEF","2013-09-10","Ford",600,13566,5904,7662,{"$f":"IF(MONTH(C479)<=RptMo,F479,0)","v":0}]
["West","ABC","2013-09-13","General Electric",100,1741,847,894,{"$f":"IF(MONTH(C480)<=RptMo,F480,0)","v":0}]
["West","XYZ","2013-09-14","Exxon",200,5002,2044,2958,{"$f":"IF(MONTH(C481)<=RptMo,F481,0)","v":0}]
["Central","ABC","2013-09-15","AT&T",100,1795,847,948,{"$f":"IF(MONTH(C482)<=RptMo,F482,0)","v":0}]
["East","DEF","2013-09-18","IBM",400,8592,3936,4656,{"$f":"IF(MONTH(C483)<=RptMo,F483,0)","v":0}]
["East","DEF","2013-09-21","AT&T",600,12690,5904,6786,{"$f":"IF(MONTH(C484)<=RptMo,F484,0)","v":0}]
["West","DEF","2013-09-21","IBM",300,6582,2952,3630,{"$f":"IF(MONTH(C485)<=RptMo,F485,0)","v":0}]
["Central","XYZ","2013-09-22","General Electric",900,22014,9198,12816,{"$f":"IF(MONTH(C486)<=RptMo,F486,0)","v":0}]
["Central","DEF","2013-09-22","General Electric",400,9672,3936,5736,{"$f":"IF(MONTH(C487)<=RptMo,F487,0)","v":0}]
["West","ABC","2013-09-23","Exxon",1000,18530,8470,10060,{"$f":"IF(MONTH(C488)<=RptMo,F488,0)","v":0}]
["Central","DEF","2013-09-23","Wal-Mart",600,14004,5904,8100,{"$f":"IF(MONTH(C489)<=RptMo,F489,0)","v":0}]
["East","ABC","2013-09-24","Wal-Mart",700,13139,5929,7210,{"$f":"IF(MONTH(C490)<=RptMo,F490,0)","v":0}]
["Central","ABC","2013-09-25","Bank of America",500,8715,4235,4480,{"$f":"IF(MONTH(C491)<=RptMo,F491,0)","v":0}]
["East","ABC","2013-09-28","CitiGroup",400,6944,3388,3556,{"$f":"IF(MONTH(C492)<=RptMo,F492,0)","v":0}]
["West","XYZ","2013-09-29","Wal-Mart",500,12760,5110,7650,{"$f":"IF(MONTH(C493)<=RptMo,F493,0)","v":0}]
["West","XYZ","2013-10-01","Wal-Mart",1000,24070,10220,13850,{"$f":"IF(MONTH(C494)<=RptMo,F494,0)","v":0}]
["East","DEF","2013-10-02","General Motors",200,4186,1968,2218,{"$f":"IF(MONTH(C495)<=RptMo,F495,0)","v":0}]
["East","ABC","2013-10-03","Verizon",700,13195,5929,7266,{"$f":"IF(MONTH(C496)<=RptMo,F496,0)","v":0}]
["Central","ABC","2013-10-04","General Electric",200,3922,1694,2228,{"$f":"IF(MONTH(C497)<=RptMo,F497,0)","v":0}]
["Central","DEF","2013-10-05","Bank of America",1000,23970,9840,14130,{"$f":"IF(MONTH(C498)<=RptMo,F498,0)","v":0}]
["West","ABC","2013-10-07","Sears",500,8940,4235,4705,{"$f":"IF(MONTH(C499)<=RptMo,F499,0)","v":0}]
["West","XYZ","2013-10-08","Exxon",200,5002,2044,2958,{"$f":"IF(MONTH(C500)<=RptMo,F500,0)","v":0}]
["West","ABC","2013-10-10","Lucent",1000,17190,8470,8720,{"$f":"IF(MONTH(C501)<=RptMo,F501,0)","v":0}]
["East","XYZ","2013-10-12","AT&T",900,21042,9198,11844,{"$f":"IF(MONTH(C502)<=RptMo,F502,0)","v":0}]
["Central","DEF","2013-10-12","IBM",500,11530,4920,6610,{"$f":"IF(MONTH(C503)<=RptMo,F503,0)","v":0}]
["Central","ABC","2013-10-13","Phillip Morris",800,15312,6776,8536,{"$f":"IF(MONTH(C504)<=RptMo,F504,0)","v":0}]
["East","XYZ","2013-10-14","Verizon",900,19161,9198,9963,{"$f":"IF(MONTH(C505)<=RptMo,F505,0)","v":0}]
["East","XYZ","2013-10-15","CitiGroup",500,10940,5110,5830,{"$f":"IF(MONTH(C506)<=RptMo,F506,0)","v":0}]
["Central","ABC","2013-10-16","Ford",1000,21010,8470,12540,{"$f":"IF(MONTH(C507)<=RptMo,F507,0)","v":0}]
["East","ABC","2013-10-18","Bank of America",900,18576,7623,10953,{"$f":"IF(MONTH(C508)<=RptMo,F508,0)","v":0}]
["Central","DEF","2013-10-18","CitiGroup",200,4484,1968,2516,{"$f":"IF(MONTH(C509)<=RptMo,F509,0)","v":0}]
["East","DEF","2013-10-18","General Electric",700,13797,6888,6909,{"$f":"IF(MONTH(C510)<=RptMo,F510,0)","v":0}]
["East","ABC","2013-10-19","CitiGroup",700,12131,5929,6202,{"$f":"IF(MONTH(C511)<=RptMo,F511,0)","v":0}]
["Central","DEF","2013-10-21","Exxon",500,11250,4920,6330,{"$f":"IF(MONTH(C512)<=RptMo,F512,0)","v":0}]
["Central","DEF","2013-10-22","CitiGroup",500,11430,4920,6510,{"$f":"IF(MONTH(C513)<=RptMo,F513,0)","v":0}]
["East","XYZ","2013-10-25","General Motors",100,2234,1022,1212,{"$f":"IF(MONTH(C514)<=RptMo,F514,0)","v":0}]
["East","XYZ","2013-10-27","Exxon",600,13818,6132,7686,{"$f":"IF(MONTH(C515)<=RptMo,F515,0)","v":0}]
["Central","XYZ","2013-10-27","Verizon",100,2092,1022,1070,{"$f":"IF(MONTH(C516)<=RptMo,F516,0)","v":0}]
["West","XYZ","2013-10-31","Sears",600,12612,6132,6480,{"$f":"IF(MONTH(C517)<=RptMo,F517,0)","v":0}]
["West","ABC","2013-11-01","AIG",800,15104,6776,8328,{"$f":"IF(MONTH(C518)<=RptMo,F518,0)","v":0}]
["West","XYZ","2013-11-04","Exxon",700,16576,7154,9422,{"$f":"IF(MONTH(C519)<=RptMo,F519,0)","v":0}]
["East","XYZ","2013-11-05","General Motors",700,17059,7154,9905,{"$f":"IF(MONTH(C520)<=RptMo,F520,0)","v":0}]
["Central","DEF","2013-11-09","CitiGroup",800,19424,7872,11552,{"$f":"IF(MONTH(C521)<=RptMo,F521,0)","v":0}]
["East","DEF","2013-11-09","Wal-Mart",700,14784,6888,7896,{"$f":"IF(MONTH(C522)<=RptMo,F522,0)","v":0}]
["West","DEF","2013-11-10","Ford",1000,21740,9840,11900,{"$f":"IF(MONTH(C523)<=RptMo,F523,0)","v":0}]
["East","DEF","2013-11-11","Ford",900,19674,8856,10818,{"$f":"IF(MONTH(C524)<=RptMo,F524,0)","v":0}]
["Central","ABC","2013-11-11","Wal-Mart",500,8970,4235,4735,{"$f":"IF(MONTH(C525)<=RptMo,F525,0)","v":0}]
["Central","XYZ","2013-11-13","General Motors",600,13680,6132,7548,{"$f":"IF(MONTH(C526)<=RptMo,F526,0)","v":0}]
["East","DEF","2013-11-15","CitiGroup",800,17136,7872,9264,{"$f":"IF(MONTH(C527)<=RptMo,F527,0)","v":0}]
["West","ABC","2013-11-16","Wal-Mart",400,6880,3388,3492,{"$f":"IF(MONTH(C528)<=RptMo,F528,0)","v":0}]
["West","DEF","2013-11-17","General Motors",500,11330,4920,6410,{"$f":"IF(MONTH(C529)<=RptMo,F529,0)","v":0}]
["West","DEF","2013-11-18","Exxon",200,4412,1968,2444,{"$f":"IF(MONTH(C530)<=RptMo,F530,0)","v":0}]
["East","DEF","2013-11-19","CitiGroup",400,9484,3936,5548,{"$f":"IF(MONTH(C531)<=RptMo,F531,0)","v":0}]
["East","DEF","2013-11-20","CitiGroup",400,8204,3936,4268,{"$f":"IF(MONTH(C532)<=RptMo,F532,0)","v":0}]
["West","XYZ","2013-11-21","Compaq",400,8556,4088,4468,{"$f":"IF(MONTH(C533)<=RptMo,F533,0)","v":0}]
["West","DEF","2013-11-24","CitiGroup",400,8464,3936,4528,{"$f":"IF(MONTH(C534)<=RptMo,F534,0)","v":0}]
["Central","XYZ","2013-11-24","General Motors",500,11470,5110,6360,{"$f":"IF(MONTH(C535)<=RptMo,F535,0)","v":0}]
["East","DEF","2013-11-25","AT&T",600,14154,5904,8250,{"$f":"IF(MONTH(C536)<=RptMo,F536,0)","v":0}]
["East","DEF","2013-11-26","Wal-Mart",800,19280,7872,11408,{"$f":"IF(MONTH(C537)<=RptMo,F537,0)","v":0}]
["West","XYZ","2013-11-27","General Motors",900,22887,9198,13689,{"$f":"IF(MONTH(C538)<=RptMo,F538,0)","v":0}]
["Central","DEF","2013-11-28","Exxon",1000,20840,9840,11000,{"$f":"IF(MONTH(C539)<=RptMo,F539,0)","v":0}]
["East","XYZ","2013-11-28","Verizon",600,13290,6132,7158,{"$f":"IF(MONTH(C540)<=RptMo,F540,0)","v":0}]
["West","XYZ","2013-12-01","CitiGroup",400,8284,4088,4196,{"$f":"IF(MONTH(C541)<=RptMo,F541,0)","v":0}]
["West","XYZ","2013-12-01","Ford",800,17496,8176,9320,{"$f":"IF(MONTH(C542)<=RptMo,F542,0)","v":0}]
["West","XYZ","2013-12-01","State Farm",800,19544,8176,11368,{"$f":"IF(MONTH(C543)<=RptMo,F543,0)","v":0}]
["West","DEF","2013-12-03","General Motors",1000,23690,9840,13850,{"$f":"IF(MONTH(C544)<=RptMo,F544,0)","v":0}]
["Central","XYZ","2013-12-04","CitiGroup",100,2309,1022,1287,{"$f":"IF(MONTH(C545)<=RptMo,F545,0)","v":0}]
["East","XYZ","2013-12-05","Bank of America",900,18756,9198,9558,{"$f":"IF(MONTH(C546)<=RptMo,F546,0)","v":0}]
["Central","ABC","2013-12-06","General Motors",1000,17410,8470,8940,{"$f":"IF(MONTH(C547)<=RptMo,F547,0)","v":0}]
["Central","DEF","2013-12-06","General Motors",200,4492,1968,2524,{"$f":"IF(MONTH(C548)<=RptMo,F548,0)","v":0}]
["East","DEF","2013-12-07","General Electric",200,4696,1968,2728,{"$f":"IF(MONTH(C549)<=RptMo,F549,0)","v":0}]
["East","DEF","2013-12-09","Verizon",500,10295,4920,5375,{"$f":"IF(MONTH(C550)<=RptMo,F550,0)","v":0}]
["West","XYZ","2013-12-11","CitiGroup",1000,25010,10220,14790,{"$f":"IF(MONTH(C551)<=RptMo,F551,0)","v":0}]
["East","XYZ","2013-12-11","Ford",500,10380,5110,5270,{"$f":"IF(MONTH(C552)<=RptMo,F552,0)","v":0}]
["East","XYZ","2013-12-12","IBM",300,6744,3066,3678,{"$f":"IF(MONTH(C553)<=RptMo,F553,0)","v":0}]
["Central","ABC","2013-12-14","Ford",700,13552,5929,7623,{"$f":"IF(MONTH(C554)<=RptMo,F554,0)","v":0}]
["West","XYZ","2013-12-16","Wal-Mart",800,18560,8176,10384,{"$f":"IF(MONTH(C555)<=RptMo,F555,0)","v":0}]
["Central","ABC","2013-12-17","Exxon",300,5847,2541,3306,{"$f":"IF(MONTH(C556)<=RptMo,F556,0)","v":0}]
["West","XYZ","2013-12-18","AT&T",800,18304,8176,10128,{"$f":"IF(MONTH(C557)<=RptMo,F557,0)","v":0}]
["Central","XYZ","2013-12-19","Exxon",700,17199,7154,10045,{"$f":"IF(MONTH(C558)<=RptMo,F558,0)","v":0}]
["Central","ABC","2013-12-20","IBM",100,1968,847,1121,{"$f":"IF(MONTH(C559)<=RptMo,F559,0)","v":0}]
["Central","XYZ","2013-12-21","Wal-Mart",200,4690,2044,2646,{"$f":"IF(MONTH(C560)<=RptMo,F560,0)","v":0}]
["West","XYZ","2013-12-23","SBC Communications",500,11680,5110,6570,{"$f":"IF(MONTH(C561)<=RptMo,F561,0)","v":0}]
["West","DEF","2013-12-23","Wal-Mart",700,14560,6888,7672,{"$f":"IF(MONTH(C562)<=RptMo,F562,0)","v":0}]
["East","XYZ","2013-12-24","Bank of America",700,15225,7154,8071,{"$f":"IF(MONTH(C563)<=RptMo,F563,0)","v":0}]
["Central","ABC","2013-12-25","General Motors",900,15363,7623,7740,{"$f":"IF(MONTH(C564)<=RptMo,F564,0)","v":0}]

{"sheet":"Sheet5","index":4,"n_rows":34,"n_cols":6,"rows_kept":34,"cut":false,"hidden":false,"merged":[]}
[]
[]
[null,null,"Column Labels"]
[null,null,"2012","2013","2012","2013"]
[null,null,"2","2"]
[null,"Row Labels","Sum of Revenue","Sum of Revenue","Sum of YTD Rev","Sum of YTD Rev"]
[null,"AIG",null,null,0,0]
[null,"AT&T",null,null,2401,11784]
[null,"Bank of America",null,7152,0,7152]
[null,"Boeing",16936,null,16936,0]
[null,"Chevron",20610,null,20610,0]
[null,"CitiGroup",15684,12798,48082,49553]
[null,"Compaq",null,null,0,0]
[null,"Duke Energy",null,null,0,0]
[null,"Exxon",22554,13314,22554,52186]
[null,"Ford",35115,39704,57925,39704]
[null,"General Electric",36180,52344,36180,93398]
[null,"General Motors",26613,41101,98867,53773]
[null,"Home Depot",null,null,0,0]
[null,"HP",null,null,0,21015]
[null,"IBM",19890,38315,46891,45175]
[null,"Kroger",null,null,0,0]
[null,"Lucent",null,null,0,0]
[null,"Merck",null,null,22104,0]
[null,"Motorola",null,null,0,0]
[null,"P&G",null,null,0]
[null,"Phillip Morris",null,4614,0,4614]
[null,"SBC Communications",null,null,14440,0]
[null,"Sears",null,null,0,0]
[null,"State Farm",null,null,21730,0]
[null,"Texaco",null,null,16288,13806]
[null,"Verizon",null,38457,30804,38457]
[null,"Wal-Mart",110263,9246,143947,70675]
[null,"Grand Total",303845,257045,599759,501292]

{"sheet":"PP","index":5,"n_rows":576,"n_cols":11,"rows_kept":576,"cut":false,"hidden":false,"merged":[]}
["Region","Product","Date","Customer","Quantity","Revenue","COGS","Profit","YTD Rev","Year","Month"]
["East","XYZ","2012-01-01","Ford",1000,22810,10220,12590,{"$f":"IF(MONTH(C2)<3,F2,0)","v":22810},{"$f":"YEAR(C2)","v":2012},{"$f":"MONTH(C2)","v":1}]
["East","DEF","2012-01-01","Merck",800,18552,7872,10680,{"$f":"IF(MONTH(C3)<3,F3,0)","v":18552},{"$f":"YEAR(C3)","v":2012},{"$f":"MONTH(C3)","v":1}]
["East","XYZ","2012-01-01","Texaco",400,9152,4088,5064,9152,2012,1]
["Central","DEF","2012-01-01","Verizon",100,2257,984,1273,2257,2012,1]
["East","ABC","2012-01-04","General Motors",400,8456,3388,5068,8456,2012,1]
["East","DEF","2012-01-04","State Farm",1000,21730,9840,11890,21730,2012,1]
["Central","ABC","2012-01-06","General Motors",800,16416,6776,9640,16416,2012,1]
["Central","XYZ","2012-01-07","Wal-Mart",900,21438,9198,12240,21438,2012,1]
["Central","ABC","2012-01-09","IBM",300,6267,2541,3726,6267,2012,1]
["East","XYZ","2012-01-11","AT&T",100,2401,1022,1379,2401,2012,1]
["East","ABC","2012-01-12","Verizon",500,9345,4235,5110,9345,2012,1]
["East","ABC","2012-01-13","CitiGroup",600,11628,5082,6546,11628,2012,1]
["West","DEF","2012-01-16","Verizon",100,2042,984,1058,2042,2012,1]
["West","ABC","2012-01-18","Merck",200,3552,1694,1858,3552,2012,1]
["East","ABC","2012-01-18","SBC Communications",800,14440,6776,7664,14440,2012,1]
["West","ABC","2012-01-20","General Motors",800,14592,6776,7816,14592,2012,1]
["East","ABC","2012-01-21","IBM",600,12606,5082,7524,12606,2012,1]
["Central","ABC","2012-01-22","CitiGroup",1000,20770,8470,12300,20770,2012,1]
["East","ABC","2012-01-23","IBM",400,8128,3388,4740,8128,2012,1]
["East","DEF","2012-01-26","General Motors",700,17150,6888,10262,17150,2012,1]
["East","ABC","2012-01-26","Texaco",400,7136,3388,3748,7136,2012,1]
["East","DEF","2012-01-27","Wal-Mart",300,6714,2952,3762,6714,2012,1]
["East","ABC","2012-01-28","General Motors",800,15640,6776,8864,15640,2012,1]
["West","ABC","2012-01-29","Wal-Mart",300,5532,2541,2991,5532,2012,1]
["West","DEF","2012-01-31","Verizon",800,17160,7872,9288,17160,2012,1]
["East","DEF","2012-02-03","General Electric",900,21708,8856,12852,21708,2012,2]
["West","ABC","2012-02-04","IBM",1000,19890,8470,11420,19890,2012,2]
["Central","ABC","2012-02-05","CitiGroup",100,1817,847,970,1817,2012,2]
["Central","ABC","2012-02-06","General Motors",300,5157,2541,2616,5157,2012,2]
["East","DEF","2012-02-11","CitiGroup",700,13867,6888,6979,13867,2012,2]
["East","XYZ","2012-02-13","Boeing",800,16936,8176,8760,16936,2012,2]
["East","ABC","2012-02-14","Exxon",600,11430,5082,6348,11430,2012,2]
["West","ABC","2012-02-15","Wal-Mart",1000,20250,8470,11780,20250,2012,2]
["Central","ABC","2012-02-16","Wal-Mart",500,10385,4235,6150,10385,2012,2]
["Central","ABC","2012-02-17","Exxon",600,11124,5082,6042,11124,2012,2]
["West","ABC","2012-02-17","Ford",300,5700,2541,3159,5700,2012,2]
["Central","XYZ","2012-02-17","Wal-Mart",1000,23810,10220,13590,23810,2012,2]
["Central","XYZ","2012-02-20","Wal-Mart",500,11525,5110,6415,11525,2012,2]
["Central","DEF","2012-02-23","Chevron",900,20610,8856,11754,20610,2012,2]
["East","DEF","2012-02-23","Ford",600,13206,5904,7302,13206,2012,2]
["Central","XYZ","2012-02-23","Wal-Mart",1000,25140,10220,14920,25140,2012,2]
["Central","ABC","2012-02-24","Ford",900,16209,7623,8586,16209,2012,2]
["East","DEF","2012-02-24","Wal-Mart",400,8708,3936,4772,8708,2012,2]
["East","XYZ","2012-02-25","General Motors",900,21456,9198,12258,21456,2012,2]
["West","XYZ","2012-02-26","Wal-Mart",500,10445,5110,5335,10445,2012,2]
["West","DEF","2012-02-29","General Electric",600,14472,5904,8568,14472,2012,2]
["Central","XYZ","2012-03-01","Wal-Mart",200,4262,2044,2218,0,2012,3]
["West","ABC","2012-03-02","P&G",700,12474,5929,6545,0,2012,3]
["West","ABC","2012-03-03","Exxon",500,10155,4235,5920,0,2012,3]
["Central","DEF","2012-03-06","Wal-Mart",900,19503,8856,10647,0,2012,3]
["East","ABC","2012-03-09","IBM",100,1819,847,972,0,2012,3]
["Central","XYZ","2012-03-10","CitiGroup",1000,24430,10220,14210,0,2012,3]
["East","XYZ","2012-03-10","Wal-Mart",500,10935,5110,5825,0,2012,3]
["East","ABC","2012-03-12","Chevron",400,8116,3388,4728,0,2012,3]
["Central","XYZ","2012-03-13","CitiGroup",900,18783,9198,9585,0,2012,3]
["Central","ABC","2012-03-15","Wal-Mart",800,16696,6776,9920,0,2012,3]
["East","ABC","2012-03-16","General Electric",400,7132,3388,3744,0,2012,3]
["East","XYZ","2012-03-17","General Electric",200,4784,2044,2740,0,2012,3]
["West","XYZ","2012-03-18","AT&T",300,6765,3066,3699,0,2012,3]
["Central","ABC","2012-03-19","Wal-Mart",300,5355,2541,2814,0,2012,3]
["Central","ABC","2012-03-20","Wal-Mart",200,3756,1694,2062,0,2012,3]
["East","DEF","2012-03-21","General Motors",1000,20090,9840,10250,0,2012,3]
["Central","XYZ","2012-03-22","Ford",1000,23090,10220,12870,0,2012,3]
["Central","DEF","2012-03-24","AT&T",900,21357,8856,12501,0,2012,3]
["Central","ABC","2012-03-24","General Motors",300,5358,2541,2817,0,2012,3]
["West","DEF","2012-03-26","General Electric",800,16016,7872,8144,{"$f":"IF(MONTH(C67)<3,F67,0)","v":0},{"$f":"YEAR(C67)","v":2012},{"$f":"MONTH(C67)","v":3}]
["Central","XYZ","2012-03-28","AT&T",600,14448,6132,8316,0,2012,3]
["East","ABC","2012-03-29","AT&T",300,5370,2541,2829,0,2012,3]
["East","DEF","2012-03-31","Exxon",400,8632,3936,4696,0,2012,3]
["East","DEF","2012-03-31","Exxon",300,6588,2952,3636,0,2012,3]
["West","XYZ","2012-03-31","P&G",800,20408,8176,12232,0,2012,3]
["West","XYZ","2012-04-01","Verizon",100,2466,1022,1444,0,2012,4]
["East","ABC","2012-04-03","Bank of America",700,14686,5929,8757,0,2012,4]
["Central","ABC","2012-04-03","General Electric",300,5886,2541,3345,0,2012,4]
["East","DEF","2012-04-06","Exxon",500,12095,4920,7175,0,2012,4]
["East","XYZ","2012-04-07","IBM",900,19539,9198,10341,0,2012,4]
["West","ABC","2012-04-08","General Electric",300,6063,2541,3522,0,2012,4]
["East","ABC","2012-04-09","General Electric",600,11598,5082,6516,0,2012,4]
["Central","ABC","2012-04-10","CitiGroup",400,8016,3388,4628,0,2012,4]
["Central","XYZ","2012-04-16","Motorola",200,4948,2044,2904,0,2012,4]
["East","XYZ","2012-04-16","Verizon",1000,21880,10220,11660,0,2012,4]
["Central","XYZ","2012-04-18","Wal-Mart",700,15834,7154,8680,0,2012,4]
["East","DEF","2012-04-19","Ford",100,2457,984,1473,0,2012,4]
["East","ABC","2012-04-20","Exxon",300,5439,2541,2898,0,2012,4]
["East","DEF","2012-04-21","Wal-Mart",500,11435,4920,6515,0,2012,4]
["Central","XYZ","2012-04-23","General Motors",1000,22530,10220,12310,0,2012,4]
["East","XYZ","2012-04-24","Ford",1000,25060,10220,14840,0,2012,4]
["East","XYZ","2012-04-25","Duke Energy",800,18264,8176,10088,0,2012,4]
["East","XYZ","2012-04-26","AT&T",200,4124,2044,2080,0,2012,4]
["Central","ABC","2012-04-27","Ford",200,3802,1694,2108,0,2012,4]
["Central","DEF","2012-04-27","Kroger",800,19520,7872,11648,0,2012,4]
["West","XYZ","2012-04-29","Bank of America",800,19288,8176,11112,0,2012,4]
["East","ABC","2012-05-01","AT&T",800,15592,6776,8816,0,2012,5]
["West","XYZ","2012-05-01","Bank of America",300,6867,3066,3801,0,2012,5]
["East","ABC","2012-05-03","AT&T",600,12318,5082,7236,0,2012,5]
["West","DEF","2012-05-03","Bank of America",400,8052,3936,4116,0,2012,5]
["West","DEF","2012-05-04","Wal-Mart",800,17544,7872,9672,0,2012,5]
["East","DEF","2012-05-05","IBM",700,16765,6888,9877,0,2012,5]
["Central","ABC","2012-05-07","Exxon",500,8785,4235,4550,0,2012,5]
["East","DEF","2012-05-08","Wal-Mart",700,16772,6888,9884,0,2012,5]
["East","ABC","2012-05-09","General Electric",500,9380,4235,5145,0,2012,5]
["Central","XYZ","2012-05-09","Wal-Mart",500,12625,5110,7515,0,2012,5]
["East","ABC","2012-05-10","Boeing",500,9635,4235,5400,0,2012,5]
["West","DEF","2012-05-12","Bank of America",300,6156,2952,3204,0,2012,5]
["East","DEF","2012-05-15","P&G",900,17757,8856,8901,0,2012,5]
["West","XYZ","2012-05-16","HP",200,4846,2044,2802,0,2012,5]
["East","ABC","2012-05-17","General Electric",600,11208,5082,6126,0,2012,5]
["Central","DEF","2012-05-18","AT&T",500,10195,4920,5275,0,2012,5]
["West","ABC","2012-05-19","General Motors",700,12803,5929,6874,0,2012,5]
["East","ABC","2012-05-19","Verizon",200,4012,1694,2318,0,2012,5]
["East","DEF","2012-05-20","Exxon",100,2319,984,1335,0,2012,5]
["Central","ABC","2012-05-20","General Motors",600,11700,5082,6618,0,2012,5]
["East","DEF","2012-05-22","Exxon",600,12048,5904,6144,0,2012,5]
["East","XYZ","2012-05-24","IBM",700,14469,7154,7315,0,2012,5]
["West","ABC","2012-05-25","Exxon",900,17964,7623,10341,0,2012,5]
["West","ABC","2012-05-26","AT&T",700,13412,5929,7483,0,2012,5]
["Central","XYZ","2012-05-26","General Motors",300,6660,3066,3594,0,2012,5]
["Central","XYZ","2012-05-27","General Electric",900,18918,9198,9720,0,2012,5]
["Central","ABC","2012-05-28","General Motors",700,13986,5929,8057,0,2012,5]
["Central","DEF","2012-05-30","IBM",1000,20480,9840,10640,0,2012,5]
["Central","XYZ","2012-06-02","Wal-Mart",200,4264,2044,2220,0,2012,6]
["East","DEF","2012-06-03","Sears",200,4282,1968,2314,0,2012,6]
["Central","XYZ","2012-06-04","IBM",500,12135,5110,7025,0,2012,6]
["Central","DEF","2012-06-06","IBM",200,4286,1968,2318,0,2012,6]
["East","XYZ","2012-06-08","Verizon",500,10650,5110,5540,0,2012,6]
["East","ABC","2012-06-09","Verizon",1000,19630,8470,11160,0,2012,6]
["Central","ABC","2012-06-10","General Electric",700,12838,5929,6909,0,2012,6]
["West","ABC","2012-06-11","Ford",200,3856,1694,2162,0,2012,6]
["Central","DEF","2012-06-15","SBC Communications",1000,22140,9840,12300,0,2012,6]
["Central","ABC","2012-06-19","IBM",500,10330,4235,6095,{"$f":"IF(MONTH(C131)<3,F131,0)","v":0},{"$f":"YEAR(C131)","v":2012},{"$f":"MONTH(C131)","v":6}]
["West","ABC","2012-06-20","Exxon",100,1882,847,1035,0,2012,6]
["Central","DEF","2012-06-21","Ford",100,2221,984,1237,0,2012,6]
["Central","DEF","2012-06-22","Bank of America",800,15856,7872,7984,0,2012,6]
["Central","ABC","2012-06-22","Exxon",700,13734,5929,7805,0,2012,6]
["Central","DEF","2012-06-23","State Farm",200,4754,1968,2786,0,2012,6]
["Central","DEF","2012-06-26","Exxon",100,2231,984,1247,0,2012,6]
["Central","XYZ","2012-06-28","General Electric",900,21960,9198,12762,0,2012,6]
["Central","XYZ","2012-06-29","Lucent",300,7167,3066,4101,0,2012,6]
["East","XYZ","2012-06-29","Wal-Mart",900,22716,9198,13518,0,2012,6]
["East","XYZ","2012-06-30","AT&T",900,19062,9198,9864,0,2012,6]
["West","XYZ","2012-07-01","General Motors",300,7593,3066,4527,0,2012,7]
["East","DEF","2012-07-04","Exxon",900,21168,8856,12312,0,2012,7]
["West","XYZ","2012-07-06","Boeing",1000,24130,10220,13910,0,2012,7]
["Central","XYZ","2012-07-07","Sears",400,8876,4088,4788,0,2012,7]
["East","DEF","2012-07-10","General Electric",900,21555,8856,12699,0,2012,7]
["Central","XYZ","2012-07-11","Ford",700,15876,7154,8722,0,2012,7]
["East","ABC","2012-07-11","IBM",300,5967,2541,3426,0,2012,7]
["East","XYZ","2012-07-13","Bank of America",1000,25350,10220,15130,0,2012,7]
["West","ABC","2012-07-14","Home Depot",200,4158,1694,2464,0,2012,7]
["Central","DEF","2012-07-14","IBM",500,11545,4920,6625,0,2012,7]
["West","ABC","2012-07-16","General Motors",600,12684,5082,7602,0,2012,7]
["East","ABC","2012-07-18","Wal-Mart",1000,18660,8470,10190,0,2012,7]
["Central","DEF","2012-07-19","AT&T",500,11660,4920,6740,0,2012,7]
["East","DEF","2012-07-22","General Motors",800,15816,7872,7944,0,2012,7]
["West","XYZ","2012-07-23","Lucent",1000,23890,10220,13670,0,2012,7]
["West","DEF","2012-07-24","Verizon",600,13866,5904,7962,0,2012,7]
["East","ABC","2012-07-25","HP",1000,17840,8470,9370,0,2012,7]
["East","ABC","2012-07-25","Wal-Mart",800,13936,6776,7160,0,2012,7]
["East","XYZ","2012-07-26","General Electric",600,12984,6132,6852,0,2012,7]
["Central","DEF","2012-07-27","CitiGroup",1000,21800,9840,11960,0,2012,7]
["Central","ABC","2012-07-27","Wal-Mart",300,5508,2541,2967,0,2012,7]
["East","XYZ","2012-07-30","Exxon",400,9704,4088,5616,0,2012,7]
["West","XYZ","2012-07-31","Home Depot",600,13962,6132,7830,0,2012,7]
["Central","ABC","2012-08-01","Exxon",700,13433,5929,7504,0,2012,8]
["Central","ABC","2012-08-02","Bank of America",800,15288,6776,8512,0,2012,8]
["Central","XYZ","2012-08-02","General Motors",900,19584,9198,10386,0,2012,8]
["Central","XYZ","2012-08-03","General Electric",100,2320,1022,1298,0,2012,8]
["West","DEF","2012-08-08","AT&T",800,16936,7872,9064,0,2012,8]
["East","ABC","2012-08-10","Ford",300,6138,2541,3597,0,2012,8]
["West","DEF","2012-08-10","IBM",600,12030,5904,6126,0,2012,8]
["West","XYZ","2012-08-12","Bank of America",400,9384,4088,5296,0,2012,8]
["East","ABC","2012-08-13","Exxon",300,5904,2541,3363,0,2012,8]
["Central","ABC","2012-08-15","Exxon",1000,21120,8470,12650,0,2012,8]
["East","XYZ","2012-08-16","Bank of America",900,18684,9198,9486,0,2012,8]
["East","ABC","2012-08-16","Ford",100,1836,847,989,0,2012,8]
["East","XYZ","2012-08-18","AT&T",600,15006,6132,8874,0,2012,8]
["West","DEF","2012-08-18","CitiGroup",900,19989,8856,11133,0,2012,8]
["East","ABC","2012-08-21","Ford",100,1913,847,1066,0,2012,8]
["West","XYZ","2012-08-21","General Electric",400,8744,4088,4656,0,2012,8]
["West","XYZ","2012-08-21","Motorola",800,17856,8176,9680,0,2012,8]
["East","XYZ","2012-08-22","CitiGroup",900,19368,9198,10170,0,2012,8]
["East","ABC","2012-08-23","Kroger",100,1819,847,972,0,2012,8]
["East","XYZ","2012-08-24","AT&T",500,10990,5110,5880,0,2012,8]
["Central","XYZ","2012-08-24","AT&T",200,4440,2044,2396,0,2012,8]
["Central","ABC","2012-08-25","Verizon",300,6309,2541,3768,0,2012,8]
["West","DEF","2012-08-26","Bank of America",800,18904,7872,11032,0,2012,8]
["West","XYZ","2012-08-28","AIG",800,18072,8176,9896,0,2012,8]
["Central","ABC","2012-08-28","Wal-Mart",100,2012,847,1165,0,2012,8]
["West","ABC","2012-08-31","Ford",500,10295,4235,6060,0,2012,8]
["Central","ABC","2012-09-01","Ford",400,7944,3388,4556,0,2012,9]
["West","ABC","2012-09-02","IBM",100,1957,847,1110,0,2012,9]
["East","DEF","2012-09-06","AT&T",600,12756,5904,6852,0,2012,9]
["Central","DEF","2012-09-06","Verizon",700,15680,6888,8792,0,2012,9]
["Central","ABC","2012-09-07","Exxon",300,5826,2541,3285,{"$f":"IF(MONTH(C195)<3,F195,0)","v":0},{"$f":"YEAR(C195)","v":2012},{"$f":"MONTH(C195)","v":9}]
["East","XYZ","2012-09-09","CitiGroup",800,20008,8176,11832,0,2012,9]
["East","ABC","2012-09-10","CitiGroup",300,5457,2541,2916,0,2012,9]
["East","ABC","2012-09-11","Exxon",600,12330,5082,7248,0,2012,9]
["East","DEF","2012-09-14","AT&T",500,11845,4920,6925,0,2012,9]
["Central","DEF","2012-09-15","Duke Energy",800,16784,7872,8912,0,2012,9]
["Central","ABC","2012-09-18","General Motors",1000,17200,8470,8730,0,2012,9]
["Central","ABC","2012-09-19","CitiGroup",600,10602,5082,5520,0,2012,9]
["Central","ABC","2012-09-21","AT&T",500,9350,4235,5115,0,2012,9]
["East","XYZ","2012-09-21","General Motors",100,2095,1022,1073,0,2012,9]
["West","DEF","2012-09-22","General Motors",600,13728,5904,7824,0,2012,9]
["Central","ABC","2012-09-23","General Electric",900,17712,7623,10089,0,2012,9]
["Central","DEF","2012-09-23","Wal-Mart",1000,23080,9840,13240,0,2012,9]
["West","ABC","2012-09-24","Wal-Mart",800,13552,6776,6776,0,2012,9]
["Central","XYZ","2012-09-25","General Motors",600,12480,6132,6348,0,2012,9]
["East","ABC","2012-09-26","CitiGroup",900,15759,7623,8136,0,2012,9]
["East","DEF","2012-09-28","General Electric",200,4866,1968,2898,0,2012,9]
["East","ABC","2012-09-29","Ford",100,1877,847,1030,0,2012,9]
["West","XYZ","2012-10-02","Duke Energy",800,16936,8176,8760,0,2012,10]
["East","XYZ","2012-10-03","Wal-Mart",700,15715,7154,8561,0,2012,10]
["East","XYZ","2012-10-04","CitiGroup",800,18208,8176,10032,0,2012,10]
["East","DEF","2012-10-04","Motorola",100,2358,984,1374,0,2012,10]
["East","XYZ","2012-10-06","IBM",400,8560,4088,4472,0,2012,10]
["West","DEF","2012-10-08","IBM",1000,20190,9840,10350,0,2012,10]
["West","XYZ","2012-10-09","Chevron",300,7032,3066,3966,0,2012,10]
["East","XYZ","2012-10-11","CitiGroup",100,2517,1022,1495,0,2012,10]
["East","ABC","2012-10-12","Bank of America",700,14133,5929,8204,0,2012,10]
["Central","XYZ","2012-10-12","Exxon",500,10550,5110,5440,0,2012,10]
["Central","XYZ","2012-10-13","Exxon",300,6495,3066,3429,0,2012,10]
["Central","ABC","2012-10-14","CitiGroup",400,7520,3388,4132,0,2012,10]
["West","XYZ","2012-10-16","AT&T",900,21834,9198,12636,0,2012,10]
["Central","ABC","2012-10-16","CitiGroup",800,14136,6776,7360,0,2012,10]
["East","ABC","2012-10-18","General Motors",800,16008,6776,9232,0,2012,10]
["Central","DEF","2012-10-18","Home Depot",500,11220,4920,6300,0,2012,10]
["East","DEF","2012-10-19","Wal-Mart",1000,23040,9840,13200,0,2012,10]
["Central","XYZ","2012-10-21","Exxon",900,21762,9198,12564,0,2012,10]
["West","DEF","2012-10-21","Exxon",500,10955,4920,6035,0,2012,10]
["Central","ABC","2012-10-23","Exxon",800,15976,6776,9200,0,2012,10]
["East","DEF","2012-10-26","CitiGroup",1000,20540,9840,10700,0,2012,10]
["Central","ABC","2012-10-27","General Electric",500,9475,4235,5240,0,2012,10]
["Central","XYZ","2012-10-28","General Motors",100,2343,1022,1321,0,2012,10]
["East","XYZ","2012-10-31","General Electric",500,10645,5110,5535,0,2012,10]
["East","ABC","2012-11-01","General Electric",400,8468,3388,5080,0,2012,11]
["West","ABC","2012-11-04","CitiGroup",400,8196,3388,4808,0,2012,11]
["West","DEF","2012-11-07","CitiGroup",500,11295,4920,6375,0,2012,11]
["East","DEF","2012-11-09","General Electric",600,14466,5904,8562,0,2012,11]
["West","XYZ","2012-11-09","Verizon",800,19376,8176,11200,0,2012,11]
["Central","ABC","2012-11-11","AT&T",900,15255,7623,7632,0,2012,11]
["Central","DEF","2012-11-11","Bank of America",900,21033,8856,12177,0,2012,11]
["West","ABC","2012-11-12","Compaq",1000,17250,8470,8780,0,2012,11]
["Central","DEF","2012-11-13","General Motors",600,13200,5904,7296,0,2012,11]
["West","ABC","2012-11-16","General Electric",200,3672,1694,1978,0,2012,11]
["East","XYZ","2012-11-16","SBC Communications",1000,24420,10220,14200,0,2012,11]
["Central","DEF","2012-11-17","CitiGroup",300,7053,2952,4101,0,2012,11]
["West","DEF","2012-11-19","CitiGroup",100,2410,984,1426,0,2012,11]
["Central","ABC","2012-11-19","Verizon",900,17136,7623,9513,0,2012,11]
["Central","DEF","2012-11-20","Verizon",300,6462,2952,3510,0,2012,11]
["East","XYZ","2012-11-21","Kroger",100,2538,1022,1516,0,2012,11]
["East","DEF","2012-11-24","General Electric",500,9890,4920,4970,0,2012,11]
["Central","DEF","2012-11-24","General Motors",100,2004,984,1020,0,2012,11]
["West","XYZ","2012-11-25","General Electric",300,7569,3066,4503,0,2012,11]
["Central","ABC","2012-11-26","Verizon",300,5592,2541,3051,0,2012,11]
["West","DEF","2012-11-27","IBM",200,3942,1968,1974,0,2012,11]
["West","DEF","2012-11-28","Phillip Morris",800,19344,7872,11472,0,2012,11]
["Central","DEF","2012-11-30","AT&T",900,21546,8856,12690,{"$f":"IF(MONTH(C259)<3,F259,0)","v":0},{"$f":"YEAR(C259)","v":2012},{"$f":"MONTH(C259)","v":11}]
["East","DEF","2012-12-01","Phillip Morris",500,10760,4920,5840,0,2012,12]
["East","ABC","2012-12-01","Wal-Mart",900,18243,7623,10620,0,2012,12]
["West","ABC","2012-12-02","Ford",800,16856,6776,10080,0,2012,12]
["West","ABC","2012-12-04","Exxon",700,14105,5929,8176,0,2012,12]
["Central","ABC","2012-12-04","IBM",100,2111,847,1264,0,2012,12]
["Central","XYZ","2012-12-05","P&G",400,9660,4088,5572,0,2012,12]
["West","ABC","2012-12-06","Exxon",100,1878,847,1031,0,2012,12]
["Central","DEF","2012-12-06","General Electric",600,12888,5904,6984,0,2012,12]
["Central","ABC","2012-12-08","IBM",100,2108,847,1261,0,2012,12]
["Central","ABC","2012-12-10","Exxon",600,11964,5082,6882,0,2012,12]
["East","XYZ","2012-12-11","Exxon",900,20664,9198,11466,0,2012,12]
["East","XYZ","2012-12-11","IBM",300,6732,3066,3666,0,2012,12]
["Central","ABC","2012-12-14","Exxon",900,15651,7623,8028,0,2012,12]
["East","ABC","2012-12-15","Bank of America",600,11274,5082,6192,0,2012,12]
["West","ABC","2012-12-16","Ford",800,14408,6776,7632,0,2012,12]
["West","XYZ","2012-12-17","IBM",100,2213,1022,1191,0,2012,12]
["East","ABC","2012-12-18","IBM",500,8725,4235,4490,0,2012,12]
["West","XYZ","2012-12-20","Verizon",900,18666,9198,9468,0,2012,12]
["West","DEF","2012-12-21","General Electric",500,10475,4920,5555,0,2012,12]
["East","ABC","2012-12-21","Verizon",100,2055,847,1208,0,2012,12]
["East","XYZ","2012-12-23","Exxon",600,14178,6132,8046,0,2012,12]
["Central","ABC","2012-12-23","General Electric",100,1861,847,1014,0,2012,12]
["Central","ABC","2012-12-24","AT&T",500,9460,4235,5225,0,2012,12]
["Central","ABC","2012-12-25","General Motors",600,10290,5082,5208,0,2012,12]
["East","ABC","2012-12-29","Verizon",500,10245,4235,6010,0,2012,12]
["Central","XYZ","2012-12-30","General Electric",500,11240,5110,6130,0,2012,12]
["Central","XYZ","2012-12-31","General Electric",400,9204,4088,5116,0,2012,12]
["Central","ABC","2013-01-01","IBM",400,6860,3388,3472,6860,2013,1]
["West","XYZ","2013-01-03","Texaco",600,13806,6132,7674,13806,2013,1]
["East","XYZ","2013-01-05","HP",900,21015,9198,11817,21015,2013,1]
["East","XYZ","2013-01-06","General Electric",900,21465,9198,12267,21465,2013,1]
["West","XYZ","2013-01-08","General Electric",400,9144,4088,5056,9144,2013,1]
["Central","ABC","2013-01-10","AT&T",100,1740,847,893,1740,2013,1]
["West","ABC","2013-01-10","Wal-Mart",1000,19110,8470,10640,19110,2013,1]
["Central","XYZ","2013-01-12","Wal-Mart",900,21888,9198,12690,21888,2013,1]
["East","DEF","2013-01-13","Exxon",300,5961,2952,3009,5961,2013,1]
["Central","ABC","2013-01-16","CitiGroup",900,17505,7623,9882,17505,2013,1]
["West","DEF","2013-01-17","Exxon",300,7032,2952,4080,7032,2013,1]
["West","DEF","2013-01-18","Exxon",300,6735,2952,3783,6735,2013,1]
["East","ABC","2013-01-19","Exxon",400,8164,3388,4776,8164,2013,1]
["West","ABC","2013-01-20","Wal-Mart",300,6207,2541,3666,6207,2013,1]
["East","DEF","2013-01-21","Exxon",300,6240,2952,3288,6240,2013,1]
["Central","ABC","2013-01-23","General Electric",500,10445,4235,6210,10445,2013,1]
["East","ABC","2013-01-25","Wal-Mart",800,14224,6776,7448,14224,2013,1]
["Central","XYZ","2013-01-26","AT&T",400,10044,4088,5956,10044,2013,1]
["West","ABC","2013-01-27","CitiGroup",1000,19250,8470,10780,19250,2013,1]
["East","DEF","2013-01-28","Exxon",200,4740,1968,2772,4740,2013,1]
["East","DEF","2013-01-28","General Motors",600,12672,5904,6768,12672,2013,1]
["Central","ABC","2013-02-01","Exxon",700,13314,5929,7385,13314,2013,2]
["Central","DEF","2013-02-02","General Electric",200,4280,1968,2312,4280,2013,2]
["East","ABC","2013-02-04","Verizon",300,6045,2541,3504,6045,2013,2]
["Central","ABC","2013-02-05","Wal-Mart",400,7180,3388,3792,7180,2013,2]
["East","DEF","2013-02-09","CitiGroup",600,12798,5904,6894,12798,2013,2]
["East","ABC","2013-02-11","Wal-Mart",100,2066,847,1219,2066,2013,2]
["East","DEF","2013-02-12","Ford",200,4742,1968,2774,4742,2013,2]
["West","ABC","2013-02-13","General Motors",200,3876,1694,2182,3876,2013,2]
["West","XYZ","2013-02-15","General Motors",1000,25080,10220,14860,25080,2013,2]
["West","DEF","2013-02-15","IBM",400,9088,3936,5152,9088,2013,2]
["East","ABC","2013-02-16","Bank of America",400,7152,3388,3764,7152,2013,2]
["Central","DEF","2013-02-16","General Electric",800,18504,7872,10632,18504,2013,2]
["Central","DEF","2013-02-18","Ford",600,12282,5904,6378,12282,2013,2]
["East","XYZ","2013-02-20","General Electric",1000,20940,10220,10720,20940,2013,2]
["Central","XYZ","2013-02-22","Ford",1000,22680,10220,12460,22680,2013,2]
["West","ABC","2013-02-22","General Motors",700,12145,5929,6216,{"$f":"IF(MONTH(C323)<3,F323,0)","v":12145},{"$f":"YEAR(C323)","v":2013},{"$f":"MONTH(C323)","v":2}]
["Central","XYZ","2013-02-22","IBM",700,17367,7154,10213,17367,2013,2]
["Central","XYZ","2013-02-23","Phillip Morris",200,4614,2044,2570,4614,2013,2]
["Central","ABC","2013-02-23","Verizon",600,11922,5082,6840,11922,2013,2]
["East","XYZ","2013-02-24","Verizon",1000,20490,10220,10270,20490,2013,2]
["East","XYZ","2013-02-27","General Electric",400,8620,4088,4532,8620,2013,2]
["East","DEF","2013-02-28","IBM",500,11860,4920,6940,11860,2013,2]
["East","ABC","2013-03-02","Bank of America",800,14984,6776,8208,0,2013,3]
["Central","ABC","2013-03-02","Ford",200,4010,1694,2316,0,2013,3]
["Central","XYZ","2013-03-05","General Motors",500,12505,5110,7395,0,2013,3]
["West","ABC","2013-03-09","General Motors",100,1704,847,857,0,2013,3]
["West","XYZ","2013-03-09","IBM",300,7305,3066,4239,0,2013,3]
["West","XYZ","2013-03-10","IBM",500,11965,5110,6855,0,2013,3]
["West","XYZ","2013-03-12","Bank of America",400,9240,4088,5152,0,2013,3]
["East","DEF","2013-03-12","Ford",200,4526,1968,2558,0,2013,3]
["East","DEF","2013-03-14","IBM",500,11695,4920,6775,0,2013,3]
["East","DEF","2013-03-15","Exxon",100,2272,984,1288,0,2013,3]
["West","DEF","2013-03-16","Ford",100,2157,984,1173,0,2013,3]
["West","XYZ","2013-03-18","Verizon",400,8732,4088,4644,0,2013,3]
["West","DEF","2013-03-19","CitiGroup",800,15856,7872,7984,0,2013,3]
["Central","XYZ","2013-03-20","Merck",100,2484,1022,1462,0,2013,3]
["West","DEF","2013-03-20","Wal-Mart",1000,23820,9840,13980,0,2013,3]
["Central","DEF","2013-03-21","General Electric",200,4472,1968,2504,0,2013,3]
["Central","ABC","2013-03-22","General Motors",700,11858,5929,5929,0,2013,3]
["West","ABC","2013-03-24","General Motors",500,9855,4235,5620,0,2013,3]
["East","DEF","2013-03-26","Wal-Mart",800,17240,7872,9368,0,2013,3]
["Central","XYZ","2013-03-27","Ford",600,13542,6132,7410,0,2013,3]
["West","ABC","2013-03-28","Motorola",300,5859,2541,3318,0,2013,3]
["Central","DEF","2013-03-30","Exxon",300,7233,2952,4281,0,2013,3]
["West","ABC","2013-03-31","Ford",400,7752,3388,4364,0,2013,3]
["East","XYZ","2013-03-31","General Motors",700,15435,7154,8281,0,2013,3]
["West","ABC","2013-04-01","CitiGroup",500,9575,4235,5340,0,2013,4]
["West","XYZ","2013-04-01","Exxon",100,2178,1022,1156,0,2013,4]
["Central","ABC","2013-04-03","Ford",500,10460,4235,6225,0,2013,4]
["Central","XYZ","2013-04-06","Ford",800,18344,8176,10168,0,2013,4]
["East","ABC","2013-04-06","General Motors",400,8132,3388,4744,0,2013,4]
["West","DEF","2013-04-08","General Electric",400,8776,3936,4840,0,2013,4]
["East","DEF","2013-04-09","Wal-Mart",900,20403,8856,11547,0,2013,4]
["East","DEF","2013-04-10","AIG",600,14004,5904,8100,0,2013,4]
["West","ABC","2013-04-11","Ford",800,14216,6776,7440,0,2013,4]
["East","ABC","2013-04-16","General Motors",900,17172,7623,9549,0,2013,4]
["Central","XYZ","2013-04-17","General Motors",1000,20670,10220,10450,0,2013,4]
["West","ABC","2013-04-18","Wal-Mart",400,7376,3388,3988,0,2013,4]
["West","XYZ","2013-04-20","Merck",800,17728,8176,9552,0,2013,4]
["Central","DEF","2013-04-21","Boeing",1000,20950,9840,11110,0,2013,4]
["Central","ABC","2013-04-22","Ford",400,7852,3388,4464,0,2013,4]
["Central","ABC","2013-04-23","Wal-Mart",600,12360,5082,7278,0,2013,4]
["Central","DEF","2013-04-25","Ford",900,18990,8856,10134,0,2013,4]
["West","ABC","2013-04-25","General Electric",300,6069,2541,3528,0,2013,4]
["East","ABC","2013-04-27","AT&T",1000,20310,8470,11840,0,2013,4]
["West","DEF","2013-04-27","AT&T",300,6018,2952,3066,0,2013,4]
["West","XYZ","2013-04-28","AT&T",1000,25310,10220,15090,0,2013,4]
["West","DEF","2013-04-29","Verizon",200,4378,1968,2410,0,2013,4]
["Central","DEF","2013-05-01","General Motors",700,15407,6888,8519,0,2013,5]
["Central","ABC","2013-05-02","Wal-Mart",1000,18290,8470,9820,0,2013,5]
["East","ABC","2013-05-03","AT&T",100,1842,847,995,0,2013,5]
["Central","XYZ","2013-05-03","CitiGroup",500,10400,5110,5290,0,2013,5]
["East","ABC","2013-05-04","Ford",100,1982,847,1135,0,2013,5]
["Central","XYZ","2013-05-06","CitiGroup",300,6789,3066,3723,0,2013,5]
["Central","DEF","2013-05-07","Bank of America",300,7245,2952,4293,0,2013,5]
["Central","XYZ","2013-05-08","Exxon",500,11000,5110,5890,0,2013,5]
["East","ABC","2013-05-09","Bank of America",500,9155,4235,4920,0,2013,5]
["East","DEF","2013-05-09","General Motors",400,9760,3936,5824,0,2013,5]
["East","XYZ","2013-05-11","Ford",400,9156,4088,5068,0,2013,5]
["Central","XYZ","2013-05-14","General Electric",500,10385,5110,5275,{"$f":"IF(MONTH(C387)<3,F387,0)","v":0},{"$f":"YEAR(C387)","v":2013},{"$f":"MONTH(C387)","v":5}]
["Central","DEF","2013-05-16","Verizon",700,14203,6888,7315,0,2013,5]
["West","XYZ","2013-05-17","CitiGroup",600,14634,6132,8502,0,2013,5]
["Central","XYZ","2013-05-18","Exxon",100,2149,1022,1127,0,2013,5]
["West","ABC","2013-05-18","State Farm",700,13853,5929,7924,0,2013,5]
["East","DEF","2013-05-19","Ford",200,4474,1968,2506,0,2013,5]
["East","XYZ","2013-05-19","Ford",100,2487,1022,1465,0,2013,5]
["West","XYZ","2013-05-20","Exxon",200,4388,2044,2344,0,2013,5]
["West","ABC","2013-05-21","General Electric",300,5094,2541,2553,0,2013,5]
["Central","DEF","2013-05-24","Ford",800,16264,7872,8392,0,2013,5]
["East","ABC","2013-05-24","General Motors",200,3632,1694,1938,0,2013,5]
["Central","XYZ","2013-05-26","Ford",500,12550,5110,7440,0,2013,5]
["East","DEF","2013-05-26","General Motors",700,16408,6888,9520,0,2013,5]
["West","DEF","2013-05-27","AT&T",800,17056,7872,9184,0,2013,5]
["East","XYZ","2013-05-27","Wal-Mart",800,19152,8176,10976,0,2013,5]
["East","XYZ","2013-05-30","Bank of America",1000,23990,10220,13770,0,2013,5]
["East","XYZ","2013-05-31","CitiGroup",1000,22020,10220,11800,0,2013,5]
["Central","XYZ","2013-06-03","Compaq",400,9064,4088,4976,0,2013,6]
["East","ABC","2013-06-04","CitiGroup",900,18072,7623,10449,0,2013,6]
["East","ABC","2013-06-05","AT&T",800,16288,6776,9512,0,2013,6]
["Central","DEF","2013-06-07","IBM",800,17944,7872,10072,0,2013,6]
["East","DEF","2013-06-08","Wal-Mart",300,6477,2952,3525,0,2013,6]
["West","ABC","2013-06-09","Exxon",600,10404,5082,5322,0,2013,6]
["West","ABC","2013-06-10","IBM",500,8780,4235,4545,0,2013,6]
["East","ABC","2013-06-14","General Electric",700,13874,5929,7945,0,2013,6]
["East","XYZ","2013-06-17","Verizon",700,15988,7154,8834,0,2013,6]
["Central","DEF","2013-06-20","AT&T",1000,20020,9840,10180,0,2013,6]
["Central","DEF","2013-06-21","AIG",200,4060,1968,2092,0,2013,6]
["West","DEF","2013-06-22","Ford",700,16219,6888,9331,0,2013,6]
["West","ABC","2013-06-22","General Electric",800,15400,6776,8624,0,2013,6]
["Central","XYZ","2013-06-23","Exxon",400,8804,4088,4716,0,2013,6]
["East","XYZ","2013-06-26","Exxon",500,12425,5110,7315,0,2013,6]
["East","DEF","2013-06-27","Verizon",100,2054,984,1070,0,2013,6]
["East","XYZ","2013-06-28","IBM",400,9816,4088,5728,0,2013,6]
["East","ABC","2013-06-29","AT&T",200,4192,1694,2498,0,2013,6]
["West","DEF","2013-06-29","Wal-Mart",900,18099,8856,9243,0,2013,6]
["Central","DEF","2013-07-01","Exxon",700,16303,6888,9415,0,2013,7]
["East","XYZ","2013-07-03","Wal-Mart",400,8580,4088,4492,0,2013,7]
["Central","DEF","2013-07-04","General Motors",500,12270,4920,7350,0,2013,7]
["Central","ABC","2013-07-07","Wal-Mart",900,17883,7623,10260,0,2013,7]
["East","DEF","2013-07-09","IBM",500,11725,4920,6805,0,2013,7]
["Central","XYZ","2013-07-10","IBM",900,21366,9198,12168,0,2013,7]
["East","DEF","2013-07-11","Lucent",700,14497,6888,7609,0,2013,7]
["Central","DEF","2013-07-12","Ford",800,17416,7872,9544,0,2013,7]
["East","ABC","2013-07-14","Ford",700,13804,5929,7875,0,2013,7]
["Central","XYZ","2013-07-14","IBM",200,4902,2044,2858,0,2013,7]
["East","DEF","2013-07-15","Wal-Mart",500,11235,4920,6315,0,2013,7]
["West","XYZ","2013-07-17","Kroger",1000,22840,10220,12620,0,2013,7]
["West","ABC","2013-07-18","Exxon",200,3390,1694,1696,0,2013,7]
["East","DEF","2013-07-19","Verizon",300,6228,2952,3276,0,2013,7]
["East","DEF","2013-07-22","Ford",600,13332,5904,7428,0,2013,7]
["Central","DEF","2013-07-23","Wal-Mart",200,4132,1968,2164,0,2013,7]
["Central","XYZ","2013-07-24","Exxon",200,4722,2044,2678,0,2013,7]
["East","DEF","2013-07-25","General Motors",700,16170,6888,9282,0,2013,7]
["West","ABC","2013-07-26","Chevron",1000,18290,8470,9820,0,2013,7]
["Central","DEF","2013-07-26","Verizon",300,6159,2952,3207,0,2013,7]
["West","ABC","2013-07-27","Exxon",1000,18500,8470,10030,0,2013,7]
["Central","XYZ","2013-07-30","Exxon",900,21159,9198,11961,0,2013,7]
["West","ABC","2013-07-31","AT&T",800,15488,6776,8712,0,2013,7]
["East","XYZ","2013-07-31","Ford",100,2547,1022,1525,0,2013,7]
["West","ABC","2013-08-01","Wal-Mart",200,3418,1694,1724,0,2013,8]
["West","ABC","2013-08-02","General Motors",1000,19530,8470,11060,0,2013,8]
["East","DEF","2013-08-03","Compaq",200,4380,1968,2412,0,2013,8]
["Central","DEF","2013-08-07","Wal-Mart",600,13368,5904,7464,0,2013,8]
["Central","XYZ","2013-08-08","Ford",200,4550,2044,2506,{"$f":"IF(MONTH(C451)<3,F451,0)","v":0},{"$f":"YEAR(C451)","v":2013},{"$f":"MONTH(C451)","v":8}]
["West","DEF","2013-08-10","AT&T",300,6522,2952,3570,0,2013,8]
["Central","DEF","2013-08-12","Bank of America",700,17213,6888,10325,0,2013,8]
["Central","DEF","2013-08-12","Texaco",200,4270,1968,2302,0,2013,8]
["East","DEF","2013-08-14","Exxon",800,16232,7872,8360,0,2013,8]
["West","XYZ","2013-08-15","Ford",500,12755,5110,7645,0,2013,8]
["West","DEF","2013-08-16","General Motors",200,4470,1968,2502,0,2013,8]
["Central","ABC","2013-08-17","Ford",300,6156,2541,3615,0,2013,8]
["Central","ABC","2013-08-18","General Electric",800,15544,6776,8768,0,2013,8]
["West","DEF","2013-08-20","Ford",100,2409,984,1425,0,2013,8]
["East","XYZ","2013-08-21","Bank of America",600,12570,6132,6438,0,2013,8]
["Central","XYZ","2013-08-21","IBM",300,6438,3066,3372,0,2013,8]
["Central","XYZ","2013-08-22","Ford",900,19593,9198,10395,0,2013,8]
["West","ABC","2013-08-23","Verizon",900,18981,7623,11358,0,2013,8]
["Central","XYZ","2013-08-24","Exxon",800,17160,8176,8984,0,2013,8]
["East","ABC","2013-08-24","IBM",100,2028,847,1181,0,2013,8]
["West","ABC","2013-08-24","Wal-Mart",300,5859,2541,3318,0,2013,8]
["East","ABC","2013-08-25","Duke Energy",300,5532,2541,2991,0,2013,8]
["West","XYZ","2013-08-26","Ford",500,12575,5110,7465,0,2013,8]
["West","ABC","2013-08-28","CitiGroup",800,16144,6776,9368,0,2013,8]
["East","DEF","2013-08-30","General Motors",900,18486,8856,9630,0,2013,8]
["East","ABC","2013-09-01","Exxon",900,17289,7623,9666,0,2013,9]
["East","DEF","2013-09-01","General Motors",100,2106,984,1122,0,2013,9]
["East","DEF","2013-09-05","Home Depot",100,2029,984,1045,0,2013,9]
["Central","DEF","2013-09-06","HP",500,11550,4920,6630,0,2013,9]
["Central","XYZ","2013-09-06","Verizon",600,12936,6132,6804,0,2013,9]
["East","DEF","2013-09-08","Bank of America",600,14580,5904,8676,0,2013,9]
["Central","XYZ","2013-09-10","CitiGroup",100,2058,1022,1036,0,2013,9]
["East","DEF","2013-09-10","Ford",600,13566,5904,7662,0,2013,9]
["West","ABC","2013-09-13","General Electric",100,1741,847,894,0,2013,9]
["West","XYZ","2013-09-14","Exxon",200,5002,2044,2958,0,2013,9]
["Central","ABC","2013-09-15","AT&T",100,1795,847,948,0,2013,9]
["East","DEF","2013-09-18","IBM",400,8592,3936,4656,0,2013,9]
["East","DEF","2013-09-21","AT&T",600,12690,5904,6786,0,2013,9]
["West","DEF","2013-09-21","IBM",300,6582,2952,3630,0,2013,9]
["Central","XYZ","2013-09-22","General Electric",900,22014,9198,12816,0,2013,9]
["Central","DEF","2013-09-22","General Electric",400,9672,3936,5736,0,2013,9]
["West","ABC","2013-09-23","Exxon",1000,18530,8470,10060,0,2013,9]
["Central","DEF","2013-09-23","Wal-Mart",600,14004,5904,8100,0,2013,9]
["East","ABC","2013-09-24","Wal-Mart",700,13139,5929,7210,0,2013,9]
["Central","ABC","2013-09-25","Bank of America",500,8715,4235,4480,0,2013,9]
["East","ABC","2013-09-28","CitiGroup",400,6944,3388,3556,0,2013,9]
["West","XYZ","2013-09-29","Wal-Mart",500,12760,5110,7650,0,2013,9]
["West","XYZ","2013-10-01","Wal-Mart",1000,24070,10220,13850,0,2013,10]
["East","DEF","2013-10-02","General Motors",200,4186,1968,2218,0,2013,10]
["East","ABC","2013-10-03","Verizon",700,13195,5929,7266,0,2013,10]
["Central","ABC","2013-10-04","General Electric",200,3922,1694,2228,0,2013,10]
["Central","DEF","2013-10-05","Bank of America",1000,23970,9840,14130,0,2013,10]
["West","ABC","2013-10-07","Sears",500,8940,4235,4705,0,2013,10]
["West","XYZ","2013-10-08","Exxon",200,5002,2044,2958,0,2013,10]
["West","ABC","2013-10-10","Lucent",1000,17190,8470,8720,0,2013,10]
["East","XYZ","2013-10-12","AT&T",900,21042,9198,11844,0,2013,10]
["Central","DEF","2013-10-12","IBM",500,11530,4920,6610,0,2013,10]
["Central","ABC","2013-10-13","Phillip Morris",800,15312,6776,8536,0,2013,10]
["East","XYZ","2013-10-14","Verizon",900,19161,9198,9963,0,2013,10]
["East","XYZ","2013-10-15","CitiGroup",500,10940,5110,5830,0,2013,10]
["Central","ABC","2013-10-16","Ford",1000,21010,8470,12540,0,2013,10]
["East","ABC","2013-10-18","Bank of America",900,18576,7623,10953,0,2013,10]
["Central","DEF","2013-10-18","CitiGroup",200,4484,1968,2516,0,2013,10]
["East","DEF","2013-10-18","General Electric",700,13797,6888,6909,0,2013,10]
["East","ABC","2013-10-19","CitiGroup",700,12131,5929,6202,0,2013,10]
["Central","DEF","2013-10-21","Exxon",500,11250,4920,6330,0,2013,10]
["Central","DEF","2013-10-22","CitiGroup",500,11430,4920,6510,0,2013,10]
["East","XYZ","2013-10-25","General Motors",100,2234,1022,1212,0,2013,10]
["East","XYZ","2013-10-27","Exxon",600,13818,6132,7686,{"$f":"IF(MONTH(C515)<3,F515,0)","v":0},{"$f":"YEAR(C515)","v":2013},{"$f":"MONTH(C515)","v":10}]
["Central","XYZ","2013-10-27","Verizon",100,2092,1022,1070,0,2013,10]
["West","XYZ","2013-10-31","Sears",600,12612,6132,6480,0,2013,10]
["West","ABC","2013-11-01","AIG",800,15104,6776,8328,0,2013,11]
["West","XYZ","2013-11-04","Exxon",700,16576,7154,9422,0,2013,11]
["East","XYZ","2013-11-05","General Motors",700,17059,7154,9905,0,2013,11]
["Central","DEF","2013-11-09","CitiGroup",800,19424,7872,11552,0,2013,11]
["East","DEF","2013-11-09","Wal-Mart",700,14784,6888,7896,0,2013,11]
["West","DEF","2013-11-10","Ford",1000,21740,9840,11900,0,2013,11]
["East","DEF","2013-11-11","Ford",900,19674,8856,10818,0,2013,11]
["Central","ABC","2013-11-11","Wal-Mart",500,8970,4235,4735,0,2013,11]
["Central","XYZ","2013-11-13","General Motors",600,13680,6132,7548,0,2013,11]
["East","DEF","2013-11-15","CitiGroup",800,17136,7872,9264,0,2013,11]
["West","ABC","2013-11-16","Wal-Mart",400,6880,3388,3492,0,2013,11]
["West","DEF","2013-11-17","General Motors",500,11330,4920,6410,0,2013,11]
["West","DEF","2013-11-18","Exxon",200,4412,1968,2444,0,2013,11]
["East","DEF","2013-11-19","CitiGroup",400,9484,3936,5548,0,2013,11]
["East","DEF","2013-11-20","CitiGroup",400,8204,3936,4268,0,2013,11]
["West","XYZ","2013-11-21","Compaq",400,8556,4088,4468,0,2013,11]
["West","DEF","2013-11-24","CitiGroup",400,8464,3936,4528,0,2013,11]
["Central","XYZ","2013-11-24","General Motors",500,11470,5110,6360,0,2013,11]
["East","DEF","2013-11-25","AT&T",600,14154,5904,8250,0,2013,11]
["East","DEF","2013-11-26","Wal-Mart",800,19280,7872,11408,0,2013,11]
["West","XYZ","2013-11-27","General Motors",900,22887,9198,13689,0,2013,11]
["Central","DEF","2013-11-28","Exxon",1000,20840,9840,11000,0,2013,11]
["East","XYZ","2013-11-28","Verizon",600,13290,6132,7158,0,2013,11]
["West","XYZ","2013-12-01","CitiGroup",400,8284,4088,4196,0,2013,12]
["West","XYZ","2013-12-01","Ford",800,17496,8176,9320,0,2013,12]
["West","XYZ","2013-12-01","State Farm",800,19544,8176,11368,0,2013,12]
["West","DEF","2013-12-03","General Motors",1000,23690,9840,13850,0,2013,12]
["Central","XYZ","2013-12-04","CitiGroup",100,2309,1022,1287,0,2013,12]
["East","XYZ","2013-12-05","Bank of America",900,18756,9198,9558,0,2013,12]
["Central","ABC","2013-12-06","General Motors",1000,17410,8470,8940,0,2013,12]
["Central","DEF","2013-12-06","General Motors",200,4492,1968,2524,0,2013,12]
["East","DEF","2013-12-07","General Electric",200,4696,1968,2728,0,2013,12]
["East","DEF","2013-12-09","Verizon",500,10295,4920,5375,0,2013,12]
["West","XYZ","2013-12-11","CitiGroup",1000,25010,10220,14790,0,2013,12]
["East","XYZ","2013-12-11","Ford",500,10380,5110,5270,0,2013,12]
["East","XYZ","2013-12-12","IBM",300,6744,3066,3678,0,2013,12]
["Central","ABC","2013-12-14","Ford",700,13552,5929,7623,0,2013,12]
["West","XYZ","2013-12-16","Wal-Mart",800,18560,8176,10384,0,2013,12]
["Central","ABC","2013-12-17","Exxon",300,5847,2541,3306,0,2013,12]
["West","XYZ","2013-12-18","AT&T",800,18304,8176,10128,0,2013,12]
["Central","XYZ","2013-12-19","Exxon",700,17199,7154,10045,0,2013,12]
["Central","ABC","2013-12-20","IBM",100,1968,847,1121,0,2013,12]
["Central","XYZ","2013-12-21","Wal-Mart",200,4690,2044,2646,0,2013,12]
["West","XYZ","2013-12-23","SBC Communications",500,11680,5110,6570,0,2013,12]
["West","DEF","2013-12-23","Wal-Mart",700,14560,6888,7672,0,2013,12]
["East","XYZ","2013-12-24","Bank of America",700,15225,7154,8071,0,2013,12]
["Central","ABC","2013-12-25","General Motors",900,15363,7623,7740,0,2013,12]
[]
[]
[]
[]
[null,"Lorem ipsum dolor sit amet, consectetuer adipiscing elit. Aliquam"]
[null,"id eros nec libero egestas ullamcorper. Fusce vitae neque quis"]
[null,"magna tincidunt varius. Integer suscipit sem eu augue. Sed"]
[null,"condimentum turpis nec justo. Nunc convallis tincidunt sem. "]
[null,"Suspendisse vel justo at sapien lobortis ultrices. Maecenas"]
[null,"volutpat urna ut ante. Aenean vehicula ligula at erat. Integer ac"]
[null,"tellus ut leo pellentesque sagittis. Sed convallis nisi a quam. "]
[null,"Aenean convallis porttitor arcu. "]